BEGIN:VCALENDAR
VERSION:2.0
PRODID:-//wp-events-plugin.com//7.2.3.1//EN
TZID:Europe/London
X-WR-TIMEZONE:Europe/London
BEGIN:VEVENT
UID:3436@larevistadelapalma.com
DTSTART:20241203T173000Z
DTEND:20241204T190000Z
DTSTAMP:20241128T140248Z
URL:https://www.larevistadelapalma.com/events/los-llanos-acoge-unas-jornad
 as-de-involcan-sobre-la-gestion-de-riesgos-volcanicos/
SUMMARY:Los Llanos acoge unas jornadas de INVOLCAN sobre la gestión de rie
 sgos volcánicos
DESCRIPTION:‘Canarias: una ventana volcánica en el Atlántico’ será u
 n foro que informará sobre los peligros volcánicos\, el riesgo asociado 
 y las medidas para reducir su impacto en Canarias.\n\nEl Ayuntamiento de L
 os Llanos de Aridane anuncia la llegada del programa educativo Canarias: 
 una ventana volcánica en el Atlántico\, promovido por el Instituto Volca
 nológico de Canarias (INVOLCAN). Esta iniciativa\, que busca sensibilizar
  e informar a la ciudadanía sobre la gestión de riesgos volcánicos\, se
  llevará a cabo en la Casa de la Cultura los días martes 3 y miércoles 
 4 de diciembre a las 18:30 horas.\n\nLa actividad\, gratuita y abierta al 
 público\, está especialmente dirigida a los profesionales y voluntarios 
 vinculados a la seguridad y emergencias.\n\nEsta edición se centra en inf
 ormar sobre los peligros asociados al fenómeno volcánico\, los conceptos
  de peligrosidad y riesgo volcánico\, así como las acciones necesarias p
 ara reducir el impacto de estas amenazas en Canarias.\n\nEl Ayuntamiento d
 e Los Llanos de Aridane refuerza su compromiso con la seguridad y el conoc
 imiento ciudadano\, animando a la población a participar en este programa
  que contribuye a que el archipiélago esté mejor preparado ante posibles
  eventos volcánicos.\n\nCabe recordar que el programa educativo Canarias
 : una ventana volcánica en el Atlántico\, creado en 2008\, busca informa
 r y educar a la ciudadanía sobre los riesgos volcánicos y cómo reducirl
 os. INVOLCAN organiza estas actividades de forma regular\, siguiendo las r
 ecomendaciones de planes como PEVOLCA y PAIV-Tenerife\, para preparar a Ca
 narias ante posibles amenazas volcánicas y fomentar una respuesta efectiv
 a en este archipiélago activo.
ATTACH;FMTTYPE=image/jpeg:https://www.larevistadelapalma.com/wp-content/up
 loads/2024/11/INVOLCAN_Los_Llanos_de_Aridane.png
CATEGORIES:Formación,Otras propuestas
LOCATION:Casa de La Cultura de Los Llanos de Aridane\, : C. Real\, 8\, Los 
 Llanos de Aridane \, 38760\, España
GEO:28.658651;-17.913512
X-APPLE-STRUCTURED-LOCATION;VALUE=URI;X-ADDRESS=: C. Real\, 8\, Los Llanos 
 de Aridane \, 38760\, España;X-APPLE-RADIUS=100;X-TITLE=Casa de La Cultur
 a de Los Llanos de Aridane:geo:28.658651,-17.913512
END:VEVENT
END:VCALENDARBEGIN:VCALENDAR
VERSION:2.0
PRODID:-//wp-events-plugin.com//7.2.3.1//EN
TZID:Europe/London
X-WR-TIMEZONE:Europe/London
BEGIN:VEVENT
UID:3436@larevistadelapalma.com
DTSTART:20241203T173000Z
DTEND:20241204T190000Z
DTSTAMP:20241128T140248Z
URL:https://www.larevistadelapalma.com/events/los-llanos-acoge-unas-jornad
 as-de-involcan-sobre-la-gestion-de-riesgos-volcanicos/
SUMMARY:Los Llanos acoge unas jornadas de INVOLCAN sobre la gestión de rie
 sgos volcánicos
DESCRIPTION:‘Canarias: una ventana volcánica en el Atlántico’ será u
 n foro que informará sobre los peligros volcánicos\, el riesgo asociado 
 y las medidas para reducir su impacto en Canarias.\n\nEl Ayuntamiento de L
 os Llanos de Aridane anuncia la llegada del programa educativo Canarias: 
 una ventana volcánica en el Atlántico\, promovido por el Instituto Volca
 nológico de Canarias (INVOLCAN). Esta iniciativa\, que busca sensibilizar
  e informar a la ciudadanía sobre la gestión de riesgos volcánicos\, se
  llevará a cabo en la Casa de la Cultura los días martes 3 y miércoles 
 4 de diciembre a las 18:30 horas.\n\nLa actividad\, gratuita y abierta al 
 público\, está especialmente dirigida a los profesionales y voluntarios 
 vinculados a la seguridad y emergencias.\n\nEsta edición se centra en inf
 ormar sobre los peligros asociados al fenómeno volcánico\, los conceptos
  de peligrosidad y riesgo volcánico\, así como las acciones necesarias p
 ara reducir el impacto de estas amenazas en Canarias.\n\nEl Ayuntamiento d
 e Los Llanos de Aridane refuerza su compromiso con la seguridad y el conoc
 imiento ciudadano\, animando a la población a participar en este programa
  que contribuye a que el archipiélago esté mejor preparado ante posibles
  eventos volcánicos.\n\nCabe recordar que el programa educativo Canarias
 : una ventana volcánica en el Atlántico\, creado en 2008\, busca informa
 r y educar a la ciudadanía sobre los riesgos volcánicos y cómo reducirl
 os. INVOLCAN organiza estas actividades de forma regular\, siguiendo las r
 ecomendaciones de planes como PEVOLCA y PAIV-Tenerife\, para preparar a Ca
 narias ante posibles amenazas volcánicas y fomentar una respuesta efectiv
 a en este archipiélago activo.
ATTACH;FMTTYPE=image/jpeg:https://www.larevistadelapalma.com/wp-content/up
 loads/2024/11/INVOLCAN_Los_Llanos_de_Aridane.png
CATEGORIES:Formación,Otras propuestas
LOCATION:Casa de La Cultura de Los Llanos de Aridane\, : C. Real\, 8\, Los 
 Llanos de Aridane \, 38760\, España
GEO:28.658651;-17.913512
X-APPLE-STRUCTURED-LOCATION;VALUE=URI;X-ADDRESS=: C. Real\, 8\, Los Llanos 
 de Aridane \, 38760\, España;X-APPLE-RADIUS=100;X-TITLE=Casa de La Cultur
 a de Los Llanos de Aridane:geo:28.658651,-17.913512
END:VEVENT
END:VCALENDAR