BEGIN:VCALENDAR
VERSION:2.0
PRODID:-//wp-events-plugin.com//7.2.3.1//EN
TZID:Europe/London
X-WR-TIMEZONE:Europe/London
BEGIN:VEVENT
UID:3420@larevistadelapalma.com
DTSTART:20241129T083000Z
DTEND:20241129T223000Z
DTSTAMP:20241128T220431Z
URL:https://www.larevistadelapalma.com/events/los-llanos-celebra-el-dia-bl
 anco-con-actividades-para-toda-la-familia-y-buena-musica/
SUMMARY:Los Llanos celebra el Día Blanco con actividades para toda la fami
 lia y buena música
DESCRIPTION:Habrá talleres infantiles\, espectáculos\, música en vivo\, 
 violinistas\, saxofonistas y fiesta fin de cierre con Renzo El Selector.\n
 \nEl Ayuntamiento de Los Llanos de Aridane\, de la mano con las asociacion
 es comerciales del municipio\, organiza el Día Blanco este viernes\, 29 d
 e noviembre. La jornada tiene como objetivo estimular el comercio local y 
 animar el centro del municipio con música\, talleres\, espectáculos y ex
 periencias interactivas.\n\nPrograma del Día Blanco\n\nLa programación a
 rrancará en la mañana con un taller de yoga infantil en la Plaza de Espa
 ña\, de 9:30 a 13:00\, dirigido a los colegios del municipio.\n\nPor la t
 arde\, desde las 17:00\, las calles se llenarán de alegría con actividad
 es como dinamización infantil con globoflexia en la Avenida Carlos Franci
 sco Lorenzo Navarro y Enrique Mederos\, así como con la presencia de prin
 cesas Disney en el centro.\n\nOtros momentos destacados serán el Flash Mo
 b\, que recorrerá varias calles del municipio\, y el fotomatón en la zon
 a de las letras de Los Llanos\, ambos eventos en horario de 17:00 a 20:00.
 \n\nAdemás\, los niños podrán disfrutar de un taller de juegos infantil
 es en la Calle Ángel\, y el público general podrá visitar el stand de g
 litter de Yara y disfrutar del espectáculo de Xavi DJ en la Calle Real\, 
 de 17:30 a 21:30.\n\nA medida que avance la noche\, las actividades contin
 uarán con el taller de baile en la Plaza de España\, de 18:30 a 20:00\, 
 y con la divertida presencia de los Personajes del Revés en la zona cen
 tro y aledaños\, entre las 19:00 y las 21:00.\n\nPara los amantes de la m
 úsica\, habrá actuaciones de un cantautor local en la Calle del Medio\, 
 un saxofonista en la Calle Venezuela y un violinista en la Zona Correos\, 
 todos de 20:00 a 22:00.\n\nFinalmente\, la jornada culminará con Renzo El
  Selector en la Plaza de España\, de 22:00 en adelante\, poniendo el broc
 he de oro a un día lleno de emociones y actividades para disfrutar en fam
 ilia.\nFolleto programación &gt\;&gt\;
ATTACH;FMTTYPE=image/jpeg:https://www.larevistadelapalma.com/wp-content/up
 loads/2024/11/Dia-Blanco-29N.jpeg
CATEGORIES:Otras propuestas,Varios
LOCATION:Municipio de Los Llanos de Aridane\, Los Llanos de Aridane\, Los L
 lanos de Aridane\, 38760\, España
GEO:28.660236;-17.913187
X-APPLE-STRUCTURED-LOCATION;VALUE=URI;X-ADDRESS=Los Llanos de Aridane\, Los
  Llanos de Aridane\, 38760\, España;X-APPLE-RADIUS=100;X-TITLE=Municipio 
 de Los Llanos de Aridane:geo:28.660236,-17.913187
END:VEVENT
END:VCALENDARBEGIN:VCALENDAR
VERSION:2.0
PRODID:-//wp-events-plugin.com//7.2.3.1//EN
TZID:Europe/London
X-WR-TIMEZONE:Europe/London
BEGIN:VEVENT
UID:3420@larevistadelapalma.com
DTSTART:20241129T083000Z
DTEND:20241129T223000Z
DTSTAMP:20241128T220431Z
URL:https://www.larevistadelapalma.com/events/los-llanos-celebra-el-dia-bl
 anco-con-actividades-para-toda-la-familia-y-buena-musica/
SUMMARY:Los Llanos celebra el Día Blanco con actividades para toda la fami
 lia y buena música
DESCRIPTION:Habrá talleres infantiles\, espectáculos\, música en vivo\, 
 violinistas\, saxofonistas y fiesta fin de cierre con Renzo El Selector.\n
 \nEl Ayuntamiento de Los Llanos de Aridane\, de la mano con las asociacion
 es comerciales del municipio\, organiza el Día Blanco este viernes\, 29 d
 e noviembre. La jornada tiene como objetivo estimular el comercio local y 
 animar el centro del municipio con música\, talleres\, espectáculos y ex
 periencias interactivas.\n\nPrograma del Día Blanco\n\nLa programación a
 rrancará en la mañana con un taller de yoga infantil en la Plaza de Espa
 ña\, de 9:30 a 13:00\, dirigido a los colegios del municipio.\n\nPor la t
 arde\, desde las 17:00\, las calles se llenarán de alegría con actividad
 es como dinamización infantil con globoflexia en la Avenida Carlos Franci
 sco Lorenzo Navarro y Enrique Mederos\, así como con la presencia de prin
 cesas Disney en el centro.\n\nOtros momentos destacados serán el Flash Mo
 b\, que recorrerá varias calles del municipio\, y el fotomatón en la zon
 a de las letras de Los Llanos\, ambos eventos en horario de 17:00 a 20:00.
 \n\nAdemás\, los niños podrán disfrutar de un taller de juegos infantil
 es en la Calle Ángel\, y el público general podrá visitar el stand de g
 litter de Yara y disfrutar del espectáculo de Xavi DJ en la Calle Real\, 
 de 17:30 a 21:30.\n\nA medida que avance la noche\, las actividades contin
 uarán con el taller de baile en la Plaza de España\, de 18:30 a 20:00\, 
 y con la divertida presencia de los Personajes del Revés en la zona cen
 tro y aledaños\, entre las 19:00 y las 21:00.\n\nPara los amantes de la m
 úsica\, habrá actuaciones de un cantautor local en la Calle del Medio\, 
 un saxofonista en la Calle Venezuela y un violinista en la Zona Correos\, 
 todos de 20:00 a 22:00.\n\nFinalmente\, la jornada culminará con Renzo El
  Selector en la Plaza de España\, de 22:00 en adelante\, poniendo el broc
 he de oro a un día lleno de emociones y actividades para disfrutar en fam
 ilia.\nFolleto programación &gt\;&gt\;
ATTACH;FMTTYPE=image/jpeg:https://www.larevistadelapalma.com/wp-content/up
 loads/2024/11/Dia-Blanco-29N.jpeg
CATEGORIES:Otras propuestas,Varios
LOCATION:Municipio de Los Llanos de Aridane\, Los Llanos de Aridane\, Los L
 lanos de Aridane\, 38760\, España
GEO:28.660236;-17.913187
X-APPLE-STRUCTURED-LOCATION;VALUE=URI;X-ADDRESS=Los Llanos de Aridane\, Los
  Llanos de Aridane\, 38760\, España;X-APPLE-RADIUS=100;X-TITLE=Municipio 
 de Los Llanos de Aridane:geo:28.660236,-17.913187
END:VEVENT
END:VCALENDAR