BEGIN:VCALENDAR
VERSION:2.0
PRODID:-//wp-events-plugin.com//7.2.3.1//EN
TZID:Europe/London
X-WR-TIMEZONE:Europe/London
BEGIN:VEVENT
UID:3024@larevistadelapalma.com
DTSTART:20240530T100000Z
DTEND:20240530T151500Z
DTSTAMP:20240529T104730Z
URL:https://www.larevistadelapalma.com/events/los-llanos-celebra-el-dia-de
 -canarias-en-argual-con-comida-y-musica-tipica/
SUMMARY:Los Llanos celebra el Día de Canarias en Argual con comida y músi
 ca típica
DESCRIPTION:El Ayuntamiento agradece el trabajo de las asociaciones vecinal
 es\, claves en la organización de este evento.\n\nEl Ayuntamiento de Los 
 Llanos de Aridane celebra el Día de Canarias este jueves\, 30 de mayo\, e
 n Argual. Desde las 11:00 horas\, la música y la comida típica será la 
 protagonista en la plaza del barrio.\nA partir de las 11:00 horas los asis
 tentes disfrutarán con las actuaciones de Los Benahoare y Zebensuí Meli
 án .\nDesde el Consistorio agradecen la colaboración de las asociaciones
  de vecinos Tirimara de Argual\, Los Barros\, El Retamar\, La Laguna-Tajuy
 a y Las Manchas. Su aportación es clave para conservar la esencia de esta
 s fiestas. También se anima a la ciudadanía a celebrar el Día de Canari
 as en el municipio.\n\n&nbsp\;
ATTACH;FMTTYPE=image/jpeg:https://www.larevistadelapalma.com/wp-content/up
 loads/2024/05/WhatsApp-Image-2024-05-29-at-11.31.30.jpeg
CATEGORIES:Fiestas populares,Otras propuestas
LOCATION:Plaza de Argual\, C. Manuel de Falla\, 36\, Los Llanos de Aridane\
 , 38760\, España
GEO:28.658756;-17.923255
X-APPLE-STRUCTURED-LOCATION;VALUE=URI;X-ADDRESS=C. Manuel de Falla\, 36\, L
 os Llanos de Aridane\, 38760\, España;X-APPLE-RADIUS=100;X-TITLE=Plaza de
  Argual:geo:28.658756,-17.923255
END:VEVENT
END:VCALENDARBEGIN:VCALENDAR
VERSION:2.0
PRODID:-//wp-events-plugin.com//7.2.3.1//EN
TZID:Europe/London
X-WR-TIMEZONE:Europe/London
BEGIN:VEVENT
UID:3024@larevistadelapalma.com
DTSTART:20240530T100000Z
DTEND:20240530T151500Z
DTSTAMP:20240529T104730Z
URL:https://www.larevistadelapalma.com/events/los-llanos-celebra-el-dia-de
 -canarias-en-argual-con-comida-y-musica-tipica/
SUMMARY:Los Llanos celebra el Día de Canarias en Argual con comida y músi
 ca típica
DESCRIPTION:El Ayuntamiento agradece el trabajo de las asociaciones vecinal
 es\, claves en la organización de este evento.\n\nEl Ayuntamiento de Los 
 Llanos de Aridane celebra el Día de Canarias este jueves\, 30 de mayo\, e
 n Argual. Desde las 11:00 horas\, la música y la comida típica será la 
 protagonista en la plaza del barrio.\nA partir de las 11:00 horas los asis
 tentes disfrutarán con las actuaciones de Los Benahoare y Zebensuí Meli
 án .\nDesde el Consistorio agradecen la colaboración de las asociaciones
  de vecinos Tirimara de Argual\, Los Barros\, El Retamar\, La Laguna-Tajuy
 a y Las Manchas. Su aportación es clave para conservar la esencia de esta
 s fiestas. También se anima a la ciudadanía a celebrar el Día de Canari
 as en el municipio.\n\n&nbsp\;
ATTACH;FMTTYPE=image/jpeg:https://www.larevistadelapalma.com/wp-content/up
 loads/2024/05/WhatsApp-Image-2024-05-29-at-11.31.30.jpeg
CATEGORIES:Fiestas populares,Otras propuestas
LOCATION:Plaza de Argual\, C. Manuel de Falla\, 36\, Los Llanos de Aridane\
 , 38760\, España
GEO:28.658756;-17.923255
X-APPLE-STRUCTURED-LOCATION;VALUE=URI;X-ADDRESS=C. Manuel de Falla\, 36\, L
 os Llanos de Aridane\, 38760\, España;X-APPLE-RADIUS=100;X-TITLE=Plaza de
  Argual:geo:28.658756,-17.923255
END:VEVENT
END:VCALENDAR