BEGIN:VCALENDAR
VERSION:2.0
PRODID:-//wp-events-plugin.com//7.2.3.1//EN
TZID:Europe/London
X-WR-TIMEZONE:Europe/London
BEGIN:VEVENT
UID:3340@larevistadelapalma.com
DTSTART;VALUE=DATE:20241030
DTEND;VALUE=DATE:20241101
DTSTAMP:20241030T204932Z
URL:https://www.larevistadelapalma.com/events/los-llanos-celebra-halloween
 -con-una-casa-del-terror-en-el-espacio-real-21/
SUMMARY:Los Llanos celebra Halloween con una casa del terror en el Espacio 
 Real 21
DESCRIPTION:‘Llanoween’ podrá disfrutarse los días 30 y 31 de octubre
  en horario de 17:00 a 20:00 horas el primer día\, y de 17:00 a 21:00 hor
 as el segundo.\n\n\n\nEl Ayuntamiento de Los Llanos de Aridane celebra Hal
 loween con una casa del terror en el Espacio Real 21\, ubicado en la misma
  Calle Real\, 21. Las personas interesadas podrán disfrutar de la activid
 ad el miércoles\, 30 de octubre\, y el jueves\, día 31.\n\nEl evento\, b
 autizado como Llanoween\, está pensado para que las y los más jóvenes d
 isfruten de una experiencia divertida y segura durante las celebraciones d
 e Halloween.  Está especialmente diseñado para el público de entre 10 
 y 14 años.\n\nEl evento Llanoween se celebrará los días 30 y 31 de octu
 bre\, con una entrada de 2\,50 euros. Los horarios serán de 17:00 a 20:00
  horas el miércoles\, y de 17:00 a 21:00 horas el jueves. La casa del ter
 ror está dirigida a personas con edades recomendadas entre 10 y 14 años.
 \nLas entradas pueden adquirirse online.\n\n\n
ATTACH;FMTTYPE=image/jpeg:https://www.larevistadelapalma.com/wp-content/up
 loads/2024/10/llanoween-1460x1100-1.jpg
CATEGORIES:Fiestas populares,Otras propuestas
LOCATION:Espacio Cultural Real 21\, Los Llanos de Aridane\, C. Real\, 21\,\
 , Los Llanos de Aridane\, 38760\, España
GEO:28.658619;-17.910989
X-APPLE-STRUCTURED-LOCATION;VALUE=URI;X-ADDRESS=C. Real\, 21\,\, Los Llanos
  de Aridane\, 38760\, España;X-APPLE-RADIUS=100;X-TITLE=Espacio Cultural 
 Real 21\, Los Llanos de Aridane:geo:28.658619,-17.910989
END:VEVENT
END:VCALENDARBEGIN:VCALENDAR
VERSION:2.0
PRODID:-//wp-events-plugin.com//7.2.3.1//EN
TZID:Europe/London
X-WR-TIMEZONE:Europe/London
BEGIN:VEVENT
UID:3340@larevistadelapalma.com
DTSTART;VALUE=DATE:20241030
DTEND;VALUE=DATE:20241101
DTSTAMP:20241030T204932Z
URL:https://www.larevistadelapalma.com/events/los-llanos-celebra-halloween
 -con-una-casa-del-terror-en-el-espacio-real-21/
SUMMARY:Los Llanos celebra Halloween con una casa del terror en el Espacio 
 Real 21
DESCRIPTION:‘Llanoween’ podrá disfrutarse los días 30 y 31 de octubre
  en horario de 17:00 a 20:00 horas el primer día\, y de 17:00 a 21:00 hor
 as el segundo.\n\n\n\nEl Ayuntamiento de Los Llanos de Aridane celebra Hal
 loween con una casa del terror en el Espacio Real 21\, ubicado en la misma
  Calle Real\, 21. Las personas interesadas podrán disfrutar de la activid
 ad el miércoles\, 30 de octubre\, y el jueves\, día 31.\n\nEl evento\, b
 autizado como Llanoween\, está pensado para que las y los más jóvenes d
 isfruten de una experiencia divertida y segura durante las celebraciones d
 e Halloween.  Está especialmente diseñado para el público de entre 10 
 y 14 años.\n\nEl evento Llanoween se celebrará los días 30 y 31 de octu
 bre\, con una entrada de 2\,50 euros. Los horarios serán de 17:00 a 20:00
  horas el miércoles\, y de 17:00 a 21:00 horas el jueves. La casa del ter
 ror está dirigida a personas con edades recomendadas entre 10 y 14 años.
 \nLas entradas pueden adquirirse online.\n\n\n
ATTACH;FMTTYPE=image/jpeg:https://www.larevistadelapalma.com/wp-content/up
 loads/2024/10/llanoween-1460x1100-1.jpg
CATEGORIES:Fiestas populares,Otras propuestas
LOCATION:Espacio Cultural Real 21\, Los Llanos de Aridane\, C. Real\, 21\,\
 , Los Llanos de Aridane\, 38760\, España
GEO:28.658619;-17.910989
X-APPLE-STRUCTURED-LOCATION;VALUE=URI;X-ADDRESS=C. Real\, 21\,\, Los Llanos
  de Aridane\, 38760\, España;X-APPLE-RADIUS=100;X-TITLE=Espacio Cultural 
 Real 21\, Los Llanos de Aridane:geo:28.658619,-17.910989
END:VEVENT
END:VCALENDAR