BEGIN:VCALENDAR
VERSION:2.0
PRODID:-//wp-events-plugin.com//7.2.3.1//EN
TZID:Europe/London
X-WR-TIMEZONE:Europe/London
BEGIN:VEVENT
UID:4045@larevistadelapalma.com
DTSTART;VALUE=DATE:20251107
DTEND;VALUE=DATE:20251110
DTSTAMP:20251106T140650Z
URL:https://www.larevistadelapalma.com/events/los-llanos-celebra-la-primer
 a-edicion-del-festival-isla-fiera/
SUMMARY:Los Llanos celebra la primera edición del Festival Isla Fiera
DESCRIPTION:\nUn festival que nace del impulso de reunir arte\, cuerpo y te
 rritorio\; de escuchar la naturaleza desde la escena y celebrar lo salvaje
 \, lo poético\, lo que no se puede domesticar. Durante tres días\, la is
 la se convertirá en un espacio de encuentro entre danza\, música\, palab
 ra\, performance y vida.\n\n\nDesde el Llano de Argual hasta la Montaña d
 e Tenisca\, los artistas nos invitarán a mirar con otros ojos y a sentir 
 el pulso de la tierra y del cuerpo.\nMás info aquí &gt\;&gt\;\n\n\n\n\n\
 n\n\n\n
ATTACH;FMTTYPE=image/jpeg:https://www.larevistadelapalma.com/wp-content/up
 loads/2025/11/Isla-Fiera-Festival-cartel.jpg
CATEGORIES:Espectáculos,Otras propuestas,Varios
LOCATION:Municipio de Los Llanos de Aridane\, Los Llanos de Aridane\, Los L
 lanos de Aridane\, 38760\, España
GEO:28.660236;-17.913187
X-APPLE-STRUCTURED-LOCATION;VALUE=URI;X-ADDRESS=Los Llanos de Aridane\, Los
  Llanos de Aridane\, 38760\, España;X-APPLE-RADIUS=100;X-TITLE=Municipio 
 de Los Llanos de Aridane:geo:28.660236,-17.913187
END:VEVENT
END:VCALENDARBEGIN:VCALENDAR
VERSION:2.0
PRODID:-//wp-events-plugin.com//7.2.3.1//EN
TZID:Europe/London
X-WR-TIMEZONE:Europe/London
BEGIN:VEVENT
UID:4045@larevistadelapalma.com
DTSTART;VALUE=DATE:20251107
DTEND;VALUE=DATE:20251110
DTSTAMP:20251106T140650Z
URL:https://www.larevistadelapalma.com/events/los-llanos-celebra-la-primer
 a-edicion-del-festival-isla-fiera/
SUMMARY:Los Llanos celebra la primera edición del Festival Isla Fiera
DESCRIPTION:\nUn festival que nace del impulso de reunir arte\, cuerpo y te
 rritorio\; de escuchar la naturaleza desde la escena y celebrar lo salvaje
 \, lo poético\, lo que no se puede domesticar. Durante tres días\, la is
 la se convertirá en un espacio de encuentro entre danza\, música\, palab
 ra\, performance y vida.\n\n\nDesde el Llano de Argual hasta la Montaña d
 e Tenisca\, los artistas nos invitarán a mirar con otros ojos y a sentir 
 el pulso de la tierra y del cuerpo.\nMás info aquí &gt\;&gt\;\n\n\n\n\n\
 n\n\n\n
ATTACH;FMTTYPE=image/jpeg:https://www.larevistadelapalma.com/wp-content/up
 loads/2025/11/Isla-Fiera-Festival-cartel.jpg
CATEGORIES:Espectáculos,Otras propuestas,Varios
LOCATION:Municipio de Los Llanos de Aridane\, Los Llanos de Aridane\, Los L
 lanos de Aridane\, 38760\, España
GEO:28.660236;-17.913187
X-APPLE-STRUCTURED-LOCATION;VALUE=URI;X-ADDRESS=Los Llanos de Aridane\, Los
  Llanos de Aridane\, 38760\, España;X-APPLE-RADIUS=100;X-TITLE=Municipio 
 de Los Llanos de Aridane:geo:28.660236,-17.913187
END:VEVENT
END:VCALENDAR