BEGIN:VCALENDAR
VERSION:2.0
PRODID:-//wp-events-plugin.com//7.2.3.1//EN
TZID:Europe/London
X-WR-TIMEZONE:Europe/London
BEGIN:VEVENT
UID:567@larevistadelapalma.com
DTSTART;VALUE=DATE:20230801
DTEND;VALUE=DATE:20230816
DTSTAMP:20230727T204038Z
URL:https://www.larevistadelapalma.com/events/los-llanos-celebra-las-fiest
 as-de-argual/
SUMMARY:Los Llanos celebra las Fiestas de Argual
DESCRIPTION:Los Llanos de Aridane celebra las Fiestas de Argual entre el 1 
 y el 15 de agosto. El programa cuenta con actividades\, como títeres\, fi
 esta de la espuma\, hinchables\, música en vivo\, dj’s\, gala de la rei
 na\, drag queens\, entre otras.
ATTACH;FMTTYPE=image/jpeg:https://www.larevistadelapalma.com/wp-content/up
 loads/2023/07/Fiestas-de-Argual-23.jpeg
CATEGORIES:Fiestas populares,Otras propuestas
LOCATION:Municipio de Los Llanos de Aridane\, Los Llanos de Aridane\, Los L
 lanos de Aridane\, 38760\, España
GEO:28.660236;-17.913187
X-APPLE-STRUCTURED-LOCATION;VALUE=URI;X-ADDRESS=Los Llanos de Aridane\, Los
  Llanos de Aridane\, 38760\, España;X-APPLE-RADIUS=100;X-TITLE=Municipio 
 de Los Llanos de Aridane:geo:28.660236,-17.913187
END:VEVENT
END:VCALENDARBEGIN:VCALENDAR
VERSION:2.0
PRODID:-//wp-events-plugin.com//7.2.3.1//EN
TZID:Europe/London
X-WR-TIMEZONE:Europe/London
BEGIN:VEVENT
UID:567@larevistadelapalma.com
DTSTART;VALUE=DATE:20230801
DTEND;VALUE=DATE:20230816
DTSTAMP:20230727T204038Z
URL:https://www.larevistadelapalma.com/events/los-llanos-celebra-las-fiest
 as-de-argual/
SUMMARY:Los Llanos celebra las Fiestas de Argual
DESCRIPTION:Los Llanos de Aridane celebra las Fiestas de Argual entre el 1 
 y el 15 de agosto. El programa cuenta con actividades\, como títeres\, fi
 esta de la espuma\, hinchables\, música en vivo\, dj’s\, gala de la rei
 na\, drag queens\, entre otras.
ATTACH;FMTTYPE=image/jpeg:https://www.larevistadelapalma.com/wp-content/up
 loads/2023/07/Fiestas-de-Argual-23.jpeg
CATEGORIES:Fiestas populares,Otras propuestas
LOCATION:Municipio de Los Llanos de Aridane\, Los Llanos de Aridane\, Los L
 lanos de Aridane\, 38760\, España
GEO:28.660236;-17.913187
X-APPLE-STRUCTURED-LOCATION;VALUE=URI;X-ADDRESS=Los Llanos de Aridane\, Los
  Llanos de Aridane\, 38760\, España;X-APPLE-RADIUS=100;X-TITLE=Municipio 
 de Los Llanos de Aridane:geo:28.660236,-17.913187
END:VEVENT
END:VCALENDAR