BEGIN:VCALENDAR
VERSION:2.0
PRODID:-//wp-events-plugin.com//7.2.3.1//EN
TZID:Europe/London
X-WR-TIMEZONE:Europe/London
BEGIN:VEVENT
UID:3272@larevistadelapalma.com
DTSTART;VALUE=DATE:20241123
DTEND;VALUE=DATE:20241125
DTSTAMP:20241115T123103Z
URL:https://www.larevistadelapalma.com/events/los-llanos-de-aridane-celebr
 a-la-primera-competicion-de-crosstraining-de-la-palma/
SUMMARY:Los Llanos de Aridane celebra la primera competición de crosstrain
 ing de La Palma
DESCRIPTION:Tendrá lugar el 23 y 24 de noviembre\, y en la competición h
 abrá tandas adaptadas para visibilizar la integración en el deporte.\n\n
 El Ayuntamiento de Los Llanos de Aridane\, de la mano con Arión Box\, cel
 ebra la primera competición de crosstraining de La Palma. El evento\, bau
 tizado como La Batalla de Aceró en honor a la antigua demarcación del mu
 nicipio y al espíritu guerrero de los benahoaritas\, tendrá lugar el 23 
 y 24 de noviembre.\n\nUna competición por equipos\n\nSi bien La Palma ha 
 sido escenario de ligas y exhibiciones de crosstraining\, esta es la prime
 ra vez que habrá una competición de fin de semana\, abierta a todos los 
 públicos y con ambición regional y nacional.\n\nSerá para equipos de tr
 es personas (dos chicos y una chica) y habrá cuatro categorías en funci
 ón del nivel y de la edad. Las inscripciones abrirán el 22 de septiembre
 .\n\nLa Batalla de Aceró contará con tres escenarios -el Pabellón Sever
 o Rodríguez\, el estadio Llano Tesa y la piscina municipal- y premios en 
 metálico gracias al apoyo institucional y de diferentes empresas de la is
 la y del deporte.\n\nEl crosstraining es una forma de entrenamiento que co
 mbina diversas disciplinas\, como correr\, levantar pesas o nadar\, genera
 lmente con estímulos de alta intensidad constantemente variados.\n\nEn la
  competición habrá tandas adaptadas para visibilizar la integración en 
 el deporte.\n\nEl Ayuntamiento de Los Llanos de Aridane\, impulsará un pr
 oyecto de inclusión en La Batalla de Aceró. La concejal de Igualdad\, Id
 aira Pérez\, destaca que promover y visibilizar la inclusión en el depor
 te es vital para abrir espacios deportivos accesibles y variados\, donde t
 odas las personas\, independientemente de sus capacidades físicas\, pueda
 n participar y disfrutar.\n\nDurante la última jornada de La Batalla de A
 ceró se programarán tandas adaptadas para personas con diversidad funcio
 nal.\n\nPrevio a cada prueba\, deportistas adaptados realizarán ejercicio
 s diseñados especialmente para sus capacidades\, con el objetivo de acerc
 arles el crosstraining y ofrecerles un espacio donde puedan practicar y co
 mpetir.\n\n\n\nEl atleta palmero David Rodríguez\, uno de los promotores 
 de la iniciativa respaldada por el Ayuntamiento\, destaca que “el proyec
 to inclusivo de La Batalla de Aceró quiere hacer visible el deporte adapt
 ado\, promoviendo un entorno deportivo accesible para todas las personas
 ”.\n\nEsta iniciativa cuenta además con el respaldo de la asociación A
 tletas Sin Fronteras\, reconocida por su labor en la promoción del deport
 e adaptado en Canarias.
ATTACH;FMTTYPE=image/jpeg:https://www.larevistadelapalma.com/wp-content/up
 loads/2024/09/la-batalla-de-acero.png
CATEGORIES:Actividades deportivas,Otras propuestas
LOCATION:Municipio de Los Llanos de Aridane\, Los Llanos de Aridane\, Los L
 lanos de Aridane\, 38760\, España
GEO:28.660236;-17.913187
X-APPLE-STRUCTURED-LOCATION;VALUE=URI;X-ADDRESS=Los Llanos de Aridane\, Los
  Llanos de Aridane\, 38760\, España;X-APPLE-RADIUS=100;X-TITLE=Municipio 
 de Los Llanos de Aridane:geo:28.660236,-17.913187
END:VEVENT
END:VCALENDARBEGIN:VCALENDAR
VERSION:2.0
PRODID:-//wp-events-plugin.com//7.2.3.1//EN
TZID:Europe/London
X-WR-TIMEZONE:Europe/London
BEGIN:VEVENT
UID:3272@larevistadelapalma.com
DTSTART;VALUE=DATE:20241123
DTEND;VALUE=DATE:20241125
DTSTAMP:20241115T123103Z
URL:https://www.larevistadelapalma.com/events/los-llanos-de-aridane-celebr
 a-la-primera-competicion-de-crosstraining-de-la-palma/
SUMMARY:Los Llanos de Aridane celebra la primera competición de crosstrain
 ing de La Palma
DESCRIPTION:Tendrá lugar el 23 y 24 de noviembre\, y en la competición h
 abrá tandas adaptadas para visibilizar la integración en el deporte.\n\n
 El Ayuntamiento de Los Llanos de Aridane\, de la mano con Arión Box\, cel
 ebra la primera competición de crosstraining de La Palma. El evento\, bau
 tizado como La Batalla de Aceró en honor a la antigua demarcación del mu
 nicipio y al espíritu guerrero de los benahoaritas\, tendrá lugar el 23 
 y 24 de noviembre.\n\nUna competición por equipos\n\nSi bien La Palma ha 
 sido escenario de ligas y exhibiciones de crosstraining\, esta es la prime
 ra vez que habrá una competición de fin de semana\, abierta a todos los 
 públicos y con ambición regional y nacional.\n\nSerá para equipos de tr
 es personas (dos chicos y una chica) y habrá cuatro categorías en funci
 ón del nivel y de la edad. Las inscripciones abrirán el 22 de septiembre
 .\n\nLa Batalla de Aceró contará con tres escenarios -el Pabellón Sever
 o Rodríguez\, el estadio Llano Tesa y la piscina municipal- y premios en 
 metálico gracias al apoyo institucional y de diferentes empresas de la is
 la y del deporte.\n\nEl crosstraining es una forma de entrenamiento que co
 mbina diversas disciplinas\, como correr\, levantar pesas o nadar\, genera
 lmente con estímulos de alta intensidad constantemente variados.\n\nEn la
  competición habrá tandas adaptadas para visibilizar la integración en 
 el deporte.\n\nEl Ayuntamiento de Los Llanos de Aridane\, impulsará un pr
 oyecto de inclusión en La Batalla de Aceró. La concejal de Igualdad\, Id
 aira Pérez\, destaca que promover y visibilizar la inclusión en el depor
 te es vital para abrir espacios deportivos accesibles y variados\, donde t
 odas las personas\, independientemente de sus capacidades físicas\, pueda
 n participar y disfrutar.\n\nDurante la última jornada de La Batalla de A
 ceró se programarán tandas adaptadas para personas con diversidad funcio
 nal.\n\nPrevio a cada prueba\, deportistas adaptados realizarán ejercicio
 s diseñados especialmente para sus capacidades\, con el objetivo de acerc
 arles el crosstraining y ofrecerles un espacio donde puedan practicar y co
 mpetir.\n\n\n\nEl atleta palmero David Rodríguez\, uno de los promotores 
 de la iniciativa respaldada por el Ayuntamiento\, destaca que “el proyec
 to inclusivo de La Batalla de Aceró quiere hacer visible el deporte adapt
 ado\, promoviendo un entorno deportivo accesible para todas las personas
 ”.\n\nEsta iniciativa cuenta además con el respaldo de la asociación A
 tletas Sin Fronteras\, reconocida por su labor en la promoción del deport
 e adaptado en Canarias.
ATTACH;FMTTYPE=image/jpeg:https://www.larevistadelapalma.com/wp-content/up
 loads/2024/09/la-batalla-de-acero.png
CATEGORIES:Actividades deportivas,Otras propuestas
LOCATION:Municipio de Los Llanos de Aridane\, Los Llanos de Aridane\, Los L
 lanos de Aridane\, 38760\, España
GEO:28.660236;-17.913187
X-APPLE-STRUCTURED-LOCATION;VALUE=URI;X-ADDRESS=Los Llanos de Aridane\, Los
  Llanos de Aridane\, 38760\, España;X-APPLE-RADIUS=100;X-TITLE=Municipio 
 de Los Llanos de Aridane:geo:28.660236,-17.913187
END:VEVENT
END:VCALENDAR