BEGIN:VCALENDAR
VERSION:2.0
PRODID:-//wp-events-plugin.com//7.2.3.1//EN
TZID:Europe/London
X-WR-TIMEZONE:Europe/London
BEGIN:VEVENT
UID:3656@larevistadelapalma.com
DTSTART:20250321T190000Z
DTEND:20250321T213000Z
DTSTAMP:20250318T161720Z
URL:https://www.larevistadelapalma.com/events/los-llanos-de-aridane-celebr
 a-su-gala-mujer-destacada-2025/
SUMMARY:Los Llanos de Aridane celebra su Gala Mujer Destacada 2025
DESCRIPTION:Con la actuación de Vocal Siete\, que ofrecerá su espectácul
 o VS RADIO
ATTACH;FMTTYPE=image/jpeg:https://www.larevistadelapalma.com/wp-content/up
 loads/2025/03/Mujer-destacada-los-llanos-25.jpeg
CATEGORIES:Otras propuestas,Varios
LOCATION:Plaza de España en Los Llanos de Aridane\, Plaza de España\, Los
  Llanos de Aridane\, 38760\, España
GEO:28.658934;-17.913174
X-APPLE-STRUCTURED-LOCATION;VALUE=URI;X-ADDRESS=Plaza de España\, Los Llan
 os de Aridane\, 38760\, España;X-APPLE-RADIUS=100;X-TITLE=Plaza de Españ
 a en Los Llanos de Aridane:geo:28.658934,-17.913174
END:VEVENT
END:VCALENDARBEGIN:VCALENDAR
VERSION:2.0
PRODID:-//wp-events-plugin.com//7.2.3.1//EN
TZID:Europe/London
X-WR-TIMEZONE:Europe/London
BEGIN:VEVENT
UID:3656@larevistadelapalma.com
DTSTART:20250321T190000Z
DTEND:20250321T213000Z
DTSTAMP:20250318T161720Z
URL:https://www.larevistadelapalma.com/events/los-llanos-de-aridane-celebr
 a-su-gala-mujer-destacada-2025/
SUMMARY:Los Llanos de Aridane celebra su Gala Mujer Destacada 2025
DESCRIPTION:Con la actuación de Vocal Siete\, que ofrecerá su espectácul
 o VS RADIO
ATTACH;FMTTYPE=image/jpeg:https://www.larevistadelapalma.com/wp-content/up
 loads/2025/03/Mujer-destacada-los-llanos-25.jpeg
CATEGORIES:Otras propuestas,Varios
LOCATION:Plaza de España en Los Llanos de Aridane\, Plaza de España\, Los
  Llanos de Aridane\, 38760\, España
GEO:28.658934;-17.913174
X-APPLE-STRUCTURED-LOCATION;VALUE=URI;X-ADDRESS=Plaza de España\, Los Llan
 os de Aridane\, 38760\, España;X-APPLE-RADIUS=100;X-TITLE=Plaza de Españ
 a en Los Llanos de Aridane:geo:28.658934,-17.913174
END:VEVENT
END:VCALENDAR