BEGIN:VCALENDAR
VERSION:2.0
PRODID:-//wp-events-plugin.com//7.2.3.1//EN
TZID:Europe/London
X-WR-TIMEZONE:Europe/London
BEGIN:VEVENT
UID:879@larevistadelapalma.com
DTSTART:20231201T190000Z
DTEND:20231201T213000Z
DTSTAMP:20241126T001836Z
URL:https://www.larevistadelapalma.com/events/los-llanos-encendido-de-luce
 s/
SUMMARY:Los Llanos inaugura la Navidad el 1 de diciembre con el encendido d
 e luces
DESCRIPTION:\n\n\n\nLos Llanos de Aridane inaugura la Navidad este viernes 
 con el encendido de luces y la actuación de Los Arrieros.\n\n\n\n\n\n\n\n
 \n\n\n\n\n\n\n\n\n\nBajo el lema ‘Navidad\, un regalo para ti’\, el mu
 nicipio inaugura este periodo de fiestas con actividades para todas la fam
 ilia.\n\nEl Ayuntamiento de Los Llanos de Aridane inaugura la Navidad este
  viernes\, 1 de diciembre\, con el encendido de luces. Este acto -con el q
 ue se da inicio de manera oficial a las fiestas en el municipio- tendrá l
 ugar a las 20:00 horas\, aunque desde las 16:00 las calles cobrarán vida 
 con actividades para los más pequeños\, música y demás sorpresas.\n\nA
 ctos \n\nEl viernes 1 de diciembre\, entre las 16:00 y 18:00 horas los m
 ás pequeños de la casa podrán participar en los talleres de Navidad.\n\
 nA las 17:00 horas\, en el atrio del Ayuntamiento\, se desarrollará la ac
 tividad infantil La Aventura de Signar\, mientras que a las 18:00 será l
 a actuación del Grupo Cichú.\n\nPosteriormente\, a las 19:30  se inaugu
 rará el Nacimiento que\, un año más\, estará ubicado en los bajos de l
 a Casa de la Cultura. A esa hora las personas asistentes\, además\, podr
 án disfrutar de la actuación de la A.F. Los Arrieros.\n\nEl plato fuerte
  llegará a las 20:00 horas. Frente al Ayuntamiento\, se dará la bienveni
 da a la Navidad 2023-2024 iluminando la fachada de la casa consistorial y 
 se encenderá toda la decoración navideña que engalanará las calles del
  municipio. Posteriormente\, la A.F. Los Arrieros volverán a actuar para 
 los asistentes”.\n\n&nbsp\;\n\n\n\n\n\n\n\n\n\n\n\n\n
ATTACH;FMTTYPE=image/jpeg:https://www.larevistadelapalma.com/wp-content/up
 loads/2023/11/Ag-Los-Arrieros.jpg
CATEGORIES:Fiestas populares,Otras propuestas
LOCATION:Municipio de Los Llanos de Aridane\, Los Llanos de Aridane\, Los L
 lanos de Aridane\, 38760\, España
GEO:28.660236;-17.913187
X-APPLE-STRUCTURED-LOCATION;VALUE=URI;X-ADDRESS=Los Llanos de Aridane\, Los
  Llanos de Aridane\, 38760\, España;X-APPLE-RADIUS=100;X-TITLE=Municipio 
 de Los Llanos de Aridane:geo:28.660236,-17.913187
END:VEVENT
END:VCALENDARBEGIN:VCALENDAR
VERSION:2.0
PRODID:-//wp-events-plugin.com//7.2.3.1//EN
TZID:Europe/London
X-WR-TIMEZONE:Europe/London
BEGIN:VEVENT
UID:879@larevistadelapalma.com
DTSTART:20231201T190000Z
DTEND:20231201T213000Z
DTSTAMP:20241126T001836Z
URL:https://www.larevistadelapalma.com/events/los-llanos-encendido-de-luce
 s/
SUMMARY:Los Llanos inaugura la Navidad el 1 de diciembre con el encendido d
 e luces
DESCRIPTION:\n\n\n\nLos Llanos de Aridane inaugura la Navidad este viernes 
 con el encendido de luces y la actuación de Los Arrieros.\n\n\n\n\n\n\n\n
 \n\n\n\n\n\n\n\n\n\nBajo el lema ‘Navidad\, un regalo para ti’\, el mu
 nicipio inaugura este periodo de fiestas con actividades para todas la fam
 ilia.\n\nEl Ayuntamiento de Los Llanos de Aridane inaugura la Navidad este
  viernes\, 1 de diciembre\, con el encendido de luces. Este acto -con el q
 ue se da inicio de manera oficial a las fiestas en el municipio- tendrá l
 ugar a las 20:00 horas\, aunque desde las 16:00 las calles cobrarán vida 
 con actividades para los más pequeños\, música y demás sorpresas.\n\nA
 ctos \n\nEl viernes 1 de diciembre\, entre las 16:00 y 18:00 horas los m
 ás pequeños de la casa podrán participar en los talleres de Navidad.\n\
 nA las 17:00 horas\, en el atrio del Ayuntamiento\, se desarrollará la ac
 tividad infantil La Aventura de Signar\, mientras que a las 18:00 será l
 a actuación del Grupo Cichú.\n\nPosteriormente\, a las 19:30  se inaugu
 rará el Nacimiento que\, un año más\, estará ubicado en los bajos de l
 a Casa de la Cultura. A esa hora las personas asistentes\, además\, podr
 án disfrutar de la actuación de la A.F. Los Arrieros.\n\nEl plato fuerte
  llegará a las 20:00 horas. Frente al Ayuntamiento\, se dará la bienveni
 da a la Navidad 2023-2024 iluminando la fachada de la casa consistorial y 
 se encenderá toda la decoración navideña que engalanará las calles del
  municipio. Posteriormente\, la A.F. Los Arrieros volverán a actuar para 
 los asistentes”.\n\n&nbsp\;\n\n\n\n\n\n\n\n\n\n\n\n\n
ATTACH;FMTTYPE=image/jpeg:https://www.larevistadelapalma.com/wp-content/up
 loads/2023/11/Ag-Los-Arrieros.jpg
CATEGORIES:Fiestas populares,Otras propuestas
LOCATION:Municipio de Los Llanos de Aridane\, Los Llanos de Aridane\, Los L
 lanos de Aridane\, 38760\, España
GEO:28.660236;-17.913187
X-APPLE-STRUCTURED-LOCATION;VALUE=URI;X-ADDRESS=Los Llanos de Aridane\, Los
  Llanos de Aridane\, 38760\, España;X-APPLE-RADIUS=100;X-TITLE=Municipio 
 de Los Llanos de Aridane:geo:28.660236,-17.913187
END:VEVENT
END:VCALENDAR