BEGIN:VCALENDAR
VERSION:2.0
PRODID:-//wp-events-plugin.com//7.2.3.1//EN
TZID:Europe/London
X-WR-TIMEZONE:Europe/London
BEGIN:VEVENT
UID:3877@larevistadelapalma.com
DTSTART:20250802T160000Z
DTEND:20250802T225900Z
DTSTAMP:20250723T173012Z
URL:https://www.larevistadelapalma.com/events/los-llanos-festival-vilus-25
 /
SUMMARY:Los Llanos de Aridane reunirá a la élite de la música electróni
 ca en el Vilus Festival
DESCRIPTION:El evento reunirá el 2 de agosto artistas internacionales como
  NERVO\, Pendulum DJ Set e Yves V\, quienes han participado en el festival
  por excelencia del género: Tomorrowland.\n\n 9 horas de música\, zona 
 de ocio\, zona gastro\, zona tattoo…\n\nEl Ayuntamiento de Los Llanos de
  Aridane presentó este miércoles\, 16 de julio\, a las 12:00 horas en la
  Casa de la Cultura\, la segunda edición del Vilus Festival\, el cual reu
 nirá en La Palma hasta tres artistas del reconocido festival Tomorrowland
 . Será el próximo sábado\, 2 de agosto\, en la plaza Juan Pablo II.\n\n
 El organizador del festival afirmó que esta segunda edición será muy es
 pecial\, principalmente por reunir a tantos artistas\, tan importantes den
 tro de la música electrónica. “Se trata de un Line Up inédito a nivel
  mundial. Queremos verles a todos en el municipio”\, apuntó.\nComprar e
 ntradas &gt\;&gt\;\n\n\nVenta de entradas física    -     @ferreteri
 amerjo\nVenta de entradas física - @shopmountainride\nSobre el festival\n
 El festival se celebra el próximo 2 de agosto en el municipio y reúne a 
 una destacada selección de DJs de renombre internacional y nacional. Enca
 beza el cartel el dúo australiano NERVO\, referentes de la escena electr
 ónica mundial y conocidas por su energía arrolladora sobre el escenario 
 y por colaborar con artistas como David Guetta\, Afrojack o Kylie Minogue.
 \n\n\n\nTambién forma parte del cartel Pendulum DJ Set\, el icónico proy
 ecto de drum &amp\; bass que mezcla electrónica con elementos del rock y 
 que ha sido cabeza de cartel en grandes festivales internacionales como Gl
 astonbury o Ultra Music Festival.\n\nLa banda Pendulum\, formada por Rob S
 wire\, Gareth McGrillen y Paul “El Hornet” Harding se formó en el añ
 os 2002.  Pendulum se lanzó rápidamente a la carretera\, recorriendo su
  ciudad natal\, Perth\, y recorriendo clubes y festivales de renombre inte
 rnaciona. Tras mudarse al Reino Unido\, Paul\, El hornet tomó las riendas
  de las sesiones de DJ de Pendulum y ha pasado los últimos 15 años actu
 ando en algunos de los festivales de electrónica más importantes del mun
 do\, como Liquicity\, Let It Roll\, Rampage\, Dreambeach y EDC.\n\nAhora\,
  alternando entre los miembros individuales de la banda y\, a veces\, actu
 ando como trío\, las sesiones de DJ de Pendulum han cobrado vida propia.\
 n\n\n\nEl belga Yves V\, habitual del mainstage de Tomorrowland y conocido
  por éxitos como We Got That Cool\, llevará al público su característ
 ico estilo house progresivo\, mientras que el barcelonés Lexlay\, figura 
 destacada del tech house europeo\, aportará su energía y conexión con e
 l público que lo ha llevado a girar por más de 50 países.\n\n\nEl carte
 l lo completan los DJs Lexlay\, Visac\, Joyse\, Castillo y Capote\, quiene
 s representan el talento emergente y consolidado de la escena electrónica
  nacional y local.\n\n\nEl Vilus Festival cuenta con el apoyo instituciona
 l del Ayuntamiento de Los Llanos de Aridane\, el Cabildo de La Palma y mú
 ltiples entidades colaboradoras. La cita tendrá lugar en una ubicación a
 l aire libre en el entorno urbano del municipio\, con todas las medidas de
  seguridad necesarias y una producción de primer nivel.\n--
ATTACH;FMTTYPE=image/jpeg:https://www.larevistadelapalma.com/wp-content/up
 loads/2025/07/vilus-festival.jpg
CATEGORIES:Festivales/Fiestas,Música
LOCATION:Plaza Juan Pablo II\, Los Llanos de Aridane\, C. Luis Felipe Góme
 z Wangüemert\, 4\, Los Llanos de Aridane \, 38760 \, España
GEO:28.660513;-17.913419
X-APPLE-STRUCTURED-LOCATION;VALUE=URI;X-ADDRESS=C. Luis Felipe Gómez Wang
 üemert\, 4\, Los Llanos de Aridane \, 38760 \, España;X-APPLE-RADIUS=100
 ;X-TITLE=Plaza Juan Pablo II\, Los Llanos de Aridane:geo:28.660513,-17.913
 419
END:VEVENT
END:VCALENDARBEGIN:VCALENDAR
VERSION:2.0
PRODID:-//wp-events-plugin.com//7.2.3.1//EN
TZID:Europe/London
X-WR-TIMEZONE:Europe/London
BEGIN:VEVENT
UID:3877@larevistadelapalma.com
DTSTART:20250802T160000Z
DTEND:20250802T225900Z
DTSTAMP:20250723T173012Z
URL:https://www.larevistadelapalma.com/events/los-llanos-festival-vilus-25
 /
SUMMARY:Los Llanos de Aridane reunirá a la élite de la música electróni
 ca en el Vilus Festival
DESCRIPTION:El evento reunirá el 2 de agosto artistas internacionales como
  NERVO\, Pendulum DJ Set e Yves V\, quienes han participado en el festival
  por excelencia del género: Tomorrowland.\n\n 9 horas de música\, zona 
 de ocio\, zona gastro\, zona tattoo…\n\nEl Ayuntamiento de Los Llanos de
  Aridane presentó este miércoles\, 16 de julio\, a las 12:00 horas en la
  Casa de la Cultura\, la segunda edición del Vilus Festival\, el cual reu
 nirá en La Palma hasta tres artistas del reconocido festival Tomorrowland
 . Será el próximo sábado\, 2 de agosto\, en la plaza Juan Pablo II.\n\n
 El organizador del festival afirmó que esta segunda edición será muy es
 pecial\, principalmente por reunir a tantos artistas\, tan importantes den
 tro de la música electrónica. “Se trata de un Line Up inédito a nivel
  mundial. Queremos verles a todos en el municipio”\, apuntó.\nComprar e
 ntradas &gt\;&gt\;\n\n\nVenta de entradas física    -     @ferreteri
 amerjo\nVenta de entradas física - @shopmountainride\nSobre el festival\n
 El festival se celebra el próximo 2 de agosto en el municipio y reúne a 
 una destacada selección de DJs de renombre internacional y nacional. Enca
 beza el cartel el dúo australiano NERVO\, referentes de la escena electr
 ónica mundial y conocidas por su energía arrolladora sobre el escenario 
 y por colaborar con artistas como David Guetta\, Afrojack o Kylie Minogue.
 \n\n\n\nTambién forma parte del cartel Pendulum DJ Set\, el icónico proy
 ecto de drum &amp\; bass que mezcla electrónica con elementos del rock y 
 que ha sido cabeza de cartel en grandes festivales internacionales como Gl
 astonbury o Ultra Music Festival.\n\nLa banda Pendulum\, formada por Rob S
 wire\, Gareth McGrillen y Paul “El Hornet” Harding se formó en el añ
 os 2002.  Pendulum se lanzó rápidamente a la carretera\, recorriendo su
  ciudad natal\, Perth\, y recorriendo clubes y festivales de renombre inte
 rnaciona. Tras mudarse al Reino Unido\, Paul\, El hornet tomó las riendas
  de las sesiones de DJ de Pendulum y ha pasado los últimos 15 años actu
 ando en algunos de los festivales de electrónica más importantes del mun
 do\, como Liquicity\, Let It Roll\, Rampage\, Dreambeach y EDC.\n\nAhora\,
  alternando entre los miembros individuales de la banda y\, a veces\, actu
 ando como trío\, las sesiones de DJ de Pendulum han cobrado vida propia.\
 n\n\n\nEl belga Yves V\, habitual del mainstage de Tomorrowland y conocido
  por éxitos como We Got That Cool\, llevará al público su característ
 ico estilo house progresivo\, mientras que el barcelonés Lexlay\, figura 
 destacada del tech house europeo\, aportará su energía y conexión con e
 l público que lo ha llevado a girar por más de 50 países.\n\n\nEl carte
 l lo completan los DJs Lexlay\, Visac\, Joyse\, Castillo y Capote\, quiene
 s representan el talento emergente y consolidado de la escena electrónica
  nacional y local.\n\n\nEl Vilus Festival cuenta con el apoyo instituciona
 l del Ayuntamiento de Los Llanos de Aridane\, el Cabildo de La Palma y mú
 ltiples entidades colaboradoras. La cita tendrá lugar en una ubicación a
 l aire libre en el entorno urbano del municipio\, con todas las medidas de
  seguridad necesarias y una producción de primer nivel.\n--
ATTACH;FMTTYPE=image/jpeg:https://www.larevistadelapalma.com/wp-content/up
 loads/2025/07/vilus-festival.jpg
CATEGORIES:Festivales/Fiestas,Música
LOCATION:Plaza Juan Pablo II\, Los Llanos de Aridane\, C. Luis Felipe Góme
 z Wangüemert\, 4\, Los Llanos de Aridane \, 38760 \, España
GEO:28.660513;-17.913419
X-APPLE-STRUCTURED-LOCATION;VALUE=URI;X-ADDRESS=C. Luis Felipe Gómez Wang
 üemert\, 4\, Los Llanos de Aridane \, 38760 \, España;X-APPLE-RADIUS=100
 ;X-TITLE=Plaza Juan Pablo II\, Los Llanos de Aridane:geo:28.660513,-17.913
 419
END:VEVENT
END:VCALENDAR