BEGIN:VCALENDAR
VERSION:2.0
PRODID:-//wp-events-plugin.com//7.2.3.1//EN
TZID:Europe/London
X-WR-TIMEZONE:Europe/London
BEGIN:VEVENT
UID:3750@larevistadelapalma.com
DTSTART;VALUE=DATE:20250525
DTEND;VALUE=DATE:20250601
DTSTAMP:20250529T230028Z
URL:https://www.larevistadelapalma.com/events/los-llanos-i-semana-de-canar
 ias/
SUMMARY:Los Llanos celebra la I Semana de Canarias
DESCRIPTION:La primera edición incluirá más de 20 actividades culturales
  y de ocio\, con una jornada especial el viernes 30 de mayo\, Día de Cana
 rias.\n\nEl Ayuntamiento de Los Llanos de Aridane celebra la I Semana de C
 anarias del 25 al 31 de mayo\, una cita repleta de actividades culturales\
 , educativas y de ocio para toda la familia. El objetivo es rendir homenaj
 e a las tradiciones y a la identidad del municipio\, así como del archipi
 élago.\n\nEl alcalde Javier Llamas asegura que esta primera Semana de Can
 arias es “una acción pionera que convierte al municipio en un punto de 
 encuentro para celebrar con orgullo la identidad canaria”.\n\n“Desde e
 l Ayuntamiento queremos conservar lo que somos\, porque no entendemos el f
 uturo sin nuestro pasado. Es momento de aprender\, de divertirse y de refl
 exionar”\, señala el alcalde\, destacando el trabajo del Área de Cultu
 ra y de las entidades colaboradoras para la organización de las jornadas.
 \n\nPor su parte\, la concejala de Cultura\, Marlene González\, explica q
 ue la programación está pensada para todas las edades y gustos\, con un 
 enfoque divulgativo y participativo.\n\n“Hemos querido llegar a todos lo
 s rincones del municipio\, por eso cada día ofrecemos una oportunidad dis
 tinta para conocer y disfrutar de nuestra cultura”\, añade González.\n
 Programación de la I Semana de Canarias\nEsta primera edición contará c
 on más de 20 propuestas culturales y de ocio\, con una jornada especial e
 l viernes\, 30 de mayo\, Día de Canarias.\nLa programación incluye conci
 ertos\, pasacalles\, aulas abiertas\, talleres\, conferencias\, exposicion
 es\, juegos tradicionales\, encuentros de parrandas\, actividades infantil
 es y muestras gastronómicas. Todo ello repartido por distintos espacios d
 el municipio\, como la Plaza de España\, la Casa de la Cultura o el Espac
 io Real 21.\nEntre las actividades destacadas figuran el concierto inaugur
 al de la Banda Municipal el domingo 25 a las 12:00 horas\, el pasacalle de
  la agrupación de Castañuelas de Breña Alta el lunes 26\, así como las
  exhibiciones de lucha canaria y juegos autóctonos los días 26 y 27.\n\n
 Otros actos llamativos son la exposición de trajes tradicionales del 26 a
 l 31 de mayo o el encuentro de versadores el miércoles 28. También se po
 drá disfrutar de los conciertos de artistas como Benito Cabrera y Tomás 
 Fariña\, el jueves 29.\n\nLa jornada del 30 de mayo comenzará con la iza
 da de bandera a las 12:00 horas en el atrio del Ayuntamiento. A lo largo d
 el día se celebrarán teatro infantil\, conciertos\, un encuentro gastron
 ómico\, el concierto de Los Arrieros\, teatro costumbrista con Los de Den
 antes\, y para finalizar\, el concierto de Magec a las 20:30 horas.\n\nEl 
 sábado 31\, Relatos de sal\, leyendas y cantares\, a las 11:30 horas. Un 
 espectáculo emocionante y evocador para toda la familia\, donde la tradic
 ión cobra vida a través de la música y la palabra. Más detalles &gt\;\
 n\nY a las 13:00 horas\, espectáculo con Parranda Alisios y Parranda Los 
 Boinas. 
ATTACH;FMTTYPE=image/jpeg:https://www.larevistadelapalma.com/wp-content/up
 loads/2025/05/Semana-de-Canarias-scaled.jpeg
CATEGORIES:Fiestas populares,Otras propuestas,Varios
LOCATION:Municipio de Los Llanos de Aridane\, Los Llanos de Aridane\, Los L
 lanos de Aridane\, 38760\, España
GEO:28.660236;-17.913187
X-APPLE-STRUCTURED-LOCATION;VALUE=URI;X-ADDRESS=Los Llanos de Aridane\, Los
  Llanos de Aridane\, 38760\, España;X-APPLE-RADIUS=100;X-TITLE=Municipio 
 de Los Llanos de Aridane:geo:28.660236,-17.913187
END:VEVENT
END:VCALENDARBEGIN:VCALENDAR
VERSION:2.0
PRODID:-//wp-events-plugin.com//7.2.3.1//EN
TZID:Europe/London
X-WR-TIMEZONE:Europe/London
BEGIN:VEVENT
UID:3750@larevistadelapalma.com
DTSTART;VALUE=DATE:20250525
DTEND;VALUE=DATE:20250601
DTSTAMP:20250529T230028Z
URL:https://www.larevistadelapalma.com/events/los-llanos-i-semana-de-canar
 ias/
SUMMARY:Los Llanos celebra la I Semana de Canarias
DESCRIPTION:La primera edición incluirá más de 20 actividades culturales
  y de ocio\, con una jornada especial el viernes 30 de mayo\, Día de Cana
 rias.\n\nEl Ayuntamiento de Los Llanos de Aridane celebra la I Semana de C
 anarias del 25 al 31 de mayo\, una cita repleta de actividades culturales\
 , educativas y de ocio para toda la familia. El objetivo es rendir homenaj
 e a las tradiciones y a la identidad del municipio\, así como del archipi
 élago.\n\nEl alcalde Javier Llamas asegura que esta primera Semana de Can
 arias es “una acción pionera que convierte al municipio en un punto de 
 encuentro para celebrar con orgullo la identidad canaria”.\n\n“Desde e
 l Ayuntamiento queremos conservar lo que somos\, porque no entendemos el f
 uturo sin nuestro pasado. Es momento de aprender\, de divertirse y de refl
 exionar”\, señala el alcalde\, destacando el trabajo del Área de Cultu
 ra y de las entidades colaboradoras para la organización de las jornadas.
 \n\nPor su parte\, la concejala de Cultura\, Marlene González\, explica q
 ue la programación está pensada para todas las edades y gustos\, con un 
 enfoque divulgativo y participativo.\n\n“Hemos querido llegar a todos lo
 s rincones del municipio\, por eso cada día ofrecemos una oportunidad dis
 tinta para conocer y disfrutar de nuestra cultura”\, añade González.\n
 Programación de la I Semana de Canarias\nEsta primera edición contará c
 on más de 20 propuestas culturales y de ocio\, con una jornada especial e
 l viernes\, 30 de mayo\, Día de Canarias.\nLa programación incluye conci
 ertos\, pasacalles\, aulas abiertas\, talleres\, conferencias\, exposicion
 es\, juegos tradicionales\, encuentros de parrandas\, actividades infantil
 es y muestras gastronómicas. Todo ello repartido por distintos espacios d
 el municipio\, como la Plaza de España\, la Casa de la Cultura o el Espac
 io Real 21.\nEntre las actividades destacadas figuran el concierto inaugur
 al de la Banda Municipal el domingo 25 a las 12:00 horas\, el pasacalle de
  la agrupación de Castañuelas de Breña Alta el lunes 26\, así como las
  exhibiciones de lucha canaria y juegos autóctonos los días 26 y 27.\n\n
 Otros actos llamativos son la exposición de trajes tradicionales del 26 a
 l 31 de mayo o el encuentro de versadores el miércoles 28. También se po
 drá disfrutar de los conciertos de artistas como Benito Cabrera y Tomás 
 Fariña\, el jueves 29.\n\nLa jornada del 30 de mayo comenzará con la iza
 da de bandera a las 12:00 horas en el atrio del Ayuntamiento. A lo largo d
 el día se celebrarán teatro infantil\, conciertos\, un encuentro gastron
 ómico\, el concierto de Los Arrieros\, teatro costumbrista con Los de Den
 antes\, y para finalizar\, el concierto de Magec a las 20:30 horas.\n\nEl 
 sábado 31\, Relatos de sal\, leyendas y cantares\, a las 11:30 horas. Un 
 espectáculo emocionante y evocador para toda la familia\, donde la tradic
 ión cobra vida a través de la música y la palabra. Más detalles &gt\;\
 n\nY a las 13:00 horas\, espectáculo con Parranda Alisios y Parranda Los 
 Boinas. 
ATTACH;FMTTYPE=image/jpeg:https://www.larevistadelapalma.com/wp-content/up
 loads/2025/05/Semana-de-Canarias-scaled.jpeg
CATEGORIES:Fiestas populares,Otras propuestas,Varios
LOCATION:Municipio de Los Llanos de Aridane\, Los Llanos de Aridane\, Los L
 lanos de Aridane\, 38760\, España
GEO:28.660236;-17.913187
X-APPLE-STRUCTURED-LOCATION;VALUE=URI;X-ADDRESS=Los Llanos de Aridane\, Los
  Llanos de Aridane\, 38760\, España;X-APPLE-RADIUS=100;X-TITLE=Municipio 
 de Los Llanos de Aridane:geo:28.660236,-17.913187
END:VEVENT
END:VCALENDAR