BEGIN:VCALENDAR
VERSION:2.0
PRODID:-//wp-events-plugin.com//7.2.3.1//EN
TZID:Europe/London
X-WR-TIMEZONE:Europe/London
BEGIN:VEVENT
UID:3281@larevistadelapalma.com
DTSTART:20241009T150000Z
DTEND:20241009T190000Z
DTSTAMP:20240925T184002Z
URL:https://www.larevistadelapalma.com/events/los-llanos-realiza-por-segun
 da-vez-el-taller-de-autodefensa-feminista-con-paloma-tosar/
SUMMARY:Los Llanos realiza por segunda vez el taller de autodefensa feminis
 ta con Paloma Tosar
DESCRIPTION:Las plazas para el taller son limitadas por lo que las inscripc
 iones se pueden realizar a través de este link. Fecha límite el 4 de oct
 ubre.
ATTACH;FMTTYPE=image/jpeg:https://www.larevistadelapalma.com/wp-content/up
 loads/2024/09/Autodefensa-feminista.jpeg
CATEGORIES:Formación,Otras propuestas
LOCATION:Museo Arqueológico Benahoarita (MAB)\, Calle Las Adelfas\, Los Ll
 anos de Aridane\, 38760\, España
GEO:28.656757;-17.910203
X-APPLE-STRUCTURED-LOCATION;VALUE=URI;X-ADDRESS=Calle Las Adelfas\, Los Lla
 nos de Aridane\, 38760\, España;X-APPLE-RADIUS=100;X-TITLE=Museo Arqueol
 ógico Benahoarita (MAB):geo:28.656757,-17.910203
END:VEVENT
END:VCALENDARBEGIN:VCALENDAR
VERSION:2.0
PRODID:-//wp-events-plugin.com//7.2.3.1//EN
TZID:Europe/London
X-WR-TIMEZONE:Europe/London
BEGIN:VEVENT
UID:3281@larevistadelapalma.com
DTSTART:20241009T150000Z
DTEND:20241009T190000Z
DTSTAMP:20240925T184002Z
URL:https://www.larevistadelapalma.com/events/los-llanos-realiza-por-segun
 da-vez-el-taller-de-autodefensa-feminista-con-paloma-tosar/
SUMMARY:Los Llanos realiza por segunda vez el taller de autodefensa feminis
 ta con Paloma Tosar
DESCRIPTION:Las plazas para el taller son limitadas por lo que las inscripc
 iones se pueden realizar a través de este link. Fecha límite el 4 de oct
 ubre.
ATTACH;FMTTYPE=image/jpeg:https://www.larevistadelapalma.com/wp-content/up
 loads/2024/09/Autodefensa-feminista.jpeg
CATEGORIES:Formación,Otras propuestas
LOCATION:Museo Arqueológico Benahoarita (MAB)\, Calle Las Adelfas\, Los Ll
 anos de Aridane\, 38760\, España
GEO:28.656757;-17.910203
X-APPLE-STRUCTURED-LOCATION;VALUE=URI;X-ADDRESS=Calle Las Adelfas\, Los Lla
 nos de Aridane\, 38760\, España;X-APPLE-RADIUS=100;X-TITLE=Museo Arqueol
 ógico Benahoarita (MAB):geo:28.656757,-17.910203
END:VEVENT
END:VCALENDAR