BEGIN:VCALENDAR
VERSION:2.0
PRODID:-//wp-events-plugin.com//7.2.3.1//EN
TZID:Europe/London
X-WR-TIMEZONE:Europe/London
BEGIN:VEVENT
UID:3753@larevistadelapalma.com
DTSTART;VALUE=DATE:20250526
DTEND;VALUE=DATE:20250601
DTSTAMP:20250522T214453Z
URL:https://www.larevistadelapalma.com/events/los-llanos-realza-la-indumen
 taria-tradicional-palmera-con-una-exposicion/
SUMMARY:Los Llanos realza la indumentaria tradicional palmera con una expos
 ición
DESCRIPTION:La muestra contará con láminas originales de Juan Fierro Vand
 ewalle\, datadas en 1860\, que reflejan con detalle el vestir popular de l
 a época.\n\nEl Ayuntamiento de Los Llanos de Aridane organiza una exposic
 ión dedicada a la indumentaria tradicional de La Palma. La muestra se cel
 ebra del 26 al 31 de mayo de 2025 en el Espacio Cultural Real 21\, con la 
 colaboración del alumnado del módulo de Bailes Canarios de la Escuela Mu
 nicipal de Folclore\, así como del grupo etnográfico Baile Bueno.\nLa in
 auguración tendrá lugar el lunes\, 26 de mayo\, a las 20:00 horas\, y la
  exposición podrá visitarse de lunes a jueves en horario de 10:00 a 13:0
 0 horas y de 17:00 a 20:00 horas\, y el sábado de 10:00 a 13:00 horas.\nL
 a muestra pone en valor cómo las vestimentas tradicionales han llegado ha
 sta nuestros días gracias a la labor de investigación y conservación de
  figuras como Juan de la Cruz y del grupo folclórico Echentive\, de Fuenc
 aliente.\n\nEl Museo Insular de La Palma ha cedido una selección de lámi
 nas originales de Juan Fierro Vandewalle\, datadas en 1860\, que reflejan 
 con detalle el vestir popular de la época.\n\nMediante estas ilustracione
 s y de textos extraídos del libro La indumentaria tradicional de la isla
  de La Palma\, de Juan de la Cruz\, el público podrá conocer las formas 
 y características auténticas de la vestimenta tradicional\, frente a ver
 siones distorsionadas que hoy en día son habituales.
ATTACH;FMTTYPE=image/jpeg:https://www.larevistadelapalma.com/wp-content/up
 loads/2025/05/Exposicion-de-Trajes-Tradicionales.jpeg
CATEGORIES:Exposiciones
LOCATION:Espacio Cultural Real 21\, Los Llanos de Aridane\, C. Real\, 21\,\
 , Los Llanos de Aridane\, 38760\, España
GEO:28.658619;-17.910989
X-APPLE-STRUCTURED-LOCATION;VALUE=URI;X-ADDRESS=C. Real\, 21\,\, Los Llanos
  de Aridane\, 38760\, España;X-APPLE-RADIUS=100;X-TITLE=Espacio Cultural 
 Real 21\, Los Llanos de Aridane:geo:28.658619,-17.910989
END:VEVENT
END:VCALENDARBEGIN:VCALENDAR
VERSION:2.0
PRODID:-//wp-events-plugin.com//7.2.3.1//EN
TZID:Europe/London
X-WR-TIMEZONE:Europe/London
BEGIN:VEVENT
UID:3753@larevistadelapalma.com
DTSTART;VALUE=DATE:20250526
DTEND;VALUE=DATE:20250601
DTSTAMP:20250522T214453Z
URL:https://www.larevistadelapalma.com/events/los-llanos-realza-la-indumen
 taria-tradicional-palmera-con-una-exposicion/
SUMMARY:Los Llanos realza la indumentaria tradicional palmera con una expos
 ición
DESCRIPTION:La muestra contará con láminas originales de Juan Fierro Vand
 ewalle\, datadas en 1860\, que reflejan con detalle el vestir popular de l
 a época.\n\nEl Ayuntamiento de Los Llanos de Aridane organiza una exposic
 ión dedicada a la indumentaria tradicional de La Palma. La muestra se cel
 ebra del 26 al 31 de mayo de 2025 en el Espacio Cultural Real 21\, con la 
 colaboración del alumnado del módulo de Bailes Canarios de la Escuela Mu
 nicipal de Folclore\, así como del grupo etnográfico Baile Bueno.\nLa in
 auguración tendrá lugar el lunes\, 26 de mayo\, a las 20:00 horas\, y la
  exposición podrá visitarse de lunes a jueves en horario de 10:00 a 13:0
 0 horas y de 17:00 a 20:00 horas\, y el sábado de 10:00 a 13:00 horas.\nL
 a muestra pone en valor cómo las vestimentas tradicionales han llegado ha
 sta nuestros días gracias a la labor de investigación y conservación de
  figuras como Juan de la Cruz y del grupo folclórico Echentive\, de Fuenc
 aliente.\n\nEl Museo Insular de La Palma ha cedido una selección de lámi
 nas originales de Juan Fierro Vandewalle\, datadas en 1860\, que reflejan 
 con detalle el vestir popular de la época.\n\nMediante estas ilustracione
 s y de textos extraídos del libro La indumentaria tradicional de la isla
  de La Palma\, de Juan de la Cruz\, el público podrá conocer las formas 
 y características auténticas de la vestimenta tradicional\, frente a ver
 siones distorsionadas que hoy en día son habituales.
ATTACH;FMTTYPE=image/jpeg:https://www.larevistadelapalma.com/wp-content/up
 loads/2025/05/Exposicion-de-Trajes-Tradicionales.jpeg
CATEGORIES:Exposiciones
LOCATION:Espacio Cultural Real 21\, Los Llanos de Aridane\, C. Real\, 21\,\
 , Los Llanos de Aridane\, 38760\, España
GEO:28.658619;-17.910989
X-APPLE-STRUCTURED-LOCATION;VALUE=URI;X-ADDRESS=C. Real\, 21\,\, Los Llanos
  de Aridane\, 38760\, España;X-APPLE-RADIUS=100;X-TITLE=Espacio Cultural 
 Real 21\, Los Llanos de Aridane:geo:28.658619,-17.910989
END:VEVENT
END:VCALENDAR