BEGIN:VCALENDAR
VERSION:2.0
PRODID:-//wp-events-plugin.com//7.2.3.1//EN
TZID:Europe/London
X-WR-TIMEZONE:Europe/London
BEGIN:VEVENT
UID:4559@larevistadelapalma.com
DTSTART:20260313T190000Z
DTEND:20260313T203000Z
DTSTAMP:20260305T191012Z
URL:https://www.larevistadelapalma.com/events/los-llanos-reconoce-a-las-ma
 estras-del-municipio-en-la-gala-de-mujer-destacada-2026/
SUMMARY:Los Llanos reconoce a las maestras del municipio en la Gala de Muje
 r Destacada 2026
DESCRIPTION:El colectivo docente será premiado con este importante galard
 ón el próximo viernes\, 13 de marzo.\n\nEl Ayuntamiento de Los Llanos de
  Aridane rinde homenaje a las maestras del municipio en su Gala de Mujer D
 estacada 2026\, que tendrá lugar en la plaza de España el próximo viern
 es\, 13 de marzo\, a partir de las 20:00 horas. Será la primera vez que s
 e entregue este importante galardón a varias mujeres\, siendo otorgado a 
 título individual en las ediciones anteriores.\n\nEl alcalde\, Javier Lla
 mas\, explica que “desde el grupo de gobierno sentimos que este grupo de
  mujeres ha marcado un antes y un después no solo en la educación del mu
 nicipio\, sino también en la sociedad en general”. Estas mujeres comenz
 aron su carrera profesional en un panorama muy distinto al de hoy en día\
 , con las restricciones y estándares sociales que sufría el género feme
 nino en aquel momento\, y aún con todo eso lucharon y salieron adelante
 ”.\n\nEn este sentido\, la concejala de Igualdad\, Idaira Pérez\, pone 
 de relieve la importancia de continuar celebrando un evento de estas carac
 terísticas. “La Mujer Destacada se ha convertido en un referente a nive
 l social\, ya que se reconoce la huella que ha dejado el legado de estas m
 ujeres que han luchado por sus derechos y libertades”\, afirma.\n\n\n\nS
 obre la gala\n\nAdemás de la entrega de reconocimientos\, la gala contar
 á con el grupo de teatro Los De Denantes\, con sus clásicas representaci
 ones de épocas remotas en nuestro territorio\, además de la actuación d
 e Voces del hoy y del ayer\, un grupo de mujeres cantantes que interpretar
 á varias piezas musicales.\n\nCabe recordar que la gala se enmarca dentro
  de las actividades organizadas por el Ayuntamiento de Los Llanos de Arida
 ne para conmemorar el Mes de la Mujer\, con una programación de talleres 
 y eventos en homenaje al Día Internacional de la Mujer.
ATTACH;FMTTYPE=image/jpeg:https://www.larevistadelapalma.com/wp-content/up
 loads/2026/03/NP-Mujer-Destacada-2026-2.jpeg
CATEGORIES:Otras propuestas,Varios
LOCATION:Plaza de España en Los Llanos de Aridane\, Plaza de España\, Los
  Llanos de Aridane\, 38760\, España
GEO:28.658934;-17.913174
X-APPLE-STRUCTURED-LOCATION;VALUE=URI;X-ADDRESS=Plaza de España\, Los Llan
 os de Aridane\, 38760\, España;X-APPLE-RADIUS=100;X-TITLE=Plaza de Españ
 a en Los Llanos de Aridane:geo:28.658934,-17.913174
END:VEVENT
END:VCALENDARBEGIN:VCALENDAR
VERSION:2.0
PRODID:-//wp-events-plugin.com//7.2.3.1//EN
TZID:Europe/London
X-WR-TIMEZONE:Europe/London
BEGIN:VEVENT
UID:4559@larevistadelapalma.com
DTSTART:20260313T190000Z
DTEND:20260313T203000Z
DTSTAMP:20260305T191012Z
URL:https://www.larevistadelapalma.com/events/los-llanos-reconoce-a-las-ma
 estras-del-municipio-en-la-gala-de-mujer-destacada-2026/
SUMMARY:Los Llanos reconoce a las maestras del municipio en la Gala de Muje
 r Destacada 2026
DESCRIPTION:El colectivo docente será premiado con este importante galard
 ón el próximo viernes\, 13 de marzo.\n\nEl Ayuntamiento de Los Llanos de
  Aridane rinde homenaje a las maestras del municipio en su Gala de Mujer D
 estacada 2026\, que tendrá lugar en la plaza de España el próximo viern
 es\, 13 de marzo\, a partir de las 20:00 horas. Será la primera vez que s
 e entregue este importante galardón a varias mujeres\, siendo otorgado a 
 título individual en las ediciones anteriores.\n\nEl alcalde\, Javier Lla
 mas\, explica que “desde el grupo de gobierno sentimos que este grupo de
  mujeres ha marcado un antes y un después no solo en la educación del mu
 nicipio\, sino también en la sociedad en general”. Estas mujeres comenz
 aron su carrera profesional en un panorama muy distinto al de hoy en día\
 , con las restricciones y estándares sociales que sufría el género feme
 nino en aquel momento\, y aún con todo eso lucharon y salieron adelante
 ”.\n\nEn este sentido\, la concejala de Igualdad\, Idaira Pérez\, pone 
 de relieve la importancia de continuar celebrando un evento de estas carac
 terísticas. “La Mujer Destacada se ha convertido en un referente a nive
 l social\, ya que se reconoce la huella que ha dejado el legado de estas m
 ujeres que han luchado por sus derechos y libertades”\, afirma.\n\n\n\nS
 obre la gala\n\nAdemás de la entrega de reconocimientos\, la gala contar
 á con el grupo de teatro Los De Denantes\, con sus clásicas representaci
 ones de épocas remotas en nuestro territorio\, además de la actuación d
 e Voces del hoy y del ayer\, un grupo de mujeres cantantes que interpretar
 á varias piezas musicales.\n\nCabe recordar que la gala se enmarca dentro
  de las actividades organizadas por el Ayuntamiento de Los Llanos de Arida
 ne para conmemorar el Mes de la Mujer\, con una programación de talleres 
 y eventos en homenaje al Día Internacional de la Mujer.
ATTACH;FMTTYPE=image/jpeg:https://www.larevistadelapalma.com/wp-content/up
 loads/2026/03/NP-Mujer-Destacada-2026-2.jpeg
CATEGORIES:Otras propuestas,Varios
LOCATION:Plaza de España en Los Llanos de Aridane\, Plaza de España\, Los
  Llanos de Aridane\, 38760\, España
GEO:28.658934;-17.913174
X-APPLE-STRUCTURED-LOCATION;VALUE=URI;X-ADDRESS=Plaza de España\, Los Llan
 os de Aridane\, 38760\, España;X-APPLE-RADIUS=100;X-TITLE=Plaza de Españ
 a en Los Llanos de Aridane:geo:28.658934,-17.913174
END:VEVENT
END:VCALENDAR