BEGIN:VCALENDAR
VERSION:2.0
PRODID:-//wp-events-plugin.com//7.2.3.1//EN
TZID:Europe/London
X-WR-TIMEZONE:Europe/London
BEGIN:VEVENT
UID:3085@larevistadelapalma.com
DTSTART:20240701T210000Z
DTEND:20240701T225900Z
DTSTAMP:20240624T192546Z
URL:https://www.larevistadelapalma.com/events/los-llanos-rinde-homenaje-al
 -cine-mudo-en-su-fiesta-de-arte-con-el-espectaculo-el-cinematek/
SUMMARY:Los Llanos rinde homenaje al cine mudo en su Fiesta de Arte con el 
 espectáculo El Cinematek
DESCRIPTION:Se recorrerán los hitos más significativos que dieron paso al
  desarrollo del séptimo arte y a la llegada del cine sonoro.\n\nEl Ayunta
 miento de Los Llanos de Aridane rinde homenaje al cine mudo en su Fiesta d
 e Arte con el espectáculo El Cinematek. El evento tendrá lugar este lune
 s\, 1 de julio\, a partir de las 22:00 horas\, en la Plaza de España\, de
 ntro del calendario cultural de las Fiestas de La Patrona.\n\nEsta edició
 n estará dirigida por Iriome del Toro y Naira Gómez. También contará c
 on la directora de cine y guionista\, Mercedes Afonso\, natural de El Paso
  y conocida por ser la primera mujer mantenedora palmera del evento.\n\nDu
 rante el festival\, Afonso expondrá un texto de elaboración propia donde
  trasladará el significado del cine en su entorno\, su vida y su relevanc
 ia vital para la sociedad.\n\nAsimismo\, la Fiesta de Arte contará con la
  dirección musical de Fernando Felipe Martel\, así como los espectáculo
 s del bailarín y coreógrafo\, Dorian Acosta\, las actrices de María de 
 Vigo López y Nina Chumakov\, y el actor Javier Rodríguez.\n\nDurante el 
 acto también actuará la Banda Municipal de Música bajo la dirección de
  Gonzalo Jaubert.  Junto a la soprano Fátima Naranjo\, interpretarán un
 a selección de piezas especialmente dedicadas a la época de los años 20
  y el cine mudo.
ATTACH;FMTTYPE=image/jpeg:https://www.larevistadelapalma.com/wp-content/up
 loads/2024/06/Cinematek.jpeg
CATEGORIES:Espectáculos
LOCATION:Plaza de España en Los Llanos de Aridane\, Plaza de España\, Los
  Llanos de Aridane\, 38760\, España
GEO:28.658934;-17.913174
X-APPLE-STRUCTURED-LOCATION;VALUE=URI;X-ADDRESS=Plaza de España\, Los Llan
 os de Aridane\, 38760\, España;X-APPLE-RADIUS=100;X-TITLE=Plaza de Españ
 a en Los Llanos de Aridane:geo:28.658934,-17.913174
END:VEVENT
END:VCALENDARBEGIN:VCALENDAR
VERSION:2.0
PRODID:-//wp-events-plugin.com//7.2.3.1//EN
TZID:Europe/London
X-WR-TIMEZONE:Europe/London
BEGIN:VEVENT
UID:3085@larevistadelapalma.com
DTSTART:20240701T210000Z
DTEND:20240701T225900Z
DTSTAMP:20240624T192546Z
URL:https://www.larevistadelapalma.com/events/los-llanos-rinde-homenaje-al
 -cine-mudo-en-su-fiesta-de-arte-con-el-espectaculo-el-cinematek/
SUMMARY:Los Llanos rinde homenaje al cine mudo en su Fiesta de Arte con el 
 espectáculo El Cinematek
DESCRIPTION:Se recorrerán los hitos más significativos que dieron paso al
  desarrollo del séptimo arte y a la llegada del cine sonoro.\n\nEl Ayunta
 miento de Los Llanos de Aridane rinde homenaje al cine mudo en su Fiesta d
 e Arte con el espectáculo El Cinematek. El evento tendrá lugar este lune
 s\, 1 de julio\, a partir de las 22:00 horas\, en la Plaza de España\, de
 ntro del calendario cultural de las Fiestas de La Patrona.\n\nEsta edició
 n estará dirigida por Iriome del Toro y Naira Gómez. También contará c
 on la directora de cine y guionista\, Mercedes Afonso\, natural de El Paso
  y conocida por ser la primera mujer mantenedora palmera del evento.\n\nDu
 rante el festival\, Afonso expondrá un texto de elaboración propia donde
  trasladará el significado del cine en su entorno\, su vida y su relevanc
 ia vital para la sociedad.\n\nAsimismo\, la Fiesta de Arte contará con la
  dirección musical de Fernando Felipe Martel\, así como los espectáculo
 s del bailarín y coreógrafo\, Dorian Acosta\, las actrices de María de 
 Vigo López y Nina Chumakov\, y el actor Javier Rodríguez.\n\nDurante el 
 acto también actuará la Banda Municipal de Música bajo la dirección de
  Gonzalo Jaubert.  Junto a la soprano Fátima Naranjo\, interpretarán un
 a selección de piezas especialmente dedicadas a la época de los años 20
  y el cine mudo.
ATTACH;FMTTYPE=image/jpeg:https://www.larevistadelapalma.com/wp-content/up
 loads/2024/06/Cinematek.jpeg
CATEGORIES:Espectáculos
LOCATION:Plaza de España en Los Llanos de Aridane\, Plaza de España\, Los
  Llanos de Aridane\, 38760\, España
GEO:28.658934;-17.913174
X-APPLE-STRUCTURED-LOCATION;VALUE=URI;X-ADDRESS=Plaza de España\, Los Llan
 os de Aridane\, 38760\, España;X-APPLE-RADIUS=100;X-TITLE=Plaza de Españ
 a en Los Llanos de Aridane:geo:28.658934,-17.913174
END:VEVENT
END:VCALENDAR