BEGIN:VCALENDAR
VERSION:2.0
PRODID:-//wp-events-plugin.com//7.2.3.1//EN
TZID:Europe/London
X-WR-TIMEZONE:Europe/London
BEGIN:VEVENT
UID:3435@larevistadelapalma.com
DTSTART;VALUE=DATE:20250122
DTEND;VALUE=DATE:20250126
DTSTAMP:20250124T174156Z
URL:https://www.larevistadelapalma.com/events/los-llanos-sera-la-capital-d
 e-la-literatura-negra-y-criminal-de-canarias-en-enero-de-2025/
SUMMARY:Los Llanos\, capital de la literatura negra y criminal de Canarias 
 en enero de 2025
DESCRIPTION:La V edición de Aridane Criminal reunirá a escritores\, cinea
 stas\, guionistas e ilustradores en un homenaje especial a su fundador\, A
 lexis Ravelo.\nEl Festival concluye el sábado 25 de enero con el Conciert
 o Especial. Alexis como Letrista de Canciones\, a cargo del cantante de Lo
 s Coquillos\, Ginés Cedrés.\n\nLos Llanos de Aridane acogerá del 22 al 
 25 de enero de 2025 la quinta edición de Aridane Criminal\, un festival q
 ue celebra la literatura negra y policíaca con la participación de 16 au
 tores\, entre escritores\, cineastas\, guionistas e ilustradores.\n\nHabr
 á actividades dirigidas al público joven y un cierre musical a cargo de 
 Ginés Cedrés\, en un evento que ya se ha consolidado como un referente c
 ultural en el municipio. La mayoría de las actividades tendrán lugar en 
 la Casa de la Cultura y en la plaza de España.\n\n\nEl evento se inaugura
 rá el miércoles 22 de enero con una conversación con Víctor del Árbol
 \, una de las voces más destacadas del género\, quien presentará su úl
 tima novela\, El tiempo de las fieras. Un policía a las puertas de la j
 ubilación es desterrado por los suyos hasta la tranquila Lanzarote\, dond
 e deberá pasar los últimos años de su carrera. Lo que no puede imaginar
 \, ni él ni nadie\, es que la investigación del caso del atropello de un
 a joven de diecinueve años originaria del Este va a desenmascarar una tra
 ma de crimen y poder en varias ciudades europeas. En una espiral de intrig
 a que no da tregua al lector...\n\nEse mismo día se proyectará Al rojo 
 vivo (Raoul Walsh\, 1949)\, clásico del cine negro protagonizado por Jam
 es Cagney\, cuya imagen ilustra el cartel de esta edición.\n\n\n\n\nEl ju
 eves 23 estará dedicado al panorama isleño del género negro con autores
  como Bibiana Reyes\, Luis Carlos Castañeda\, José Luis Correa y David C
 abrera\, que presentarán sus últimas obras. Asimismo\, Cristina Higueras
  y Jon Arretxe aportarán su visión al evento. Este último encabezará l
 a sección Recordando al comisario Ravelo\, en homenaje al creador de La
  estrategia del pequinés.\n\n\n\nEl viernes 24 será el turno de escritor
 as como Elsa Plaza\, con Un tango para Emy Langer (A finales de 1931\, po
 co después de la gran fiesta republicana\, se descubre el cadáver de una
  mujer enterrado bajo las baldosas de una pequeña edificación del barrio
  de Llefià\, en Badalona. La historia de un crimen real... (*Reprogramado
  para el jueves 23\, a las 19:00 horas)\nY Victoria González Torralba\, q
 uien presentará su premiada novela Buenos tiempos. Premio Paco Camarasa
  de novela negra 2023. En la España de los años 70\, en pleno despertar 
 turístico\, Laura vive con sus tíos —un hombre autoritario y una mujer
  de carácter áspero— en un pueblo de la costa mediterránea. Para cont
 ribuir a la economía de la casa\, limpia apartamentos y trabaja como cama
 rera en la cantina de Juan Sil\, un tipo oscuro y voluble que\, sin embarg
 o\, constituye su única fuente de afecto. Todo en el destino de la joven 
 parece ya trazado...\nEl cineasta Juan Carlos Fresnadillo participará en 
 la proyección de su mediometraje Esposados junto al actor Pedro María 
 Sánchez. Antonio desea matar a Concha\, su esposa\, pero le falta valor. 
 Un día a Concha le toca la lotería de Navidad\, y los intereses de ambos
  para ver qué hacer con el dinero no coinciden. Ahora\, tiene un buen mot
 ivo para tener valor y dar el paso.\n\n\n\n\n\nEl sábado 25 destacará la
  presentación de la novela gráfica Soy una asesina\, de Pedro Arjona. 
  (Soy una asesina: Una montadora de cine es testigo de un intento de viol
 ación en las afueras de Madrid. Al querer ayudar a la mujer agredida\, ma
 ta al violador golpeándolo con una barra antirrobo de coche. Cuando propo
 ne denunciar los hechos a la policía\, la víctima se niega. Avergonzada 
 y presa de un ataque de pánico\, la convence para ocultar el cadáver y s
 ilenciar el suceso...)\nY la participación del escritor Nii Ayikwi Parkes
 \, en colaboración con Casa África\, que presenta "El enigma del pájaro
  azul". (Sería una historia de la que nadie hablaría si no se hubiera me
 tido en medio el pájaro azul y\, tras él\, la amiga del ministro. Kofi A
 tta\, el cultivador de cacao\, ha desaparecido. ¿Lo han matado? ...)\nEl 
 broche final el mismo sábado 25\, a las 13:00 horas\, con el concierto A
 lexis\, letrista de canciones\, de Ginés Cedrés\, quien interpretará un
  tema especial dedicado a la memoria de Alexis Ravelo\, complementado con 
 material audiovisual.\n\n*Confirma los actos del PROGRAMA aquí\, ya que h
 a habido algún cambio en la programación inicial .
ATTACH;FMTTYPE=image/jpeg:https://www.larevistadelapalma.com/wp-content/up
 loads/2024/11/Aridane-Criminal-25.jpg
CATEGORIES:Cine,Cine y Literatura,Literatura
LOCATION:Plaza de España en Los Llanos de Aridane\, Plaza de España\, Los
  Llanos de Aridane\, 38760\, España
GEO:28.658934;-17.913174
X-APPLE-STRUCTURED-LOCATION;VALUE=URI;X-ADDRESS=Plaza de España\, Los Llan
 os de Aridane\, 38760\, España;X-APPLE-RADIUS=100;X-TITLE=Plaza de Españ
 a en Los Llanos de Aridane:geo:28.658934,-17.913174
END:VEVENT
END:VCALENDARBEGIN:VCALENDAR
VERSION:2.0
PRODID:-//wp-events-plugin.com//7.2.3.1//EN
TZID:Europe/London
X-WR-TIMEZONE:Europe/London
BEGIN:VEVENT
UID:3435@larevistadelapalma.com
DTSTART;VALUE=DATE:20250122
DTEND;VALUE=DATE:20250126
DTSTAMP:20250124T174156Z
URL:https://www.larevistadelapalma.com/events/los-llanos-sera-la-capital-d
 e-la-literatura-negra-y-criminal-de-canarias-en-enero-de-2025/
SUMMARY:Los Llanos\, capital de la literatura negra y criminal de Canarias 
 en enero de 2025
DESCRIPTION:La V edición de Aridane Criminal reunirá a escritores\, cinea
 stas\, guionistas e ilustradores en un homenaje especial a su fundador\, A
 lexis Ravelo.\nEl Festival concluye el sábado 25 de enero con el Conciert
 o Especial. Alexis como Letrista de Canciones\, a cargo del cantante de Lo
 s Coquillos\, Ginés Cedrés.\n\nLos Llanos de Aridane acogerá del 22 al 
 25 de enero de 2025 la quinta edición de Aridane Criminal\, un festival q
 ue celebra la literatura negra y policíaca con la participación de 16 au
 tores\, entre escritores\, cineastas\, guionistas e ilustradores.\n\nHabr
 á actividades dirigidas al público joven y un cierre musical a cargo de 
 Ginés Cedrés\, en un evento que ya se ha consolidado como un referente c
 ultural en el municipio. La mayoría de las actividades tendrán lugar en 
 la Casa de la Cultura y en la plaza de España.\n\n\nEl evento se inaugura
 rá el miércoles 22 de enero con una conversación con Víctor del Árbol
 \, una de las voces más destacadas del género\, quien presentará su úl
 tima novela\, El tiempo de las fieras. Un policía a las puertas de la j
 ubilación es desterrado por los suyos hasta la tranquila Lanzarote\, dond
 e deberá pasar los últimos años de su carrera. Lo que no puede imaginar
 \, ni él ni nadie\, es que la investigación del caso del atropello de un
 a joven de diecinueve años originaria del Este va a desenmascarar una tra
 ma de crimen y poder en varias ciudades europeas. En una espiral de intrig
 a que no da tregua al lector...\n\nEse mismo día se proyectará Al rojo 
 vivo (Raoul Walsh\, 1949)\, clásico del cine negro protagonizado por Jam
 es Cagney\, cuya imagen ilustra el cartel de esta edición.\n\n\n\n\nEl ju
 eves 23 estará dedicado al panorama isleño del género negro con autores
  como Bibiana Reyes\, Luis Carlos Castañeda\, José Luis Correa y David C
 abrera\, que presentarán sus últimas obras. Asimismo\, Cristina Higueras
  y Jon Arretxe aportarán su visión al evento. Este último encabezará l
 a sección Recordando al comisario Ravelo\, en homenaje al creador de La
  estrategia del pequinés.\n\n\n\nEl viernes 24 será el turno de escritor
 as como Elsa Plaza\, con Un tango para Emy Langer (A finales de 1931\, po
 co después de la gran fiesta republicana\, se descubre el cadáver de una
  mujer enterrado bajo las baldosas de una pequeña edificación del barrio
  de Llefià\, en Badalona. La historia de un crimen real... (*Reprogramado
  para el jueves 23\, a las 19:00 horas)\nY Victoria González Torralba\, q
 uien presentará su premiada novela Buenos tiempos. Premio Paco Camarasa
  de novela negra 2023. En la España de los años 70\, en pleno despertar 
 turístico\, Laura vive con sus tíos —un hombre autoritario y una mujer
  de carácter áspero— en un pueblo de la costa mediterránea. Para cont
 ribuir a la economía de la casa\, limpia apartamentos y trabaja como cama
 rera en la cantina de Juan Sil\, un tipo oscuro y voluble que\, sin embarg
 o\, constituye su única fuente de afecto. Todo en el destino de la joven 
 parece ya trazado...\nEl cineasta Juan Carlos Fresnadillo participará en 
 la proyección de su mediometraje Esposados junto al actor Pedro María 
 Sánchez. Antonio desea matar a Concha\, su esposa\, pero le falta valor. 
 Un día a Concha le toca la lotería de Navidad\, y los intereses de ambos
  para ver qué hacer con el dinero no coinciden. Ahora\, tiene un buen mot
 ivo para tener valor y dar el paso.\n\n\n\n\n\nEl sábado 25 destacará la
  presentación de la novela gráfica Soy una asesina\, de Pedro Arjona. 
  (Soy una asesina: Una montadora de cine es testigo de un intento de viol
 ación en las afueras de Madrid. Al querer ayudar a la mujer agredida\, ma
 ta al violador golpeándolo con una barra antirrobo de coche. Cuando propo
 ne denunciar los hechos a la policía\, la víctima se niega. Avergonzada 
 y presa de un ataque de pánico\, la convence para ocultar el cadáver y s
 ilenciar el suceso...)\nY la participación del escritor Nii Ayikwi Parkes
 \, en colaboración con Casa África\, que presenta "El enigma del pájaro
  azul". (Sería una historia de la que nadie hablaría si no se hubiera me
 tido en medio el pájaro azul y\, tras él\, la amiga del ministro. Kofi A
 tta\, el cultivador de cacao\, ha desaparecido. ¿Lo han matado? ...)\nEl 
 broche final el mismo sábado 25\, a las 13:00 horas\, con el concierto A
 lexis\, letrista de canciones\, de Ginés Cedrés\, quien interpretará un
  tema especial dedicado a la memoria de Alexis Ravelo\, complementado con 
 material audiovisual.\n\n*Confirma los actos del PROGRAMA aquí\, ya que h
 a habido algún cambio en la programación inicial .
ATTACH;FMTTYPE=image/jpeg:https://www.larevistadelapalma.com/wp-content/up
 loads/2024/11/Aridane-Criminal-25.jpg
CATEGORIES:Cine,Cine y Literatura,Literatura
LOCATION:Plaza de España en Los Llanos de Aridane\, Plaza de España\, Los
  Llanos de Aridane\, 38760\, España
GEO:28.658934;-17.913174
X-APPLE-STRUCTURED-LOCATION;VALUE=URI;X-ADDRESS=Plaza de España\, Los Llan
 os de Aridane\, 38760\, España;X-APPLE-RADIUS=100;X-TITLE=Plaza de Españ
 a en Los Llanos de Aridane:geo:28.658934,-17.913174
END:VEVENT
END:VCALENDAR