BEGIN:VCALENDAR
VERSION:2.0
PRODID:-//wp-events-plugin.com//7.2.3.1//EN
TZID:Europe/London
X-WR-TIMEZONE:Europe/London
BEGIN:VEVENT
UID:3390@larevistadelapalma.com
DTSTART:20241122T160000Z
DTEND:20241122T200000Z
DTSTAMP:20241112T191345Z
URL:https://www.larevistadelapalma.com/events/los-llanos-urban-2024/
SUMMARY:‘Los Llanos Urban 2024’
DESCRIPTION:El deporte y la cultura urbana se dan cita en Los Llanos el pr
 óximo viernes.\n\nEl próximo viernes\, 22 de noviembre\, la Plaza de Esp
 aña de Los Llanos de Aridane se convertirá en el epicentro de la cultura
  urbana con la celebración del evento ‘Los Llanos Urban 2024’.\n\nEst
 e encuentro\, organizado por el Ayuntamiento\, está dirigido a jóvenes y
  amantes del deporte urbano\, ofreciendo una oportunidad única para disfr
 utar de una tarde llena de acción y expresión cultural.\nEntre las activ
 idades programadas\, los asistentes podrán disfrutar de exhibiciones y co
 mpeticiones de skate\, BMX\, parkour\, calistenia y basket 3x3. \nAdemás
 \, la música y el arte urbano estarán presentes con danzas urbanas y una
  batalla de gallos\, que pondrán el toque artístico y vibrante a este ev
 ento.\n\nEl evento se celebrará de 17:00 a 21:00 horas. Desde el Ayuntami
 ento invitan a toda la comunidad\, especialmente a los jóvenes\, a asisti
 r y ser parte de este evento que celebra el talento y la creatividad de la
  juventud.
ATTACH;FMTTYPE=image/jpeg:https://www.larevistadelapalma.com/wp-content/up
 loads/2024/11/Los-Llanos-Urban-22N.jpeg
CATEGORIES:Otras propuestas,Varios
LOCATION:Plaza de España en Los Llanos de Aridane\, Plaza de España\, Los
  Llanos de Aridane\, 38760\, España
GEO:28.658934;-17.913174
X-APPLE-STRUCTURED-LOCATION;VALUE=URI;X-ADDRESS=Plaza de España\, Los Llan
 os de Aridane\, 38760\, España;X-APPLE-RADIUS=100;X-TITLE=Plaza de Españ
 a en Los Llanos de Aridane:geo:28.658934,-17.913174
END:VEVENT
END:VCALENDARBEGIN:VCALENDAR
VERSION:2.0
PRODID:-//wp-events-plugin.com//7.2.3.1//EN
TZID:Europe/London
X-WR-TIMEZONE:Europe/London
BEGIN:VEVENT
UID:3390@larevistadelapalma.com
DTSTART:20241122T160000Z
DTEND:20241122T200000Z
DTSTAMP:20241112T191345Z
URL:https://www.larevistadelapalma.com/events/los-llanos-urban-2024/
SUMMARY:‘Los Llanos Urban 2024’
DESCRIPTION:El deporte y la cultura urbana se dan cita en Los Llanos el pr
 óximo viernes.\n\nEl próximo viernes\, 22 de noviembre\, la Plaza de Esp
 aña de Los Llanos de Aridane se convertirá en el epicentro de la cultura
  urbana con la celebración del evento ‘Los Llanos Urban 2024’.\n\nEst
 e encuentro\, organizado por el Ayuntamiento\, está dirigido a jóvenes y
  amantes del deporte urbano\, ofreciendo una oportunidad única para disfr
 utar de una tarde llena de acción y expresión cultural.\nEntre las activ
 idades programadas\, los asistentes podrán disfrutar de exhibiciones y co
 mpeticiones de skate\, BMX\, parkour\, calistenia y basket 3x3. \nAdemás
 \, la música y el arte urbano estarán presentes con danzas urbanas y una
  batalla de gallos\, que pondrán el toque artístico y vibrante a este ev
 ento.\n\nEl evento se celebrará de 17:00 a 21:00 horas. Desde el Ayuntami
 ento invitan a toda la comunidad\, especialmente a los jóvenes\, a asisti
 r y ser parte de este evento que celebra el talento y la creatividad de la
  juventud.
ATTACH;FMTTYPE=image/jpeg:https://www.larevistadelapalma.com/wp-content/up
 loads/2024/11/Los-Llanos-Urban-22N.jpeg
CATEGORIES:Otras propuestas,Varios
LOCATION:Plaza de España en Los Llanos de Aridane\, Plaza de España\, Los
  Llanos de Aridane\, 38760\, España
GEO:28.658934;-17.913174
X-APPLE-STRUCTURED-LOCATION;VALUE=URI;X-ADDRESS=Plaza de España\, Los Llan
 os de Aridane\, 38760\, España;X-APPLE-RADIUS=100;X-TITLE=Plaza de Españ
 a en Los Llanos de Aridane:geo:28.658934,-17.913174
END:VEVENT
END:VCALENDAR