BEGIN:VCALENDAR
VERSION:2.0
PRODID:-//wp-events-plugin.com//7.2.3.1//EN
TZID:Europe/London
X-WR-TIMEZONE:Europe/London
BEGIN:VEVENT
UID:3776@larevistadelapalma.com
DTSTART:20250614T190000Z
DTEND:20250614T203000Z
DTSTAMP:20250602T203112Z
URL:https://www.larevistadelapalma.com/events/los-miserables-de-habemus-te
 atro-en-el-circo-de-marte/
SUMMARY:Los Miserables\, de Habemus Teatro\, en el Circo de Marte
DESCRIPTION:Basada en la novela de Víctor Hugo.\nLa compañía Habemus Tea
 tro nos trae este clásico basado en la novela de Víctor Hugo.\nAmbientad
 o en el siglo XIX\, narra la historia de Jean Valjean. Condenado en su juv
 entud injusta y duramente por robar un trozo de pan\, y a pesar de su post
 erior redención\, se ve perseguido toda su vida por la justicia.\n\n\nCo
 mprar entradas &gt\;&gt\;
ATTACH;FMTTYPE=image/jpeg:https://www.larevistadelapalma.com/wp-content/up
 loads/2025/06/Los-Miserables-de-Habemus-Teatro.jpg
CATEGORIES:Espectáculos,Teatro
LOCATION:Teatro Circo de Marte\, Calle Virgen de La Luz\, 5\, Santa Cruz de
  La Palma\, 38700\, España
GEO:28.682989;-17.765755
X-APPLE-STRUCTURED-LOCATION;VALUE=URI;X-ADDRESS=Calle Virgen de La Luz\, 5\
 , Santa Cruz de La Palma\, 38700\, España;X-APPLE-RADIUS=100;X-TITLE=Teat
 ro Circo de Marte:geo:28.682989,-17.765755
END:VEVENT
END:VCALENDARBEGIN:VCALENDAR
VERSION:2.0
PRODID:-//wp-events-plugin.com//7.2.3.1//EN
TZID:Europe/London
X-WR-TIMEZONE:Europe/London
BEGIN:VEVENT
UID:3776@larevistadelapalma.com
DTSTART:20250614T190000Z
DTEND:20250614T203000Z
DTSTAMP:20250602T203112Z
URL:https://www.larevistadelapalma.com/events/los-miserables-de-habemus-te
 atro-en-el-circo-de-marte/
SUMMARY:Los Miserables\, de Habemus Teatro\, en el Circo de Marte
DESCRIPTION:Basada en la novela de Víctor Hugo.\nLa compañía Habemus Tea
 tro nos trae este clásico basado en la novela de Víctor Hugo.\nAmbientad
 o en el siglo XIX\, narra la historia de Jean Valjean. Condenado en su juv
 entud injusta y duramente por robar un trozo de pan\, y a pesar de su post
 erior redención\, se ve perseguido toda su vida por la justicia.\n\n\nCo
 mprar entradas &gt\;&gt\;
ATTACH;FMTTYPE=image/jpeg:https://www.larevistadelapalma.com/wp-content/up
 loads/2025/06/Los-Miserables-de-Habemus-Teatro.jpg
CATEGORIES:Espectáculos,Teatro
LOCATION:Teatro Circo de Marte\, Calle Virgen de La Luz\, 5\, Santa Cruz de
  La Palma\, 38700\, España
GEO:28.682989;-17.765755
X-APPLE-STRUCTURED-LOCATION;VALUE=URI;X-ADDRESS=Calle Virgen de La Luz\, 5\
 , Santa Cruz de La Palma\, 38700\, España;X-APPLE-RADIUS=100;X-TITLE=Teat
 ro Circo de Marte:geo:28.682989,-17.765755
END:VEVENT
END:VCALENDAR