BEGIN:VCALENDAR
VERSION:2.0
PRODID:-//wp-events-plugin.com//7.2.3.1//EN
TZID:Europe/London
X-WR-TIMEZONE:Europe/London
BEGIN:VEVENT
UID:3321@larevistadelapalma.com
DTSTART;VALUE=DATE:20241016
DTEND;VALUE=DATE:20241020
DTSTAMP:20241014T171329Z
URL:https://www.larevistadelapalma.com/events/los-nuevos-modos-de-consumo-
 de-la-nicotina-y-el-tratamiento-del-ictus-en-la-semana-cultural-de-la-inve
 stigadora/
SUMMARY:Los nuevos modos de consumo de la nicotina y el tratamiento del ict
 us en la semana cultural de La Investigadora
DESCRIPTION:Las jornadas contarán con una parte musical con el dúo Los Du
 endes y la Rondalla Renacer\, entre otros.\nLas conferencias serán impart
 idas por médicos especialistas.  \nLa Sociedad La Investigadora-Casino 
 de Santa Cruz de La Palma celebra su semana cultural con una serie de acto
 s que incluyen conferencias\, un concierto y el festival Ateados\, dedicad
 o a las músicas de La Palma. La centenaria sociedad de la capital palmera
  conmemora así su 139º aniversario en unas jornadas organizadas en colab
 oración con la Consejería de Cultura y Patrimonio Histórico del Cabildo
  de La Palma y la Concejalía de Cultura del Ayuntamiento de Santa Cruz de
  La Palma.\n\nLas jornadas se abrirán este miércoles 16 a las 20:15 con 
 la conferencia del médico estomatólogo Francisco Rodríguez Lozano\, tit
 ulada “El engaño de las nuevas formas de consumo de nicotina”. \n\nE
 l jueves 17\, también a las 20:15 horas\, le tocará el turno al dúo Los
  Duendes\, formado por Esteban San Juan y José Francisco Bethencourt\, en
  una velada musical centrada en el cancionero popular.\n\nEl viernes 18\, 
 a las 20:15\, tendrá lugar la conferencia de Carlos López Fernández\, m
 édico neurólogo\, que disertará sobre “El ictus en el siglo XXI: un r
 eto diagnóstico y terapéutico”.\n\nPor último el sábado 19\, comenza
 ndo a las 12:00 horas\, tendrá lugar la primera edición de Ateados: Fest
 ival de Músicas de La Palma\, el título del festival\, Ateados\, se rela
 ciona con la expresión del habla popular de La Palma referida a sabor de 
 la madera de tea. También contarán con la participación de un grupo mus
 ical de viento de la Banda San Miguel\, la Asociación Cultural Mascarones
 \, la Agrupación de Castañuelas de Breña Alta (13:00 horas) y la actuac
 ión de la rondalla Renacer (20:00 horas). 
ATTACH;FMTTYPE=image/jpeg:https://www.larevistadelapalma.com/wp-content/up
 loads/2023/06/31_Sociedad-Investigadora.png
CATEGORIES:Otras propuestas,Varios
LOCATION:Casino de Santa Cruz de La Palma\,  C. Anselmo Pérez de Brito\, 1
 5\, Santa Cruz De La Palma\, Santa Cruz de Tenerife\, 38700\, España
GEO:28.684234;-17.7638
X-APPLE-STRUCTURED-LOCATION;VALUE=URI;X-ADDRESS= C. Anselmo Pérez de Brito
 \, 15\, Santa Cruz De La Palma\, Santa Cruz de Tenerife\, 38700\, España;
 X-APPLE-RADIUS=100;X-TITLE=Casino de Santa Cruz de La Palma:geo:28.684234,
 -17.7638
END:VEVENT
END:VCALENDARBEGIN:VCALENDAR
VERSION:2.0
PRODID:-//wp-events-plugin.com//7.2.3.1//EN
TZID:Europe/London
X-WR-TIMEZONE:Europe/London
BEGIN:VEVENT
UID:3321@larevistadelapalma.com
DTSTART;VALUE=DATE:20241016
DTEND;VALUE=DATE:20241020
DTSTAMP:20241014T171329Z
URL:https://www.larevistadelapalma.com/events/los-nuevos-modos-de-consumo-
 de-la-nicotina-y-el-tratamiento-del-ictus-en-la-semana-cultural-de-la-inve
 stigadora/
SUMMARY:Los nuevos modos de consumo de la nicotina y el tratamiento del ict
 us en la semana cultural de La Investigadora
DESCRIPTION:Las jornadas contarán con una parte musical con el dúo Los Du
 endes y la Rondalla Renacer\, entre otros.\nLas conferencias serán impart
 idas por médicos especialistas.  \nLa Sociedad La Investigadora-Casino 
 de Santa Cruz de La Palma celebra su semana cultural con una serie de acto
 s que incluyen conferencias\, un concierto y el festival Ateados\, dedicad
 o a las músicas de La Palma. La centenaria sociedad de la capital palmera
  conmemora así su 139º aniversario en unas jornadas organizadas en colab
 oración con la Consejería de Cultura y Patrimonio Histórico del Cabildo
  de La Palma y la Concejalía de Cultura del Ayuntamiento de Santa Cruz de
  La Palma.\n\nLas jornadas se abrirán este miércoles 16 a las 20:15 con 
 la conferencia del médico estomatólogo Francisco Rodríguez Lozano\, tit
 ulada “El engaño de las nuevas formas de consumo de nicotina”. \n\nE
 l jueves 17\, también a las 20:15 horas\, le tocará el turno al dúo Los
  Duendes\, formado por Esteban San Juan y José Francisco Bethencourt\, en
  una velada musical centrada en el cancionero popular.\n\nEl viernes 18\, 
 a las 20:15\, tendrá lugar la conferencia de Carlos López Fernández\, m
 édico neurólogo\, que disertará sobre “El ictus en el siglo XXI: un r
 eto diagnóstico y terapéutico”.\n\nPor último el sábado 19\, comenza
 ndo a las 12:00 horas\, tendrá lugar la primera edición de Ateados: Fest
 ival de Músicas de La Palma\, el título del festival\, Ateados\, se rela
 ciona con la expresión del habla popular de La Palma referida a sabor de 
 la madera de tea. También contarán con la participación de un grupo mus
 ical de viento de la Banda San Miguel\, la Asociación Cultural Mascarones
 \, la Agrupación de Castañuelas de Breña Alta (13:00 horas) y la actuac
 ión de la rondalla Renacer (20:00 horas). 
ATTACH;FMTTYPE=image/jpeg:https://www.larevistadelapalma.com/wp-content/up
 loads/2023/06/31_Sociedad-Investigadora.png
CATEGORIES:Otras propuestas,Varios
LOCATION:Casino de Santa Cruz de La Palma\,  C. Anselmo Pérez de Brito\, 1
 5\, Santa Cruz De La Palma\, Santa Cruz de Tenerife\, 38700\, España
GEO:28.684234;-17.7638
X-APPLE-STRUCTURED-LOCATION;VALUE=URI;X-ADDRESS= C. Anselmo Pérez de Brito
 \, 15\, Santa Cruz De La Palma\, Santa Cruz de Tenerife\, 38700\, España;
 X-APPLE-RADIUS=100;X-TITLE=Casino de Santa Cruz de La Palma:geo:28.684234,
 -17.7638
END:VEVENT
END:VCALENDAR