BEGIN:VCALENDAR
VERSION:2.0
PRODID:-//wp-events-plugin.com//7.2.3.1//EN
TZID:Europe/London
X-WR-TIMEZONE:Europe/London
BEGIN:VEVENT
UID:3611@larevistadelapalma.com
DTSTART:20250622T190000Z
DTEND:20250622T204500Z
DTSTAMP:20250220T233158Z
URL:https://www.larevistadelapalma.com/events/los-sabandenos-con-olga-cerp
 a-y-mestisay-en-la-palma/
SUMMARY:Los Sabandeños con Olga Cerpa y Mestisay en La Palma
DESCRIPTION:Este evento único\, protagonizado por Elfidio Alonso y Manuel 
 González\, te ofrece una noche llena de música\, tradición y cultura ca
 naria. Disfruta de las actuaciones especiales de Los Sabandeños con Olga
  Cerpa y Mestisay\, que te transportarán a las raíces musicales de las I
 slas Canarias.\nComprar entradas &gt\;&gt\;\n
ATTACH;FMTTYPE=image/jpeg:https://www.larevistadelapalma.com/wp-content/up
 loads/2025/02/Sabandenos-olga-cerpa.jpeg
CATEGORIES:Conciertos,Música
LOCATION:Municipio de Santa Cruz de La Palma\, Santa Cruz de La Palma \, Sa
 nta Cruz de La Palma \, 38700\, España
GEO:28.688757;-17.765102
X-APPLE-STRUCTURED-LOCATION;VALUE=URI;X-ADDRESS=Santa Cruz de La Palma \, S
 anta Cruz de La Palma \, 38700\, España;X-APPLE-RADIUS=100;X-TITLE=Munici
 pio de Santa Cruz de La Palma:geo:28.688757,-17.765102
END:VEVENT
END:VCALENDARBEGIN:VCALENDAR
VERSION:2.0
PRODID:-//wp-events-plugin.com//7.2.3.1//EN
TZID:Europe/London
X-WR-TIMEZONE:Europe/London
BEGIN:VEVENT
UID:3611@larevistadelapalma.com
DTSTART:20250622T190000Z
DTEND:20250622T204500Z
DTSTAMP:20250220T233158Z
URL:https://www.larevistadelapalma.com/events/los-sabandenos-con-olga-cerp
 a-y-mestisay-en-la-palma/
SUMMARY:Los Sabandeños con Olga Cerpa y Mestisay en La Palma
DESCRIPTION:Este evento único\, protagonizado por Elfidio Alonso y Manuel 
 González\, te ofrece una noche llena de música\, tradición y cultura ca
 naria. Disfruta de las actuaciones especiales de Los Sabandeños con Olga
  Cerpa y Mestisay\, que te transportarán a las raíces musicales de las I
 slas Canarias.\nComprar entradas &gt\;&gt\;\n
ATTACH;FMTTYPE=image/jpeg:https://www.larevistadelapalma.com/wp-content/up
 loads/2025/02/Sabandenos-olga-cerpa.jpeg
CATEGORIES:Conciertos,Música
LOCATION:Municipio de Santa Cruz de La Palma\, Santa Cruz de La Palma \, Sa
 nta Cruz de La Palma \, 38700\, España
GEO:28.688757;-17.765102
X-APPLE-STRUCTURED-LOCATION;VALUE=URI;X-ADDRESS=Santa Cruz de La Palma \, S
 anta Cruz de La Palma \, 38700\, España;X-APPLE-RADIUS=100;X-TITLE=Munici
 pio de Santa Cruz de La Palma:geo:28.688757,-17.765102
END:VEVENT
END:VCALENDAR