BEGIN:VCALENDAR
VERSION:2.0
PRODID:-//wp-events-plugin.com//7.2.3.1//EN
TZID:Europe/London
X-WR-TIMEZONE:Europe/London
BEGIN:VEVENT
UID:3213@larevistadelapalma.com
DTSTART:20240905T200000Z
DTEND:20240905T214500Z
DTSTAMP:20240902T231434Z
URL:https://www.larevistadelapalma.com/events/los-salvapantallas-y-fijo-di
 scontinuo-comienzan-las-actuaciones-del-rock-road/
SUMMARY:Los Salvapantallas y Fijo Discontínuo comienzan las actuaciones de
 l Rock & Road
DESCRIPTION:\nEste jueves\, 5 de septiembre\, a las 21:00 horas\, en la Pla
 za de Montserrat\, concierto de entrada libre\, de Los Salvapantallas y Fi
 jo Discontinuo\, dentro del Festival Rock &amp\; Road La Palma. \nAl día 
 siguiente\, Puerto Espíndola será el escenario de concierto de El Droga
 s (Barricada 40) y la banda revelación La La Love You.\n\n\n\n
ATTACH;FMTTYPE=image/jpeg:https://www.larevistadelapalma.com/wp-content/up
 loads/2024/09/Pre-Rock-and-Road.jpg
CATEGORIES:Festivales/Fiestas,Música
LOCATION:Plaza de Montserrat en San Andrés y Sauces\, Calle Montserrat\, S
 an Andrés y Sauces\, 38729\, España
GEO:28.784222;-17.799155
X-APPLE-STRUCTURED-LOCATION;VALUE=URI;X-ADDRESS=Calle Montserrat\, San Andr
 és y Sauces\, 38729\, España;X-APPLE-RADIUS=100;X-TITLE=Plaza de Montser
 rat en San Andrés y Sauces:geo:28.784222,-17.799155
END:VEVENT
END:VCALENDARBEGIN:VCALENDAR
VERSION:2.0
PRODID:-//wp-events-plugin.com//7.2.3.1//EN
TZID:Europe/London
X-WR-TIMEZONE:Europe/London
BEGIN:VEVENT
UID:3213@larevistadelapalma.com
DTSTART:20240905T200000Z
DTEND:20240905T214500Z
DTSTAMP:20240902T231434Z
URL:https://www.larevistadelapalma.com/events/los-salvapantallas-y-fijo-di
 scontinuo-comienzan-las-actuaciones-del-rock-road/
SUMMARY:Los Salvapantallas y Fijo Discontínuo comienzan las actuaciones de
 l Rock & Road
DESCRIPTION:\nEste jueves\, 5 de septiembre\, a las 21:00 horas\, en la Pla
 za de Montserrat\, concierto de entrada libre\, de Los Salvapantallas y Fi
 jo Discontinuo\, dentro del Festival Rock &amp\; Road La Palma. \nAl día 
 siguiente\, Puerto Espíndola será el escenario de concierto de El Droga
 s (Barricada 40) y la banda revelación La La Love You.\n\n\n\n
ATTACH;FMTTYPE=image/jpeg:https://www.larevistadelapalma.com/wp-content/up
 loads/2024/09/Pre-Rock-and-Road.jpg
CATEGORIES:Festivales/Fiestas,Música
LOCATION:Plaza de Montserrat en San Andrés y Sauces\, Calle Montserrat\, S
 an Andrés y Sauces\, 38729\, España
GEO:28.784222;-17.799155
X-APPLE-STRUCTURED-LOCATION;VALUE=URI;X-ADDRESS=Calle Montserrat\, San Andr
 és y Sauces\, 38729\, España;X-APPLE-RADIUS=100;X-TITLE=Plaza de Montser
 rat en San Andrés y Sauces:geo:28.784222,-17.799155
END:VEVENT
END:VCALENDAR