BEGIN:VCALENDAR
VERSION:2.0
PRODID:-//wp-events-plugin.com//7.2.3.1//EN
TZID:Europe/London
X-WR-TIMEZONE:Europe/London
BEGIN:VEVENT
UID:612@larevistadelapalma.com
DTSTART:20230901T210000Z
DTEND:20230901T225900Z
DTSTAMP:20230827T180238Z
URL:https://www.larevistadelapalma.com/events/los-secretos-en-concierto-en
 -santa-cruz-de-la-palma/
SUMMARY:Los Secretos en concierto en Santa Cruz de La Palma
DESCRIPTION:El Ayuntamiento capitalino comienza la agenda de septiembre con
  el concierto de Los Secretos. El conocido grupo pop español se puede def
 inir sin lugar a dudas como una banda de largo recorrido\,
ATTACH;FMTTYPE=image/jpeg:https://www.larevistadelapalma.com/wp-content/up
 loads/2023/08/Los-Secretos-q.jpeg
CATEGORIES:Conciertos,Música
LOCATION:Municipio de Santa Cruz de La Palma\, Santa Cruz de La Palma \, Sa
 nta Cruz de La Palma \, 38700\, España
GEO:28.688757;-17.765102
X-APPLE-STRUCTURED-LOCATION;VALUE=URI;X-ADDRESS=Santa Cruz de La Palma \, S
 anta Cruz de La Palma \, 38700\, España;X-APPLE-RADIUS=100;X-TITLE=Munici
 pio de Santa Cruz de La Palma:geo:28.688757,-17.765102
END:VEVENT
END:VCALENDARBEGIN:VCALENDAR
VERSION:2.0
PRODID:-//wp-events-plugin.com//7.2.3.1//EN
TZID:Europe/London
X-WR-TIMEZONE:Europe/London
BEGIN:VEVENT
UID:612@larevistadelapalma.com
DTSTART:20230901T210000Z
DTEND:20230901T225900Z
DTSTAMP:20230827T180238Z
URL:https://www.larevistadelapalma.com/events/los-secretos-en-concierto-en
 -santa-cruz-de-la-palma/
SUMMARY:Los Secretos en concierto en Santa Cruz de La Palma
DESCRIPTION:El Ayuntamiento capitalino comienza la agenda de septiembre con
  el concierto de Los Secretos. El conocido grupo pop español se puede def
 inir sin lugar a dudas como una banda de largo recorrido\,
ATTACH;FMTTYPE=image/jpeg:https://www.larevistadelapalma.com/wp-content/up
 loads/2023/08/Los-Secretos-q.jpeg
CATEGORIES:Conciertos,Música
LOCATION:Municipio de Santa Cruz de La Palma\, Santa Cruz de La Palma \, Sa
 nta Cruz de La Palma \, 38700\, España
GEO:28.688757;-17.765102
X-APPLE-STRUCTURED-LOCATION;VALUE=URI;X-ADDRESS=Santa Cruz de La Palma \, S
 anta Cruz de La Palma \, 38700\, España;X-APPLE-RADIUS=100;X-TITLE=Munici
 pio de Santa Cruz de La Palma:geo:28.688757,-17.765102
END:VEVENT
END:VCALENDAR