BEGIN:VCALENDAR
VERSION:2.0
PRODID:-//wp-events-plugin.com//7.2.3.1//EN
TZID:Europe/London
X-WR-TIMEZONE:Europe/London
BEGIN:VEVENT
UID:4420@larevistadelapalma.com
DTSTART:20251220T110000Z
DTEND:20251220T121500Z
DTSTAMP:20251218T185823Z
URL:https://www.larevistadelapalma.com/events/los-telenecos-en-cuento-de-n
 avidad/
SUMMARY:Los teleñecos en Cuento de Navidad
DESCRIPTION:\nLa Filmoteca de Navidad llega este sábado a La Palma con la 
 versión de un clásico de Charles Dickens de la manera más divertida que
  te puedas imaginar: Los teleñecos en Cuento de Navidad.\n\n\n\nEn la ví
 spera de Navidad\, el avaro Ebenezer Scrooge recibe la visita de tres fant
 asmas que lo llevan a un viaje por su pasado\, su presente y su futuro. Co
 n nada menos que Michael Caine dando vida al avaro Mr. Scrooge.\n\n\n\nPor
  supuesto\, apta para todos los públicos.\n\n\n\nPara los que no lo sepan
 \, jóvenes almas\, Los Muppets (teleñecos) fue una franquicia de medios 
 estadounidense centrado en un grupo de títeres creados por la compañía 
 del estadounidense Jim Henson en 1955.​ Alcanzaron la fama internacional
  en un programa de televisión\, que se mantuvo en antena durante muchos a
 ños. Estos pequeños seres de fieltro fueron conocidos en Espala por una 
 sección dentro del programa 'Un globo\, dos globos\, tres globos' allá p
 or 1975. Más tarde formaban parte del programa infantil Barrio Sésamo.\n
 \n¿Tienes curiosidad por la historia de estos peludos y queridos personaj
 es? Pues en este artículo se remontan a los comienzos de la Rana Gustavo 
 (René)\, la cerdita Peggy\, Gonzo...\n\n\n
ATTACH;FMTTYPE=image/jpeg:https://www.larevistadelapalma.com/wp-content/up
 loads/2025/12/Los-telenecos-en-cuento-de-navidad.jpg
CATEGORIES:Cine,Cine y Literatura
LOCATION:Espacio Cultural CajaCanarias La Palma\, Plaza de España\, 3\, Sa
 nta Cruz De La Palma\, Santa Cruz de Tenerife\, 38700\, España
GEO:28.683481;-17.764831
X-APPLE-STRUCTURED-LOCATION;VALUE=URI;X-ADDRESS=Plaza de España\, 3\, Sant
 a Cruz De La Palma\, Santa Cruz de Tenerife\, 38700\, España;X-APPLE-RADI
 US=100;X-TITLE=Espacio Cultural CajaCanarias La Palma:geo:28.683481,-17.76
 4831
END:VEVENT
END:VCALENDARBEGIN:VCALENDAR
VERSION:2.0
PRODID:-//wp-events-plugin.com//7.2.3.1//EN
TZID:Europe/London
X-WR-TIMEZONE:Europe/London
BEGIN:VEVENT
UID:4420@larevistadelapalma.com
DTSTART:20251220T110000Z
DTEND:20251220T121500Z
DTSTAMP:20251218T185823Z
URL:https://www.larevistadelapalma.com/events/los-telenecos-en-cuento-de-n
 avidad/
SUMMARY:Los teleñecos en Cuento de Navidad
DESCRIPTION:\nLa Filmoteca de Navidad llega este sábado a La Palma con la 
 versión de un clásico de Charles Dickens de la manera más divertida que
  te puedas imaginar: Los teleñecos en Cuento de Navidad.\n\n\n\nEn la ví
 spera de Navidad\, el avaro Ebenezer Scrooge recibe la visita de tres fant
 asmas que lo llevan a un viaje por su pasado\, su presente y su futuro. Co
 n nada menos que Michael Caine dando vida al avaro Mr. Scrooge.\n\n\n\nPor
  supuesto\, apta para todos los públicos.\n\n\n\nPara los que no lo sepan
 \, jóvenes almas\, Los Muppets (teleñecos) fue una franquicia de medios 
 estadounidense centrado en un grupo de títeres creados por la compañía 
 del estadounidense Jim Henson en 1955.​ Alcanzaron la fama internacional
  en un programa de televisión\, que se mantuvo en antena durante muchos a
 ños. Estos pequeños seres de fieltro fueron conocidos en Espala por una 
 sección dentro del programa 'Un globo\, dos globos\, tres globos' allá p
 or 1975. Más tarde formaban parte del programa infantil Barrio Sésamo.\n
 \n¿Tienes curiosidad por la historia de estos peludos y queridos personaj
 es? Pues en este artículo se remontan a los comienzos de la Rana Gustavo 
 (René)\, la cerdita Peggy\, Gonzo...\n\n\n
ATTACH;FMTTYPE=image/jpeg:https://www.larevistadelapalma.com/wp-content/up
 loads/2025/12/Los-telenecos-en-cuento-de-navidad.jpg
CATEGORIES:Cine,Cine y Literatura
LOCATION:Espacio Cultural CajaCanarias La Palma\, Plaza de España\, 3\, Sa
 nta Cruz De La Palma\, Santa Cruz de Tenerife\, 38700\, España
GEO:28.683481;-17.764831
X-APPLE-STRUCTURED-LOCATION;VALUE=URI;X-ADDRESS=Plaza de España\, 3\, Sant
 a Cruz De La Palma\, Santa Cruz de Tenerife\, 38700\, España;X-APPLE-RADI
 US=100;X-TITLE=Espacio Cultural CajaCanarias La Palma:geo:28.683481,-17.76
 4831
END:VEVENT
END:VCALENDAR