BEGIN:VCALENDAR
VERSION:2.0
PRODID:-//wp-events-plugin.com//7.2.3.1//EN
TZID:Europe/London
X-WR-TIMEZONE:Europe/London
BEGIN:VEVENT
UID:142@larevistadelapalma.com
DTSTART:20230707T203000Z
DTEND:20230707T225900Z
DTSTAMP:20230703T172509Z
URL:https://www.larevistadelapalma.com/events/love-edition-tasca-la-marmot
 a/
SUMMARY:Love Edition Tasca La Marmota
DESCRIPTION:La mejor manera de calentar para el macroconcierto del Isla Bon
 ita Love Festival. Allí estarán GrajaSound junto a Benito Elvira.
ATTACH;FMTTYPE=image/jpeg:https://www.larevistadelapalma.com/wp-content/up
 loads/2023/07/Tasca-Marmota-Love-Edition.jpg
CATEGORIES:Conciertos,Música
LOCATION:Tasca La Marmota\, Av de la Constitución\, número 1\, Tazacorte\
 , 38770\, España
GEO:28.643843;-17.933605
X-APPLE-STRUCTURED-LOCATION;VALUE=URI;X-ADDRESS=Av de la Constitución\, n
 úmero 1\, Tazacorte\, 38770\, España;X-APPLE-RADIUS=100;X-TITLE=Tasca La
  Marmota:geo:28.643843,-17.933605
END:VEVENT
END:VCALENDARBEGIN:VCALENDAR
VERSION:2.0
PRODID:-//wp-events-plugin.com//7.2.3.1//EN
TZID:Europe/London
X-WR-TIMEZONE:Europe/London
BEGIN:VEVENT
UID:142@larevistadelapalma.com
DTSTART:20230707T203000Z
DTEND:20230707T225900Z
DTSTAMP:20230703T172509Z
URL:https://www.larevistadelapalma.com/events/love-edition-tasca-la-marmot
 a/
SUMMARY:Love Edition Tasca La Marmota
DESCRIPTION:La mejor manera de calentar para el macroconcierto del Isla Bon
 ita Love Festival. Allí estarán GrajaSound junto a Benito Elvira.
ATTACH;FMTTYPE=image/jpeg:https://www.larevistadelapalma.com/wp-content/up
 loads/2023/07/Tasca-Marmota-Love-Edition.jpg
CATEGORIES:Conciertos,Música
LOCATION:Tasca La Marmota\, Av de la Constitución\, número 1\, Tazacorte\
 , 38770\, España
GEO:28.643843;-17.933605
X-APPLE-STRUCTURED-LOCATION;VALUE=URI;X-ADDRESS=Av de la Constitución\, n
 úmero 1\, Tazacorte\, 38770\, España;X-APPLE-RADIUS=100;X-TITLE=Tasca La
  Marmota:geo:28.643843,-17.933605
END:VEVENT
END:VCALENDAR