BEGIN:VCALENDAR
VERSION:2.0
PRODID:-//wp-events-plugin.com//7.2.3.1//EN
TZID:Europe/London
X-WR-TIMEZONE:Europe/London
BEGIN:VEVENT
UID:3778@larevistadelapalma.com
DTSTART:20250715T203000Z
DTEND:20250715T220000Z
DTSTAMP:20250714T174243Z
URL:https://www.larevistadelapalma.com/events/luisa-fernanda-la-zarzuela/
SUMMARY:Luisa Fernanda: La Zarzuela
DESCRIPTION:Con la dirección de escena de Ximo Solano y la dirección musi
 cal a cargo de Isabel Costes.\n\nUna de las zarzuelas más emblemáticas y
  populares de la historia\, reconocida por su belleza musical y su histori
 a conmovedora. Se estrenó en el Teatro Calderón de Madrid\, en el año 1
 932.\n\nEl espectáculo forma parte de la temporada de Zarzuela del Atlán
 tico y se enmarca además en el XI Festival Internacional de Música Espa
 ñola y Zarzuela de La Palma\, un evento que\, por primera vez desde su cr
 eación en 2015\, coincide con la celebración lustral de la Bajada de la 
 Virgen.\n\nDirigida musicalmente por Isabel Costes y escénicamente por Xi
 mo Solano\, esta producción reúne a un elenco de más de 80 artistas -en
 tre cantantes\, actores y músicos- que recreará el ambiente vibrante del
  Madrid de 1868.\n\nSerá interpretada por un elenco profesional integrado
  por jóvenes talentos nacionales e internacionales\, muchos de ellos inte
 grantes del programa artístico de alto rendimiento “Zarzuela Estudio In
 ternacional”. Estarán acompañados por la Orquesta Sinfónica Juvenil d
 el Atlántico\, reforzada en esta ocasión con músicos invitados de la Or
 questa Juvenil Nacional del SODRE de Uruguay.\nEntradas &gt\;&gt\;
ATTACH;FMTTYPE=image/jpeg:https://www.larevistadelapalma.com/wp-content/up
 loads/2025/06/Luisa-Fernanda-La-Zarzuela.jpeg
CATEGORIES:Espectáculos
END:VEVENT
END:VCALENDARBEGIN:VCALENDAR
VERSION:2.0
PRODID:-//wp-events-plugin.com//7.2.3.1//EN
TZID:Europe/London
X-WR-TIMEZONE:Europe/London
BEGIN:VEVENT
UID:3778@larevistadelapalma.com
DTSTART:20250715T203000Z
DTEND:20250715T220000Z
DTSTAMP:20250714T174243Z
URL:https://www.larevistadelapalma.com/events/luisa-fernanda-la-zarzuela/
SUMMARY:Luisa Fernanda: La Zarzuela
DESCRIPTION:Con la dirección de escena de Ximo Solano y la dirección musi
 cal a cargo de Isabel Costes.\n\nUna de las zarzuelas más emblemáticas y
  populares de la historia\, reconocida por su belleza musical y su histori
 a conmovedora. Se estrenó en el Teatro Calderón de Madrid\, en el año 1
 932.\n\nEl espectáculo forma parte de la temporada de Zarzuela del Atlán
 tico y se enmarca además en el XI Festival Internacional de Música Espa
 ñola y Zarzuela de La Palma\, un evento que\, por primera vez desde su cr
 eación en 2015\, coincide con la celebración lustral de la Bajada de la 
 Virgen.\n\nDirigida musicalmente por Isabel Costes y escénicamente por Xi
 mo Solano\, esta producción reúne a un elenco de más de 80 artistas -en
 tre cantantes\, actores y músicos- que recreará el ambiente vibrante del
  Madrid de 1868.\n\nSerá interpretada por un elenco profesional integrado
  por jóvenes talentos nacionales e internacionales\, muchos de ellos inte
 grantes del programa artístico de alto rendimiento “Zarzuela Estudio In
 ternacional”. Estarán acompañados por la Orquesta Sinfónica Juvenil d
 el Atlántico\, reforzada en esta ocasión con músicos invitados de la Or
 questa Juvenil Nacional del SODRE de Uruguay.\nEntradas &gt\;&gt\;
ATTACH;FMTTYPE=image/jpeg:https://www.larevistadelapalma.com/wp-content/up
 loads/2025/06/Luisa-Fernanda-La-Zarzuela.jpeg
CATEGORIES:Espectáculos
END:VEVENT
END:VCALENDAR