BEGIN:VCALENDAR
VERSION:2.0
PRODID:-//wp-events-plugin.com//7.2.3.1//EN
TZID:Europe/London
X-WR-TIMEZONE:Europe/London
BEGIN:VEVENT
UID:4424@larevistadelapalma.com
DTSTART:20251222T180000Z
DTEND:20251222T191500Z
DTSTAMP:20251219T160225Z
URL:https://www.larevistadelapalma.com/events/luna-miguel-los-llanos/
SUMMARY:Encuentro con la escritora Luna Miguel. Los Llanos de Aridane
DESCRIPTION:Luna Miguel hablará de Incensurable\, obra en la que vuelve a 
 una de sus obsesiones literarias\, la reinterpretación y defensa de Lolit
 a\, explorando las tensiones entre lectura\, censura y placer estético qu
 e atraviesan nuestro presente cultural. 
ATTACH;FMTTYPE=image/jpeg:https://www.larevistadelapalma.com/wp-content/up
 loads/2025/12/Luna-Miguel-incensurable.jpg
CATEGORIES:Cine y Literatura,Literatura
LOCATION:Casa de La Cultura de Los Llanos de Aridane\, : C. Real\, 8\, Los 
 Llanos de Aridane \, 38760\, España
GEO:28.658651;-17.913512
X-APPLE-STRUCTURED-LOCATION;VALUE=URI;X-ADDRESS=: C. Real\, 8\, Los Llanos 
 de Aridane \, 38760\, España;X-APPLE-RADIUS=100;X-TITLE=Casa de La Cultur
 a de Los Llanos de Aridane:geo:28.658651,-17.913512
END:VEVENT
END:VCALENDARBEGIN:VCALENDAR
VERSION:2.0
PRODID:-//wp-events-plugin.com//7.2.3.1//EN
TZID:Europe/London
X-WR-TIMEZONE:Europe/London
BEGIN:VEVENT
UID:4424@larevistadelapalma.com
DTSTART:20251222T180000Z
DTEND:20251222T191500Z
DTSTAMP:20251219T160225Z
URL:https://www.larevistadelapalma.com/events/luna-miguel-los-llanos/
SUMMARY:Encuentro con la escritora Luna Miguel. Los Llanos de Aridane
DESCRIPTION:Luna Miguel hablará de Incensurable\, obra en la que vuelve a 
 una de sus obsesiones literarias\, la reinterpretación y defensa de Lolit
 a\, explorando las tensiones entre lectura\, censura y placer estético qu
 e atraviesan nuestro presente cultural. 
ATTACH;FMTTYPE=image/jpeg:https://www.larevistadelapalma.com/wp-content/up
 loads/2025/12/Luna-Miguel-incensurable.jpg
CATEGORIES:Cine y Literatura,Literatura
LOCATION:Casa de La Cultura de Los Llanos de Aridane\, : C. Real\, 8\, Los 
 Llanos de Aridane \, 38760\, España
GEO:28.658651;-17.913512
X-APPLE-STRUCTURED-LOCATION;VALUE=URI;X-ADDRESS=: C. Real\, 8\, Los Llanos 
 de Aridane \, 38760\, España;X-APPLE-RADIUS=100;X-TITLE=Casa de La Cultur
 a de Los Llanos de Aridane:geo:28.658651,-17.913512
END:VEVENT
END:VCALENDAR