BEGIN:VCALENDAR
VERSION:2.0
PRODID:-//wp-events-plugin.com//7.2.3.1//EN
TZID:Europe/London
X-WR-TIMEZONE:Europe/London
BEGIN:VEVENT
UID:3084@larevistadelapalma.com
DTSTART:20240720T193000Z
DTEND:20240720T210000Z
DTSTAMP:20240618T223524Z
URL:https://www.larevistadelapalma.com/events/macaca-radiata-presenta-aun-
 nos-queda-tiempo-en-el-circo-de-marte/
SUMMARY:Macaca Radiata presenta "Aún nos queda tiempo" en el Circo de Mart
 e
DESCRIPTION:El dúo musical compuesto por Sonia Martell y Jorge Pérez pres
 entan su primer disco\, "Aún nos queda tiempo"\, en el que han estado tra
 bajando durante más de un año.\n\nUn trabajo que cuenta con un gran núm
 ero de músicos de talla nacional e internacional que han querido involucr
 arse en el proyecto como Sergio Valdehita\, pianista de Sidecars\, Maia Pr
 ieto\, violinista de Jorge Drexler\, Juan  Klas\, saxofonista y director 
 de la orquesta Ensembles Buenos Aires…\n\nRealizarán una gira para tras
 ladar este trabajo a los directos. En esta presentación se contará con u
 na banda dirigida por Julio Pacheco y que estará formada por percusión\,
  metales (saxofón)\, guitarras\, bajo\, teclados\, violín\, coros y voz 
 principal procedentes de Gran Canaria.\n\nEntrada gratuita previa retirada
  de invitaciones en la taquilla del teatro.
ATTACH;FMTTYPE=image/jpeg:https://www.larevistadelapalma.com/wp-content/up
 loads/2024/06/Aun-nos-queda-tiempo.webp
CATEGORIES:Conciertos,Música
LOCATION:Teatro Circo de Marte\, Calle Virgen de La Luz\, 5\, Santa Cruz de
  La Palma\, 38700\, España
GEO:28.682989;-17.765755
X-APPLE-STRUCTURED-LOCATION;VALUE=URI;X-ADDRESS=Calle Virgen de La Luz\, 5\
 , Santa Cruz de La Palma\, 38700\, España;X-APPLE-RADIUS=100;X-TITLE=Teat
 ro Circo de Marte:geo:28.682989,-17.765755
END:VEVENT
END:VCALENDARBEGIN:VCALENDAR
VERSION:2.0
PRODID:-//wp-events-plugin.com//7.2.3.1//EN
TZID:Europe/London
X-WR-TIMEZONE:Europe/London
BEGIN:VEVENT
UID:3084@larevistadelapalma.com
DTSTART:20240720T193000Z
DTEND:20240720T210000Z
DTSTAMP:20240618T223524Z
URL:https://www.larevistadelapalma.com/events/macaca-radiata-presenta-aun-
 nos-queda-tiempo-en-el-circo-de-marte/
SUMMARY:Macaca Radiata presenta "Aún nos queda tiempo" en el Circo de Mart
 e
DESCRIPTION:El dúo musical compuesto por Sonia Martell y Jorge Pérez pres
 entan su primer disco\, "Aún nos queda tiempo"\, en el que han estado tra
 bajando durante más de un año.\n\nUn trabajo que cuenta con un gran núm
 ero de músicos de talla nacional e internacional que han querido involucr
 arse en el proyecto como Sergio Valdehita\, pianista de Sidecars\, Maia Pr
 ieto\, violinista de Jorge Drexler\, Juan  Klas\, saxofonista y director 
 de la orquesta Ensembles Buenos Aires…\n\nRealizarán una gira para tras
 ladar este trabajo a los directos. En esta presentación se contará con u
 na banda dirigida por Julio Pacheco y que estará formada por percusión\,
  metales (saxofón)\, guitarras\, bajo\, teclados\, violín\, coros y voz 
 principal procedentes de Gran Canaria.\n\nEntrada gratuita previa retirada
  de invitaciones en la taquilla del teatro.
ATTACH;FMTTYPE=image/jpeg:https://www.larevistadelapalma.com/wp-content/up
 loads/2024/06/Aun-nos-queda-tiempo.webp
CATEGORIES:Conciertos,Música
LOCATION:Teatro Circo de Marte\, Calle Virgen de La Luz\, 5\, Santa Cruz de
  La Palma\, 38700\, España
GEO:28.682989;-17.765755
X-APPLE-STRUCTURED-LOCATION;VALUE=URI;X-ADDRESS=Calle Virgen de La Luz\, 5\
 , Santa Cruz de La Palma\, 38700\, España;X-APPLE-RADIUS=100;X-TITLE=Teat
 ro Circo de Marte:geo:28.682989,-17.765755
END:VEVENT
END:VCALENDAR