BEGIN:VCALENDAR
VERSION:2.0
PRODID:-//wp-events-plugin.com//7.2.3.1//EN
TZID:Europe/London
X-WR-TIMEZONE:Europe/London
BEGIN:VEVENT
UID:3005@larevistadelapalma.com
DTSTART:20240608T110000Z
DTEND:20240608T224500Z
DTSTAMP:20240526T212735Z
URL:https://www.larevistadelapalma.com/events/mae-mercadillo-de-arte-emerg
 ente/
SUMMARY:MAE\, Mercadillo de Arte Emergente\, en El Paso
DESCRIPTION:Mercadillo de Arte Emergente\, que a partir de ahora pasa a lla
 marse MAE y abre sede en la Isla Bonita. En Crealab El Paso.\n\nUn día di
 ferente\, en un espacio espectacular y rodeado de Artes Vivas.\n\n 	 Merc
 adillo\n 	 Talleres\n 	 Comida\n 	 Cine\n 	 Danza\n 	 Teatro\n 	Conci
 ertos\n 	 Performance\n 	 DJs\n\nY más... Entra en su Instagram para ve
 r novedades.\n\n&nbsp\;
ATTACH;FMTTYPE=image/jpeg:https://www.larevistadelapalma.com/wp-content/up
 loads/2024/05/Mercadillo-de-Arte-Emergente.jpg
CATEGORIES:Ferias y mercados,Otras propuestas
LOCATION:Crealab El Paso\, C. Manuel Taño\, 1\, El Paso\, 38750\, España
GEO:28.651929;-17.88
X-APPLE-STRUCTURED-LOCATION;VALUE=URI;X-ADDRESS=C. Manuel Taño\, 1\, El Pa
 so\, 38750\, España;X-APPLE-RADIUS=100;X-TITLE=Crealab El Paso:geo:28.651
 929,-17.88
END:VEVENT
END:VCALENDARBEGIN:VCALENDAR
VERSION:2.0
PRODID:-//wp-events-plugin.com//7.2.3.1//EN
TZID:Europe/London
X-WR-TIMEZONE:Europe/London
BEGIN:VEVENT
UID:3005@larevistadelapalma.com
DTSTART:20240608T110000Z
DTEND:20240608T224500Z
DTSTAMP:20240526T212735Z
URL:https://www.larevistadelapalma.com/events/mae-mercadillo-de-arte-emerg
 ente/
SUMMARY:MAE\, Mercadillo de Arte Emergente\, en El Paso
DESCRIPTION:Mercadillo de Arte Emergente\, que a partir de ahora pasa a lla
 marse MAE y abre sede en la Isla Bonita. En Crealab El Paso.\n\nUn día di
 ferente\, en un espacio espectacular y rodeado de Artes Vivas.\n\n 	 Merc
 adillo\n 	 Talleres\n 	 Comida\n 	 Cine\n 	 Danza\n 	 Teatro\n 	Conci
 ertos\n 	 Performance\n 	 DJs\n\nY más... Entra en su Instagram para ve
 r novedades.\n\n&nbsp\;
ATTACH;FMTTYPE=image/jpeg:https://www.larevistadelapalma.com/wp-content/up
 loads/2024/05/Mercadillo-de-Arte-Emergente.jpg
CATEGORIES:Ferias y mercados,Otras propuestas
LOCATION:Crealab El Paso\, C. Manuel Taño\, 1\, El Paso\, 38750\, España
GEO:28.651929;-17.88
X-APPLE-STRUCTURED-LOCATION;VALUE=URI;X-ADDRESS=C. Manuel Taño\, 1\, El Pa
 so\, 38750\, España;X-APPLE-RADIUS=100;X-TITLE=Crealab El Paso:geo:28.651
 929,-17.88
END:VEVENT
END:VCALENDAR