BEGIN:VCALENDAR
VERSION:2.0
PRODID:-//wp-events-plugin.com//7.2.3.1//EN
TZID:Europe/London
X-WR-TIMEZONE:Europe/London
BEGIN:VEVENT
UID:3769@larevistadelapalma.com
DTSTART:20250530T193000Z
DTEND:20250530T210000Z
DTSTAMP:20250529T000021Z
URL:https://www.larevistadelapalma.com/events/magec-concierto-especial-dia
 -de-canarias/
SUMMARY:Magec: Concierto especial Día de Canarias
DESCRIPTION:Magec\, música con alma y raíz.Desde La Perdoma\, en La Orota
 va\, Magec nace en el año 2000 con un propósito claro: llevar el folclor
 e canario y sudamericano a lo más alto. Con pasión y respeto por nuestra
 s tradiciones\, nuestro repertorio es un viaje musical que une culturas\, 
 sentimientos y generaciones.\n Hemos llevado nuestra música desde Canari
 as hasta Hungría en la Folkloriada\, pasando por Lituania\, León y mucho
 s rincones del archipiélago.\nUn concierto que pertenece a la programaci
 ón de la Semana de Canarias que celebra Los Llanos de Aridane.
ATTACH;FMTTYPE=image/jpeg:https://www.larevistadelapalma.com/wp-content/up
 loads/2025/05/magec-dia-de-canarias.jpg
CATEGORIES:Conciertos,Música
LOCATION:Plaza de España en Los Llanos de Aridane\, Plaza de España\, Los
  Llanos de Aridane\, 38760\, España
GEO:28.658934;-17.913174
X-APPLE-STRUCTURED-LOCATION;VALUE=URI;X-ADDRESS=Plaza de España\, Los Llan
 os de Aridane\, 38760\, España;X-APPLE-RADIUS=100;X-TITLE=Plaza de Españ
 a en Los Llanos de Aridane:geo:28.658934,-17.913174
END:VEVENT
END:VCALENDARBEGIN:VCALENDAR
VERSION:2.0
PRODID:-//wp-events-plugin.com//7.2.3.1//EN
TZID:Europe/London
X-WR-TIMEZONE:Europe/London
BEGIN:VEVENT
UID:3769@larevistadelapalma.com
DTSTART:20250530T193000Z
DTEND:20250530T210000Z
DTSTAMP:20250529T000021Z
URL:https://www.larevistadelapalma.com/events/magec-concierto-especial-dia
 -de-canarias/
SUMMARY:Magec: Concierto especial Día de Canarias
DESCRIPTION:Magec\, música con alma y raíz.Desde La Perdoma\, en La Orota
 va\, Magec nace en el año 2000 con un propósito claro: llevar el folclor
 e canario y sudamericano a lo más alto. Con pasión y respeto por nuestra
 s tradiciones\, nuestro repertorio es un viaje musical que une culturas\, 
 sentimientos y generaciones.\n Hemos llevado nuestra música desde Canari
 as hasta Hungría en la Folkloriada\, pasando por Lituania\, León y mucho
 s rincones del archipiélago.\nUn concierto que pertenece a la programaci
 ón de la Semana de Canarias que celebra Los Llanos de Aridane.
ATTACH;FMTTYPE=image/jpeg:https://www.larevistadelapalma.com/wp-content/up
 loads/2025/05/magec-dia-de-canarias.jpg
CATEGORIES:Conciertos,Música
LOCATION:Plaza de España en Los Llanos de Aridane\, Plaza de España\, Los
  Llanos de Aridane\, 38760\, España
GEO:28.658934;-17.913174
X-APPLE-STRUCTURED-LOCATION;VALUE=URI;X-ADDRESS=Plaza de España\, Los Llan
 os de Aridane\, 38760\, España;X-APPLE-RADIUS=100;X-TITLE=Plaza de Españ
 a en Los Llanos de Aridane:geo:28.658934,-17.913174
END:VEVENT
END:VCALENDAR