BEGIN:VCALENDAR
VERSION:2.0
PRODID:-//wp-events-plugin.com//7.2.3.1//EN
TZID:Europe/London
X-WR-TIMEZONE:Europe/London
BEGIN:VEVENT
UID:4030@larevistadelapalma.com
DTSTART:20251025T120000Z
DTEND:20251025T133000Z
DTSTAMP:20251020T095927Z
URL:https://www.larevistadelapalma.com/events/mahoney-soul-band/
SUMMARY:Contigo Almediodía con The Mahoney Soul Band
DESCRIPTION:The Mahoney Soul Band se sube al escenario de los conciertos Co
 ntigo Almediodía para hacernos bailar y vibrar con los grandes clásicos 
 del soul. Un viaje musical por las voces inmortales de James Brown\, Ray 
 Charles\, Otis Redding\, Aretha Franklin\, Wilson Pickett y muchos más.\n
 Una formación de 9 músicos en escena que te harán sentir la potencia de
 l soul con un concierto lleno de dinamismo\, ritmo y emoción.
ATTACH;FMTTYPE=image/jpeg:https://www.larevistadelapalma.com/wp-content/up
 loads/2025/10/Mahoney-Soul-Band-Contigo-Al-Mediodia.jpg
CATEGORIES:Conciertos,Música
LOCATION:Plaza de España en Los Llanos de Aridane\, Plaza de España\, Los
  Llanos de Aridane\, 38760\, España
GEO:28.658934;-17.913174
X-APPLE-STRUCTURED-LOCATION;VALUE=URI;X-ADDRESS=Plaza de España\, Los Llan
 os de Aridane\, 38760\, España;X-APPLE-RADIUS=100;X-TITLE=Plaza de Españ
 a en Los Llanos de Aridane:geo:28.658934,-17.913174
END:VEVENT
END:VCALENDARBEGIN:VCALENDAR
VERSION:2.0
PRODID:-//wp-events-plugin.com//7.2.3.1//EN
TZID:Europe/London
X-WR-TIMEZONE:Europe/London
BEGIN:VEVENT
UID:4030@larevistadelapalma.com
DTSTART:20251025T120000Z
DTEND:20251025T133000Z
DTSTAMP:20251020T095927Z
URL:https://www.larevistadelapalma.com/events/mahoney-soul-band/
SUMMARY:Contigo Almediodía con The Mahoney Soul Band
DESCRIPTION:The Mahoney Soul Band se sube al escenario de los conciertos Co
 ntigo Almediodía para hacernos bailar y vibrar con los grandes clásicos 
 del soul. Un viaje musical por las voces inmortales de James Brown\, Ray 
 Charles\, Otis Redding\, Aretha Franklin\, Wilson Pickett y muchos más.\n
 Una formación de 9 músicos en escena que te harán sentir la potencia de
 l soul con un concierto lleno de dinamismo\, ritmo y emoción.
ATTACH;FMTTYPE=image/jpeg:https://www.larevistadelapalma.com/wp-content/up
 loads/2025/10/Mahoney-Soul-Band-Contigo-Al-Mediodia.jpg
CATEGORIES:Conciertos,Música
LOCATION:Plaza de España en Los Llanos de Aridane\, Plaza de España\, Los
  Llanos de Aridane\, 38760\, España
GEO:28.658934;-17.913174
X-APPLE-STRUCTURED-LOCATION;VALUE=URI;X-ADDRESS=Plaza de España\, Los Llan
 os de Aridane\, 38760\, España;X-APPLE-RADIUS=100;X-TITLE=Plaza de Españ
 a en Los Llanos de Aridane:geo:28.658934,-17.913174
END:VEVENT
END:VCALENDAR