BEGIN:VCALENDAR
VERSION:2.0
PRODID:-//wp-events-plugin.com//7.2.3.1//EN
TZID:Europe/London
X-WR-TIMEZONE:Europe/London
BEGIN:VEVENT
UID:3062@larevistadelapalma.com
DTSTART:20240615T200000Z
DTEND:20240615T213000Z
DTSTAMP:20240612T214954Z
URL:https://www.larevistadelapalma.com/events/malana-duo-en-tasca-la-marmo
 ta/
SUMMARY:Malana Dúo en Tasca La Marmota
DESCRIPTION:Malana Dúo se mueve en una mezcla de sonidos e influencias ib
 éricos y latinoamericanos\, que consiguen acompañándose de flautas\, gu
 itarras y percusión.
ATTACH;FMTTYPE=image/jpeg:https://www.larevistadelapalma.com/wp-content/up
 loads/2024/06/Malana-Duo.jpg
CATEGORIES:Conciertos,Música
LOCATION:Tasca La Marmota\, Av de la Constitución\, número 1\, Tazacorte\
 , 38770\, España
GEO:28.643843;-17.933605
X-APPLE-STRUCTURED-LOCATION;VALUE=URI;X-ADDRESS=Av de la Constitución\, n
 úmero 1\, Tazacorte\, 38770\, España;X-APPLE-RADIUS=100;X-TITLE=Tasca La
  Marmota:geo:28.643843,-17.933605
END:VEVENT
END:VCALENDARBEGIN:VCALENDAR
VERSION:2.0
PRODID:-//wp-events-plugin.com//7.2.3.1//EN
TZID:Europe/London
X-WR-TIMEZONE:Europe/London
BEGIN:VEVENT
UID:3062@larevistadelapalma.com
DTSTART:20240615T200000Z
DTEND:20240615T213000Z
DTSTAMP:20240612T214954Z
URL:https://www.larevistadelapalma.com/events/malana-duo-en-tasca-la-marmo
 ta/
SUMMARY:Malana Dúo en Tasca La Marmota
DESCRIPTION:Malana Dúo se mueve en una mezcla de sonidos e influencias ib
 éricos y latinoamericanos\, que consiguen acompañándose de flautas\, gu
 itarras y percusión.
ATTACH;FMTTYPE=image/jpeg:https://www.larevistadelapalma.com/wp-content/up
 loads/2024/06/Malana-Duo.jpg
CATEGORIES:Conciertos,Música
LOCATION:Tasca La Marmota\, Av de la Constitución\, número 1\, Tazacorte\
 , 38770\, España
GEO:28.643843;-17.933605
X-APPLE-STRUCTURED-LOCATION;VALUE=URI;X-ADDRESS=Av de la Constitución\, n
 úmero 1\, Tazacorte\, 38770\, España;X-APPLE-RADIUS=100;X-TITLE=Tasca La
  Marmota:geo:28.643843,-17.933605
END:VEVENT
END:VCALENDAR