BEGIN:VCALENDAR
VERSION:2.0
PRODID:-//wp-events-plugin.com//7.2.3.1//EN
TZID:Europe/London
X-WR-TIMEZONE:Europe/London
BEGIN:VEVENT
UID:866@larevistadelapalma.com
DTSTART:20231202T180000Z
DTEND:20231202T193000Z
DTSTAMP:20231127T022210Z
URL:https://www.larevistadelapalma.com/events/mara-jaubert-y-deyana-savova
 -ciclo-camara/
SUMMARY:Mara Jaubert y Deyana Sávova: Ciclo de Cámara Salinas
DESCRIPTION:\nEl octavo concierto del Ciclo de Cámara Salinas en su novena
  edición\, tendrá como invitadas a Mara Jaubert y Deyana Sávova\, piano
  y voz.\n\nConcierto patrocinado y organizado por la Concejalía de Cultur
 a del Ayuntamiento de Breña Baja. Además del patrocinio de Cabildo de La
  Palma\, Farmacia San Antonio\, Óptica Feliciano\, Hotel Valle Aridane y 
 la colaboración publicitaria de 7.7. Radio La Palma. Director del Ciclo S
 eca Herrera Sicilia.\nInterpretarán un concierto dedicado a la música es
 lava con obras de Tchaikovsky\, Rimski-Kórsakov\, Glinka\, Skryabine\, Ra
 chmaninoff\, Vladigherov\, Pípkov\, Hrístov\, Petkóv...\n\nDeyana Sávo
 va\, ha participado en producciones operísticas\, conciertos y recitales 
 en varios festivales de música\, así como en el Teatro Musical de Sofía
 . Además\, ha sido finalista y ganadora de diversos concursos internacion
 ales de canto lírico en Italia\, Bulgaria y Malta.\n\n\nMara Jaubert\, ha
  actuado como solista con la OST (Tenerife) el Grupo Enigma (Zaragoza) y h
 a ofrecido recitales en Madrid (Fundación Juan March)\, Barcelona y en ot
 ras capitales españolas\, así como en Viena y en el Reino Unido. Ha grab
 ado para R.N.E. - Radio 2 - y T.V.E. C. Actualmente es Pianista Acompañan
 te en el Conservatorio Superior de Música de Canarias.\nNaturales de Tene
 rife y Bulgaria.\n\n\nEntradas 15€ estudiantes 5 euros.\nPara reserva de
  entradas: musicadecamaracancajos@hotmail.com\n\n
ATTACH;FMTTYPE=image/jpeg:https://www.larevistadelapalma.com/wp-content/up
 loads/2023/11/Mara-Jaubert-y-Deyana-Savova.jpg
CATEGORIES:Conciertos,Música
LOCATION:Antiguas Salinas de Los Cancajos\, P.º del litoral\, Breña Baja\
 , 38712\, España
GEO:28.650095;-17.75849
X-APPLE-STRUCTURED-LOCATION;VALUE=URI;X-ADDRESS=P.º del litoral\, Breña B
 aja\, 38712\, España;X-APPLE-RADIUS=100;X-TITLE=Antiguas Salinas de Los C
 ancajos:geo:28.650095,-17.75849
END:VEVENT
END:VCALENDARBEGIN:VCALENDAR
VERSION:2.0
PRODID:-//wp-events-plugin.com//7.2.3.1//EN
TZID:Europe/London
X-WR-TIMEZONE:Europe/London
BEGIN:VEVENT
UID:866@larevistadelapalma.com
DTSTART:20231202T180000Z
DTEND:20231202T193000Z
DTSTAMP:20231127T022210Z
URL:https://www.larevistadelapalma.com/events/mara-jaubert-y-deyana-savova
 -ciclo-camara/
SUMMARY:Mara Jaubert y Deyana Sávova: Ciclo de Cámara Salinas
DESCRIPTION:\nEl octavo concierto del Ciclo de Cámara Salinas en su novena
  edición\, tendrá como invitadas a Mara Jaubert y Deyana Sávova\, piano
  y voz.\n\nConcierto patrocinado y organizado por la Concejalía de Cultur
 a del Ayuntamiento de Breña Baja. Además del patrocinio de Cabildo de La
  Palma\, Farmacia San Antonio\, Óptica Feliciano\, Hotel Valle Aridane y 
 la colaboración publicitaria de 7.7. Radio La Palma. Director del Ciclo S
 eca Herrera Sicilia.\nInterpretarán un concierto dedicado a la música es
 lava con obras de Tchaikovsky\, Rimski-Kórsakov\, Glinka\, Skryabine\, Ra
 chmaninoff\, Vladigherov\, Pípkov\, Hrístov\, Petkóv...\n\nDeyana Sávo
 va\, ha participado en producciones operísticas\, conciertos y recitales 
 en varios festivales de música\, así como en el Teatro Musical de Sofía
 . Además\, ha sido finalista y ganadora de diversos concursos internacion
 ales de canto lírico en Italia\, Bulgaria y Malta.\n\n\nMara Jaubert\, ha
  actuado como solista con la OST (Tenerife) el Grupo Enigma (Zaragoza) y h
 a ofrecido recitales en Madrid (Fundación Juan March)\, Barcelona y en ot
 ras capitales españolas\, así como en Viena y en el Reino Unido. Ha grab
 ado para R.N.E. - Radio 2 - y T.V.E. C. Actualmente es Pianista Acompañan
 te en el Conservatorio Superior de Música de Canarias.\nNaturales de Tene
 rife y Bulgaria.\n\n\nEntradas 15€ estudiantes 5 euros.\nPara reserva de
  entradas: musicadecamaracancajos@hotmail.com\n\n
ATTACH;FMTTYPE=image/jpeg:https://www.larevistadelapalma.com/wp-content/up
 loads/2023/11/Mara-Jaubert-y-Deyana-Savova.jpg
CATEGORIES:Conciertos,Música
LOCATION:Antiguas Salinas de Los Cancajos\, P.º del litoral\, Breña Baja\
 , 38712\, España
GEO:28.650095;-17.75849
X-APPLE-STRUCTURED-LOCATION;VALUE=URI;X-ADDRESS=P.º del litoral\, Breña B
 aja\, 38712\, España;X-APPLE-RADIUS=100;X-TITLE=Antiguas Salinas de Los C
 ancajos:geo:28.650095,-17.75849
END:VEVENT
END:VCALENDAR