BEGIN:VCALENDAR
VERSION:2.0
PRODID:-//wp-events-plugin.com//7.2.3.1//EN
TZID:Europe/London
X-WR-TIMEZONE:Europe/London
BEGIN:VEVENT
UID:636@larevistadelapalma.com
DTSTART:20230930T190000Z
DTEND:20230930T210000Z
DTSTAMP:20230922T223133Z
URL:https://www.larevistadelapalma.com/events/maria-melero-presenta-su-dis
 co-alma-romantica-en-mazo/
SUMMARY:María Melero presenta su disco "Alma romántica" en Mazo
DESCRIPTION:Un viaje emocional por los boleros de hoy y de siempre.\nUn rep
 ertorio de bolertos tradicionales que reflejan todo ese estilo musical con
  el que muchos han amado\, llorado y vivido y que son parte de nuestra ban
 da sonora personal.
ATTACH;FMTTYPE=image/jpeg:https://www.larevistadelapalma.com/wp-content/up
 loads/2023/09/Alma-romantica-Maria-Melero.jpg
CATEGORIES:Conciertos,Música
LOCATION:Centro de la Cultura Andares\, Ctra. Dr. Morera Bravo\, 2. El Pueb
 lo.\, Villa de Mazo\, 38730\, España
GEO:28.604882;-17.777431
X-APPLE-STRUCTURED-LOCATION;VALUE=URI;X-ADDRESS=Ctra. Dr. Morera Bravo\, 2.
  El Pueblo.\, Villa de Mazo\, 38730\, España;X-APPLE-RADIUS=100;X-TITLE=C
 entro de la Cultura Andares:geo:28.604882,-17.777431
END:VEVENT
END:VCALENDARBEGIN:VCALENDAR
VERSION:2.0
PRODID:-//wp-events-plugin.com//7.2.3.1//EN
TZID:Europe/London
X-WR-TIMEZONE:Europe/London
BEGIN:VEVENT
UID:636@larevistadelapalma.com
DTSTART:20230930T190000Z
DTEND:20230930T210000Z
DTSTAMP:20230922T223133Z
URL:https://www.larevistadelapalma.com/events/maria-melero-presenta-su-dis
 co-alma-romantica-en-mazo/
SUMMARY:María Melero presenta su disco "Alma romántica" en Mazo
DESCRIPTION:Un viaje emocional por los boleros de hoy y de siempre.\nUn rep
 ertorio de bolertos tradicionales que reflejan todo ese estilo musical con
  el que muchos han amado\, llorado y vivido y que son parte de nuestra ban
 da sonora personal.
ATTACH;FMTTYPE=image/jpeg:https://www.larevistadelapalma.com/wp-content/up
 loads/2023/09/Alma-romantica-Maria-Melero.jpg
CATEGORIES:Conciertos,Música
LOCATION:Centro de la Cultura Andares\, Ctra. Dr. Morera Bravo\, 2. El Pueb
 lo.\, Villa de Mazo\, 38730\, España
GEO:28.604882;-17.777431
X-APPLE-STRUCTURED-LOCATION;VALUE=URI;X-ADDRESS=Ctra. Dr. Morera Bravo\, 2.
  El Pueblo.\, Villa de Mazo\, 38730\, España;X-APPLE-RADIUS=100;X-TITLE=C
 entro de la Cultura Andares:geo:28.604882,-17.777431
END:VEVENT
END:VCALENDAR