BEGIN:VCALENDAR
VERSION:2.0
PRODID:-//wp-events-plugin.com//7.2.3.1//EN
TZID:Europe/London
X-WR-TIMEZONE:Europe/London
BEGIN:VEVENT
UID:3610@larevistadelapalma.com
DTSTART:20250712T200000Z
DTEND:20250712T214500Z
DTSTAMP:20250220T232142Z
URL:https://www.larevistadelapalma.com/events/mariachi-vargas-de-tecalitla
 n/
SUMMARY:Mariachi Vargas De Tecalitlán
DESCRIPTION:El legendario Mariachi Vargas de Tecalitlán\, reconocido como 
 El Mejor Mariachi del Mundo\, llegará a La Palma para ofrecer un conciert
 o único en la Bajada de la Virgen de las Nieves 2025.\n\nCon más de 125 
 años de historia\, esta icónica agrupación mexicana traerá su inconfun
 dible sonido y tradición al Recinto Festero\, llenando la noche de pasió
 n\, folclore y emotividad. Un espectáculo imperdible que celebrará la cu
 ltura y la música ranchera en el marco de una de las festividades más im
 portantes de Canarias.\nComprar entradas &gt\;&gt\;\n
ATTACH;FMTTYPE=image/jpeg:https://www.larevistadelapalma.com/wp-content/up
 loads/2025/02/Mariachi-Vargas.jpg
CATEGORIES:Conciertos,Música
LOCATION:Municipio de Santa Cruz de La Palma\, Santa Cruz de La Palma \, Sa
 nta Cruz de La Palma \, 38700\, España
GEO:28.688757;-17.765102
X-APPLE-STRUCTURED-LOCATION;VALUE=URI;X-ADDRESS=Santa Cruz de La Palma \, S
 anta Cruz de La Palma \, 38700\, España;X-APPLE-RADIUS=100;X-TITLE=Munici
 pio de Santa Cruz de La Palma:geo:28.688757,-17.765102
END:VEVENT
END:VCALENDARBEGIN:VCALENDAR
VERSION:2.0
PRODID:-//wp-events-plugin.com//7.2.3.1//EN
TZID:Europe/London
X-WR-TIMEZONE:Europe/London
BEGIN:VEVENT
UID:3610@larevistadelapalma.com
DTSTART:20250712T200000Z
DTEND:20250712T214500Z
DTSTAMP:20250220T232142Z
URL:https://www.larevistadelapalma.com/events/mariachi-vargas-de-tecalitla
 n/
SUMMARY:Mariachi Vargas De Tecalitlán
DESCRIPTION:El legendario Mariachi Vargas de Tecalitlán\, reconocido como 
 El Mejor Mariachi del Mundo\, llegará a La Palma para ofrecer un conciert
 o único en la Bajada de la Virgen de las Nieves 2025.\n\nCon más de 125 
 años de historia\, esta icónica agrupación mexicana traerá su inconfun
 dible sonido y tradición al Recinto Festero\, llenando la noche de pasió
 n\, folclore y emotividad. Un espectáculo imperdible que celebrará la cu
 ltura y la música ranchera en el marco de una de las festividades más im
 portantes de Canarias.\nComprar entradas &gt\;&gt\;\n
ATTACH;FMTTYPE=image/jpeg:https://www.larevistadelapalma.com/wp-content/up
 loads/2025/02/Mariachi-Vargas.jpg
CATEGORIES:Conciertos,Música
LOCATION:Municipio de Santa Cruz de La Palma\, Santa Cruz de La Palma \, Sa
 nta Cruz de La Palma \, 38700\, España
GEO:28.688757;-17.765102
X-APPLE-STRUCTURED-LOCATION;VALUE=URI;X-ADDRESS=Santa Cruz de La Palma \, S
 anta Cruz de La Palma \, 38700\, España;X-APPLE-RADIUS=100;X-TITLE=Munici
 pio de Santa Cruz de La Palma:geo:28.688757,-17.765102
END:VEVENT
END:VCALENDAR