BEGIN:VCALENDAR
VERSION:2.0
PRODID:-//wp-events-plugin.com//7.2.3.1//EN
TZID:Europe/London
X-WR-TIMEZONE:Europe/London
BEGIN:VEVENT
UID:3244@larevistadelapalma.com
DTSTART;VALUE=DATE:20241001
DTEND;VALUE=DATE:20241016
DTSTAMP:20240918T164949Z
URL:https://www.larevistadelapalma.com/events/mariana-arranz-presenta-una-
 retrospectiva-en-la-sala-odaly/
SUMMARY:Mariana Arranz presenta una retrospectiva en la Sala O'Daly
DESCRIPTION:La pintora vallisoletana Mariana Arranz vuelve a la sala O´Dal
 y de Santa Cruz de La Palma\, bajo el denominador común "Un día de sol"\
 , (Retrospectiva 1984-2024). La muestra agrupa un total de 75 obras (en su
  gran mayoría óleos\, si bien incluye además acuarelas y carboncillos )
 .\n\nLa exposición permanecerá abierta al público del 1 al 15 de octubr
 e\, en horario de 9:30 a 1:30 y de 4:30 a 7:30\, de lunes a domingo.
ATTACH;FMTTYPE=image/jpeg:https://www.larevistadelapalma.com/wp-content/up
 loads/2024/09/Captura-de-pantalla-2024-09-05-a-las-9.48.27.png
CATEGORIES:Exposiciones
LOCATION:Sala O'Daly\, C. O'Daly\, 2\, \, Santa Cruz de La Palma \, 38700\,
  España
GEO:28.68306;-17.765032
X-APPLE-STRUCTURED-LOCATION;VALUE=URI;X-ADDRESS=C. O'Daly\, 2\, \, Santa Cr
 uz de La Palma \, 38700\, España;X-APPLE-RADIUS=100;X-TITLE=Sala O'Daly:g
 eo:28.68306,-17.765032
END:VEVENT
END:VCALENDARBEGIN:VCALENDAR
VERSION:2.0
PRODID:-//wp-events-plugin.com//7.2.3.1//EN
TZID:Europe/London
X-WR-TIMEZONE:Europe/London
BEGIN:VEVENT
UID:3244@larevistadelapalma.com
DTSTART;VALUE=DATE:20241001
DTEND;VALUE=DATE:20241016
DTSTAMP:20240918T164949Z
URL:https://www.larevistadelapalma.com/events/mariana-arranz-presenta-una-
 retrospectiva-en-la-sala-odaly/
SUMMARY:Mariana Arranz presenta una retrospectiva en la Sala O'Daly
DESCRIPTION:La pintora vallisoletana Mariana Arranz vuelve a la sala O´Dal
 y de Santa Cruz de La Palma\, bajo el denominador común "Un día de sol"\
 , (Retrospectiva 1984-2024). La muestra agrupa un total de 75 obras (en su
  gran mayoría óleos\, si bien incluye además acuarelas y carboncillos )
 .\n\nLa exposición permanecerá abierta al público del 1 al 15 de octubr
 e\, en horario de 9:30 a 1:30 y de 4:30 a 7:30\, de lunes a domingo.
ATTACH;FMTTYPE=image/jpeg:https://www.larevistadelapalma.com/wp-content/up
 loads/2024/09/Captura-de-pantalla-2024-09-05-a-las-9.48.27.png
CATEGORIES:Exposiciones
LOCATION:Sala O'Daly\, C. O'Daly\, 2\, \, Santa Cruz de La Palma \, 38700\,
  España
GEO:28.68306;-17.765032
X-APPLE-STRUCTURED-LOCATION;VALUE=URI;X-ADDRESS=C. O'Daly\, 2\, \, Santa Cr
 uz de La Palma \, 38700\, España;X-APPLE-RADIUS=100;X-TITLE=Sala O'Daly:g
 eo:28.68306,-17.765032
END:VEVENT
END:VCALENDAR