BEGIN:VCALENDAR
VERSION:2.0
PRODID:-//wp-events-plugin.com//7.2.3.1//EN
TZID:Europe/London
X-WR-TIMEZONE:Europe/London
BEGIN:VEVENT
UID:134@larevistadelapalma.com
DTSTART:20230707T180000Z
DTEND:20230707T193000Z
DTSTAMP:20230702T002359Z
URL:https://www.larevistadelapalma.com/events/maridaje-de-norte-a-sur-past
 eleria-y-cocteleria-con-zulay-y-ron-aldea/
SUMMARY:"Maridaje de Norte a Sur". Pastelería y cocteleria. Con Zulay y Ro
 n Aldea
DESCRIPTION:Es necesario hacer reserva.
ATTACH;FMTTYPE=image/jpeg:https://www.larevistadelapalma.com/wp-content/up
 loads/2023/07/maridaje-cocteleria-y-pasteleria-zulay-aldea.jpg
CATEGORIES:Gastro,Otras propuestas
LOCATION:\, \, 
GEO:28.660236;-17.913187
X-APPLE-STRUCTURED-LOCATION;VALUE=URI;X-ADDRESS=\, ;X-APPLE-RADIUS=100;X-TI
 TLE=:geo:28.660236,-17.913187
END:VEVENT
END:VCALENDARBEGIN:VCALENDAR
VERSION:2.0
PRODID:-//wp-events-plugin.com//7.2.3.1//EN
TZID:Europe/London
X-WR-TIMEZONE:Europe/London
BEGIN:VEVENT
UID:134@larevistadelapalma.com
DTSTART:20230707T180000Z
DTEND:20230707T193000Z
DTSTAMP:20230702T002359Z
URL:https://www.larevistadelapalma.com/events/maridaje-de-norte-a-sur-past
 eleria-y-cocteleria-con-zulay-y-ron-aldea/
SUMMARY:"Maridaje de Norte a Sur". Pastelería y cocteleria. Con Zulay y Ro
 n Aldea
DESCRIPTION:Es necesario hacer reserva.
ATTACH;FMTTYPE=image/jpeg:https://www.larevistadelapalma.com/wp-content/up
 loads/2023/07/maridaje-cocteleria-y-pasteleria-zulay-aldea.jpg
CATEGORIES:Gastro,Otras propuestas
LOCATION:\, \, 
GEO:28.660236;-17.913187
X-APPLE-STRUCTURED-LOCATION;VALUE=URI;X-ADDRESS=\, ;X-APPLE-RADIUS=100;X-TI
 TLE=:geo:28.660236,-17.913187
END:VEVENT
END:VCALENDAR