BEGIN:VCALENDAR
VERSION:2.0
PRODID:-//wp-events-plugin.com//7.2.3.1//EN
TZID:Europe/London
X-WR-TIMEZONE:Europe/London
BEGIN:VEVENT
UID:3322@larevistadelapalma.com
DTSTART:20241019T180000Z
DTEND:20241019T193000Z
DTSTAMP:20241014T173713Z
URL:https://www.larevistadelapalma.com/events/marta-garijo-en-el-ciclo-de-
 camara-de-las-antiguas-salinas/
SUMMARY:Marta Garijo en el Ciclo de Cámara de Las Antiguas Salinas
DESCRIPTION:"Muy feliz y agradecida de participar en el festival "Ciclo de 
 Cámara Eustaquio Sicilia". Qué alegría viajar a las Islas Canarias por 
 primera vez para dar un concierto"
ATTACH;FMTTYPE=image/jpeg:https://www.larevistadelapalma.com/wp-content/up
 loads/2024/10/Marta-Garijo.jpg
CATEGORIES:Conciertos,Música
LOCATION:Antiguas Salinas de Los Cancajos\, P.º del litoral\, Breña Baja\
 , 38712\, España
GEO:28.650095;-17.75849
X-APPLE-STRUCTURED-LOCATION;VALUE=URI;X-ADDRESS=P.º del litoral\, Breña B
 aja\, 38712\, España;X-APPLE-RADIUS=100;X-TITLE=Antiguas Salinas de Los C
 ancajos:geo:28.650095,-17.75849
END:VEVENT
END:VCALENDARBEGIN:VCALENDAR
VERSION:2.0
PRODID:-//wp-events-plugin.com//7.2.3.1//EN
TZID:Europe/London
X-WR-TIMEZONE:Europe/London
BEGIN:VEVENT
UID:3322@larevistadelapalma.com
DTSTART:20241019T180000Z
DTEND:20241019T193000Z
DTSTAMP:20241014T173713Z
URL:https://www.larevistadelapalma.com/events/marta-garijo-en-el-ciclo-de-
 camara-de-las-antiguas-salinas/
SUMMARY:Marta Garijo en el Ciclo de Cámara de Las Antiguas Salinas
DESCRIPTION:"Muy feliz y agradecida de participar en el festival "Ciclo de 
 Cámara Eustaquio Sicilia". Qué alegría viajar a las Islas Canarias por 
 primera vez para dar un concierto"
ATTACH;FMTTYPE=image/jpeg:https://www.larevistadelapalma.com/wp-content/up
 loads/2024/10/Marta-Garijo.jpg
CATEGORIES:Conciertos,Música
LOCATION:Antiguas Salinas de Los Cancajos\, P.º del litoral\, Breña Baja\
 , 38712\, España
GEO:28.650095;-17.75849
X-APPLE-STRUCTURED-LOCATION;VALUE=URI;X-ADDRESS=P.º del litoral\, Breña B
 aja\, 38712\, España;X-APPLE-RADIUS=100;X-TITLE=Antiguas Salinas de Los C
 ancajos:geo:28.650095,-17.75849
END:VEVENT
END:VCALENDAR