BEGIN:VCALENDAR
VERSION:2.0
PRODID:-//wp-events-plugin.com//7.2.3.1//EN
TZID:Europe/London
X-WR-TIMEZONE:Europe/London
BEGIN:VEVENT
UID:3683@larevistadelapalma.com
DTSTART:20250412T090000Z
DTEND:20250412T120000Z
DTSTAMP:20250401T205032Z
URL:https://www.larevistadelapalma.com/events/marterclass-elevando-el-arte
 -de-tocar-el-clarinete-con-vicente-jose-ferrer-corcin/
SUMMARY:Marterclass "Elevando el arte de tocar el clarinete"\, con Vicente 
 José Ferrer Corcin
DESCRIPTION:Marterclass impartida por Vicente José Ferrer Corcin\, Co-soli
 sta de clarinete en la Orquesta Sinfónica de Tenerife y profesor de clari
 nete del Conservatorio Profesional de Música de S/C de Tenerife.\n\nReser
 va tu plaza\, enviando whatsapp al 619815465
ATTACH;FMTTYPE=image/jpeg:https://www.larevistadelapalma.com/wp-content/up
 loads/2025/04/masterclass-clarinete.webp
CATEGORIES:Formación,Otras propuestas
LOCATION:Municipio de Villa de Mazo\, Villa de Mazo\, Villa de Mazo\, 38730
 \, España
GEO:28.622071;-17.780675
X-APPLE-STRUCTURED-LOCATION;VALUE=URI;X-ADDRESS=Villa de Mazo\, Villa de Ma
 zo\, 38730\, España;X-APPLE-RADIUS=100;X-TITLE=Municipio de Villa de Mazo
 :geo:28.622071,-17.780675
END:VEVENT
END:VCALENDARBEGIN:VCALENDAR
VERSION:2.0
PRODID:-//wp-events-plugin.com//7.2.3.1//EN
TZID:Europe/London
X-WR-TIMEZONE:Europe/London
BEGIN:VEVENT
UID:3683@larevistadelapalma.com
DTSTART:20250412T090000Z
DTEND:20250412T120000Z
DTSTAMP:20250401T205032Z
URL:https://www.larevistadelapalma.com/events/marterclass-elevando-el-arte
 -de-tocar-el-clarinete-con-vicente-jose-ferrer-corcin/
SUMMARY:Marterclass "Elevando el arte de tocar el clarinete"\, con Vicente 
 José Ferrer Corcin
DESCRIPTION:Marterclass impartida por Vicente José Ferrer Corcin\, Co-soli
 sta de clarinete en la Orquesta Sinfónica de Tenerife y profesor de clari
 nete del Conservatorio Profesional de Música de S/C de Tenerife.\n\nReser
 va tu plaza\, enviando whatsapp al 619815465
ATTACH;FMTTYPE=image/jpeg:https://www.larevistadelapalma.com/wp-content/up
 loads/2025/04/masterclass-clarinete.webp
CATEGORIES:Formación,Otras propuestas
LOCATION:Municipio de Villa de Mazo\, Villa de Mazo\, Villa de Mazo\, 38730
 \, España
GEO:28.622071;-17.780675
X-APPLE-STRUCTURED-LOCATION;VALUE=URI;X-ADDRESS=Villa de Mazo\, Villa de Ma
 zo\, 38730\, España;X-APPLE-RADIUS=100;X-TITLE=Municipio de Villa de Mazo
 :geo:28.622071,-17.780675
END:VEVENT
END:VCALENDAR