BEGIN:VCALENDAR
VERSION:2.0
PRODID:-//wp-events-plugin.com//7.2.3.1//EN
TZID:Europe/London
X-WR-TIMEZONE:Europe/London
BEGIN:VEVENT
UID:3350@larevistadelapalma.com
DTSTART:20241102T190000Z
DTEND:20241102T203000Z
DTSTAMP:20241031T113637Z
URL:https://www.larevistadelapalma.com/events/mas-alto-que-el-cielo-nosotr
 os-el-secadero/
SUMMARY:CANCELADO "Más alto que el cielo\, nosotros"\, en El Espacio Cultu
 ral El Secadero
DESCRIPTION:\n\n\n* Suspendido\, por luto oficial en toda España\, por las
  consecuencias de la DANA que ha afectado al suroeste y otros puntos del p
 aís.\n\n\nEscrita por Javier Estévez\, dirigida por Luis O'malley y prod
 ucida por Angulo Producciones.\n\n\n\nAngulo Producciones nos trae esta ob
 ra sobre los primeros días de la Guerra Civil en Gran Canaria. Pero esta 
 es una obra diferente\, porque no busca juzgar los hechos ni ensalzar hér
 oes o señalar culpables. Este es un texto que quiere comprender\, que mir
 a al pasado no para evocarlo ni para revisarlo\, sino para cuestionarlo y 
 entenderlo.\nEsta es una oportunidad de acercarnos a un hecho histórico s
 in prejuicios ni estereotipos ideologizados. Un encuentro con el otro dond
 e lo importante no es la verdad histórica\, sino la tensión dramática q
 ue nace entre las convicciones y la realidad\, el deber y el deseo\, entre
  el miedo y la esperanza\, contrarios que se necesitan mutuamente\, que se
  dan sentido el uno al otro y que juntos crean la tela de araña de las co
 artadas vitales que nos sirven para escribir\, representar y disfrutar de 
 este arte inigualable y necesario que llamamos teatro.\n\n\nLa ciudad desp
 ierta con la noticia de que los militares se han rebelado. En Las Palmas 
 de Gran Canaria\, el general Luis Orgaz\, a quien Franco ha dejado al fre
 nte de los militares alzados\, dirige la rebelión con la intención de s
 ometer la isla de forma rápida y aplastante.\nInesperadamente\, las mil
 icias rebeldes se encuentran con la resistencia del alcalde de Guía\, qu
 ien se debate entre su lealtad republicana y su oposición a armar a la p
 oblación de su ciudad para evitar una confrontación civil. Pero las hor
 as pasan\, la resistencia se organiza y los militares se obstinan en toma
 r cuanto antes la ciudad.\n\n\n\n\n\n\n
ATTACH;FMTTYPE=image/jpeg:https://www.larevistadelapalma.com/wp-content/up
 loads/2024/10/Mas-alto-que-el-cielo-nosotros.jpg
CATEGORIES:Espectáculos,Teatro
LOCATION:Espacio Cultural El Secadero\, C. Rosal\, 3\,\, Los Llanos de Arid
 ane\, 38760\, España
GEO:28.659406;-17.907147
X-APPLE-STRUCTURED-LOCATION;VALUE=URI;X-ADDRESS=C. Rosal\, 3\,\, Los Llanos
  de Aridane\, 38760\, España;X-APPLE-RADIUS=100;X-TITLE=Espacio Cultural 
 El Secadero:geo:28.659406,-17.907147
END:VEVENT
END:VCALENDARBEGIN:VCALENDAR
VERSION:2.0
PRODID:-//wp-events-plugin.com//7.2.3.1//EN
TZID:Europe/London
X-WR-TIMEZONE:Europe/London
BEGIN:VEVENT
UID:3350@larevistadelapalma.com
DTSTART:20241102T190000Z
DTEND:20241102T203000Z
DTSTAMP:20241031T113637Z
URL:https://www.larevistadelapalma.com/events/mas-alto-que-el-cielo-nosotr
 os-el-secadero/
SUMMARY:CANCELADO "Más alto que el cielo\, nosotros"\, en El Espacio Cultu
 ral El Secadero
DESCRIPTION:\n\n\n* Suspendido\, por luto oficial en toda España\, por las
  consecuencias de la DANA que ha afectado al suroeste y otros puntos del p
 aís.\n\n\nEscrita por Javier Estévez\, dirigida por Luis O'malley y prod
 ucida por Angulo Producciones.\n\n\n\nAngulo Producciones nos trae esta ob
 ra sobre los primeros días de la Guerra Civil en Gran Canaria. Pero esta 
 es una obra diferente\, porque no busca juzgar los hechos ni ensalzar hér
 oes o señalar culpables. Este es un texto que quiere comprender\, que mir
 a al pasado no para evocarlo ni para revisarlo\, sino para cuestionarlo y 
 entenderlo.\nEsta es una oportunidad de acercarnos a un hecho histórico s
 in prejuicios ni estereotipos ideologizados. Un encuentro con el otro dond
 e lo importante no es la verdad histórica\, sino la tensión dramática q
 ue nace entre las convicciones y la realidad\, el deber y el deseo\, entre
  el miedo y la esperanza\, contrarios que se necesitan mutuamente\, que se
  dan sentido el uno al otro y que juntos crean la tela de araña de las co
 artadas vitales que nos sirven para escribir\, representar y disfrutar de 
 este arte inigualable y necesario que llamamos teatro.\n\n\nLa ciudad desp
 ierta con la noticia de que los militares se han rebelado. En Las Palmas 
 de Gran Canaria\, el general Luis Orgaz\, a quien Franco ha dejado al fre
 nte de los militares alzados\, dirige la rebelión con la intención de s
 ometer la isla de forma rápida y aplastante.\nInesperadamente\, las mil
 icias rebeldes se encuentran con la resistencia del alcalde de Guía\, qu
 ien se debate entre su lealtad republicana y su oposición a armar a la p
 oblación de su ciudad para evitar una confrontación civil. Pero las hor
 as pasan\, la resistencia se organiza y los militares se obstinan en toma
 r cuanto antes la ciudad.\n\n\n\n\n\n\n
ATTACH;FMTTYPE=image/jpeg:https://www.larevistadelapalma.com/wp-content/up
 loads/2024/10/Mas-alto-que-el-cielo-nosotros.jpg
CATEGORIES:Espectáculos,Teatro
LOCATION:Espacio Cultural El Secadero\, C. Rosal\, 3\,\, Los Llanos de Arid
 ane\, 38760\, España
GEO:28.659406;-17.907147
X-APPLE-STRUCTURED-LOCATION;VALUE=URI;X-ADDRESS=C. Rosal\, 3\,\, Los Llanos
  de Aridane\, 38760\, España;X-APPLE-RADIUS=100;X-TITLE=Espacio Cultural 
 El Secadero:geo:28.659406,-17.907147
END:VEVENT
END:VCALENDAR