BEGIN:VCALENDAR
VERSION:2.0
PRODID:-//wp-events-plugin.com//7.2.3.1//EN
TZID:Europe/London
X-WR-TIMEZONE:Europe/London
BEGIN:VEVENT
UID:4555@larevistadelapalma.com
DTSTART;VALUE=DATE:20260319
DTEND;VALUE=DATE:20260322
DTSTAMP:20260310T220318Z
URL:https://www.larevistadelapalma.com/events/mastercalss-de-trompeta-con-
 adan-delgado-illada-solista-de-la-orquesta-nacional-de-espana/
SUMMARY:Masterclass de trompeta con Adán Delgado Illada\, solista de la Or
 questa Nacional de España
DESCRIPTION:La Asoc. Academia de Instrumentos Musicales CajaCanarias\, cele
 brará un masterclass de trompeta del 19 al 21 de marzo\, en sus instalaci
 ones en horario de 10:00 a 13:00/ 17:00 a 20:00 h. esta masterclass de car
 ácter gratuito se encuentra dirigida a profesores\, alumnos de conservato
 rio\, academias o escuelas de música\, impartiendo la misma  Adán Delga
 do Illada\, trompeta solista de la Orquesta Nacional de España.\n\nDándo
 se clausura a la misma con un recital de trompeta y piano en La Real Socie
 dad de Instrucción y Recreo Aridane a las 19:00 h. dicho recital contará
  con la participación de D. Adán Delgado Illada (trompeta) y D. Miguel 
 Ángel Castro Alonso (piano). Con acceso libre y gratuito.\n\nPara informa
 ción y matricula deberán dirigirse a la Asoc. Academia de Instrumentos M
 usicales CajaCanarias\, en Centro Cultural Pérez Andréu en C/ Virgen de 
 La Luz nº 8 de Santa Cruz de La Palma\, de lunes a viernes de 16:00 a 20:
 00 h\, Tlfno.922416202.\nemail: academiamusicacajacanarias@hotmail.com.\n\
 nAdán Delgado Illada (1981)\, finaliza sus estudios en el Conservatorio S
 uperior de Tenerife\, bajo la tutela del Catedrático de Trompeta D. Agust
 ín Ramos. En 1998 es seleccionado como\nalumno becario de la Academia de 
 Estudios Orquestales de la OST\, con los profesores Stephen Leisring e Ing
 rid Rebstock. Ha participado en Master Classes con los profesores Leopoldo
  Vidal\,\nLuis González\, Joucko Harjanne\, Gabriele Cassone\, Andrew Iko
 v\, Vincent Penzarella\, Maurice André\, Christopher Cooper\, Haan Peter 
 Stagnes\, John Miller y Guy Touvron.\n\nForma parte de la Joven Orquesta N
 acional de España\, del Schleswig Holstein Music Festival\, de la Joven O
 rquesta de la Unión Europea y de la Orquesta Mundial de las Juventudes\nM
 usicales\; ha colaborado con la Orquesta Sinfónica de Tenerife\, Orquesta
  de Cámara “Reina Sofía”\, Orquesta de Granada\, Orquesta Sinfónica
  de Madrid\, Orquesta de Cadaqués\, Orquesta\nde Bilbao\, Orchestra Leono
 re\, Orquesta Sinfónica do Porto\, Orchestre Philharmonique Royal de Lié
 ge\, Plural Ensemble... \; actuando en Europa\, Japón\, Corea del Sur\, O
 mán\, México y China\n\; con los maestros Lutz Köhller\, Christopher Ho
 wgood\, Vladimir Ashkenazy \, Paavo Jarvi\, Jan Pascal Tortellier\, Frübe
 ck de Burgos\, Bernard Haitink\, Sir John Elliot Gardiner\, Nelo Santi\, L
 orin Maazel\, Zubin Mehta\, Valery Giergiev\, Sir Neville Marriner... \; e
 n salas como el Royal Albert Hall de Londres\, el Konzerthaus y Philharmon
 ie de Berlín\, Royal Concertgebouw de\nAmsterdam\, Suntory Hall de Tokio\
 , Teatro Juárez de Guanajuato\, Palacio de Bellas Artes de Ciudad de Méx
 ico\, Opera House de Mascate o Seul Arts Center.\n\nGalardonado en Varios 
 concursos como el primer premio del concurso internacional de trompeta “
 Yamaha Xeno 2004”\, o el primer premio en el X concurso internacional de
  trompeta en Benidorm 2008.\n\nTrompeta solista de la Orquesta Sinfónica 
 de Baleares (2004-2008)\, miembro de la Orquesta de la Comunitat Valencian
 a en el Palau de les Arts “Reina Sofía”(2008-2009). También desde el
 \n2004 miembro del quinteto de metales “5debrass” \,profesor del Conse
 rvatorio Superior de Música y Danza de les Illes Balears (2004-2014) y pr
 ofesor del Centro de Estudios Superiores\n“Katarina Gurska” (2017-2020
 ).\n\nEs invitado habitualmente para la realización de cursos y Master Cl
 asses a lo largo de toda la geografía española\, y mantiene una estrecha
  colaboración docente con el Tallinn Academy of Music and Theather (Eston
 ia). También ha impartido Master Classes y conciertos en el Conservatorio
  Glazunov (Rusia)\, Polonia\, México y China\, dónde\, además\, recient
 emente ha participado como jurado del Fuxin International Competition y Fu
 xin Art ́s Week\, además de realizar un recital dentro del mismo evento.
 \n\nComo solista es habitual su participación en recitales junto al piani
 sta Jaan Ots\, con el que tiene un dúo desde el 2008. Caben destacar sus 
 apariciones como solista con la O.S. Baleares\n(Concierto de Arutunian)\, 
 Camerata Sa Nostra (Telemann)\, Orquesta Filarmonía (Hummel)\, Orquesta d
 el festival “Isola Classica” en Italia\, Concierto de Shostakovich jun
 to a Rosa Torres Pardo en la Mezquita de Córdoba...\, e invitado frecuent
 emente a formar parte del jurado y profesor en las audiciones de selecció
 n de la Joven Orquesta Nacional de España (desde el 2010)\, y diversos co
 ncursos Nacionales e Internacionales\, Invitado como profesor en la EUYO\,
  JONDE\, OJA\, JOCAN...\n\nDesde el 2009 es Trompeta Solista de la Orquest
 a Nacional de España\, profesor del Centro Superior “Musical Arts Madri
 d” y miembro fundador del brassONEquintet .\nAdán Delgado es artista de
  la marca STOMVI.
ATTACH;FMTTYPE=image/jpeg:https://www.larevistadelapalma.com/wp-content/up
 loads/2026/03/CARTEL-ADAN.jpg
CATEGORIES:Formación,Otras propuestas
LOCATION:Municipio de Santa Cruz de La Palma\, Santa Cruz de La Palma \, Sa
 nta Cruz de La Palma \, 38700\, España
GEO:28.688757;-17.765102
X-APPLE-STRUCTURED-LOCATION;VALUE=URI;X-ADDRESS=Santa Cruz de La Palma \, S
 anta Cruz de La Palma \, 38700\, España;X-APPLE-RADIUS=100;X-TITLE=Munici
 pio de Santa Cruz de La Palma:geo:28.688757,-17.765102
END:VEVENT
END:VCALENDARBEGIN:VCALENDAR
VERSION:2.0
PRODID:-//wp-events-plugin.com//7.2.3.1//EN
TZID:Europe/London
X-WR-TIMEZONE:Europe/London
BEGIN:VEVENT
UID:4555@larevistadelapalma.com
DTSTART;VALUE=DATE:20260319
DTEND;VALUE=DATE:20260322
DTSTAMP:20260310T220318Z
URL:https://www.larevistadelapalma.com/events/mastercalss-de-trompeta-con-
 adan-delgado-illada-solista-de-la-orquesta-nacional-de-espana/
SUMMARY:Masterclass de trompeta con Adán Delgado Illada\, solista de la Or
 questa Nacional de España
DESCRIPTION:La Asoc. Academia de Instrumentos Musicales CajaCanarias\, cele
 brará un masterclass de trompeta del 19 al 21 de marzo\, en sus instalaci
 ones en horario de 10:00 a 13:00/ 17:00 a 20:00 h. esta masterclass de car
 ácter gratuito se encuentra dirigida a profesores\, alumnos de conservato
 rio\, academias o escuelas de música\, impartiendo la misma  Adán Delga
 do Illada\, trompeta solista de la Orquesta Nacional de España.\n\nDándo
 se clausura a la misma con un recital de trompeta y piano en La Real Socie
 dad de Instrucción y Recreo Aridane a las 19:00 h. dicho recital contará
  con la participación de D. Adán Delgado Illada (trompeta) y D. Miguel 
 Ángel Castro Alonso (piano). Con acceso libre y gratuito.\n\nPara informa
 ción y matricula deberán dirigirse a la Asoc. Academia de Instrumentos M
 usicales CajaCanarias\, en Centro Cultural Pérez Andréu en C/ Virgen de 
 La Luz nº 8 de Santa Cruz de La Palma\, de lunes a viernes de 16:00 a 20:
 00 h\, Tlfno.922416202.\nemail: academiamusicacajacanarias@hotmail.com.\n\
 nAdán Delgado Illada (1981)\, finaliza sus estudios en el Conservatorio S
 uperior de Tenerife\, bajo la tutela del Catedrático de Trompeta D. Agust
 ín Ramos. En 1998 es seleccionado como\nalumno becario de la Academia de 
 Estudios Orquestales de la OST\, con los profesores Stephen Leisring e Ing
 rid Rebstock. Ha participado en Master Classes con los profesores Leopoldo
  Vidal\,\nLuis González\, Joucko Harjanne\, Gabriele Cassone\, Andrew Iko
 v\, Vincent Penzarella\, Maurice André\, Christopher Cooper\, Haan Peter 
 Stagnes\, John Miller y Guy Touvron.\n\nForma parte de la Joven Orquesta N
 acional de España\, del Schleswig Holstein Music Festival\, de la Joven O
 rquesta de la Unión Europea y de la Orquesta Mundial de las Juventudes\nM
 usicales\; ha colaborado con la Orquesta Sinfónica de Tenerife\, Orquesta
  de Cámara “Reina Sofía”\, Orquesta de Granada\, Orquesta Sinfónica
  de Madrid\, Orquesta de Cadaqués\, Orquesta\nde Bilbao\, Orchestra Leono
 re\, Orquesta Sinfónica do Porto\, Orchestre Philharmonique Royal de Lié
 ge\, Plural Ensemble... \; actuando en Europa\, Japón\, Corea del Sur\, O
 mán\, México y China\n\; con los maestros Lutz Köhller\, Christopher Ho
 wgood\, Vladimir Ashkenazy \, Paavo Jarvi\, Jan Pascal Tortellier\, Frübe
 ck de Burgos\, Bernard Haitink\, Sir John Elliot Gardiner\, Nelo Santi\, L
 orin Maazel\, Zubin Mehta\, Valery Giergiev\, Sir Neville Marriner... \; e
 n salas como el Royal Albert Hall de Londres\, el Konzerthaus y Philharmon
 ie de Berlín\, Royal Concertgebouw de\nAmsterdam\, Suntory Hall de Tokio\
 , Teatro Juárez de Guanajuato\, Palacio de Bellas Artes de Ciudad de Méx
 ico\, Opera House de Mascate o Seul Arts Center.\n\nGalardonado en Varios 
 concursos como el primer premio del concurso internacional de trompeta “
 Yamaha Xeno 2004”\, o el primer premio en el X concurso internacional de
  trompeta en Benidorm 2008.\n\nTrompeta solista de la Orquesta Sinfónica 
 de Baleares (2004-2008)\, miembro de la Orquesta de la Comunitat Valencian
 a en el Palau de les Arts “Reina Sofía”(2008-2009). También desde el
 \n2004 miembro del quinteto de metales “5debrass” \,profesor del Conse
 rvatorio Superior de Música y Danza de les Illes Balears (2004-2014) y pr
 ofesor del Centro de Estudios Superiores\n“Katarina Gurska” (2017-2020
 ).\n\nEs invitado habitualmente para la realización de cursos y Master Cl
 asses a lo largo de toda la geografía española\, y mantiene una estrecha
  colaboración docente con el Tallinn Academy of Music and Theather (Eston
 ia). También ha impartido Master Classes y conciertos en el Conservatorio
  Glazunov (Rusia)\, Polonia\, México y China\, dónde\, además\, recient
 emente ha participado como jurado del Fuxin International Competition y Fu
 xin Art ́s Week\, además de realizar un recital dentro del mismo evento.
 \n\nComo solista es habitual su participación en recitales junto al piani
 sta Jaan Ots\, con el que tiene un dúo desde el 2008. Caben destacar sus 
 apariciones como solista con la O.S. Baleares\n(Concierto de Arutunian)\, 
 Camerata Sa Nostra (Telemann)\, Orquesta Filarmonía (Hummel)\, Orquesta d
 el festival “Isola Classica” en Italia\, Concierto de Shostakovich jun
 to a Rosa Torres Pardo en la Mezquita de Córdoba...\, e invitado frecuent
 emente a formar parte del jurado y profesor en las audiciones de selecció
 n de la Joven Orquesta Nacional de España (desde el 2010)\, y diversos co
 ncursos Nacionales e Internacionales\, Invitado como profesor en la EUYO\,
  JONDE\, OJA\, JOCAN...\n\nDesde el 2009 es Trompeta Solista de la Orquest
 a Nacional de España\, profesor del Centro Superior “Musical Arts Madri
 d” y miembro fundador del brassONEquintet .\nAdán Delgado es artista de
  la marca STOMVI.
ATTACH;FMTTYPE=image/jpeg:https://www.larevistadelapalma.com/wp-content/up
 loads/2026/03/CARTEL-ADAN.jpg
CATEGORIES:Formación,Otras propuestas
LOCATION:Municipio de Santa Cruz de La Palma\, Santa Cruz de La Palma \, Sa
 nta Cruz de La Palma \, 38700\, España
GEO:28.688757;-17.765102
X-APPLE-STRUCTURED-LOCATION;VALUE=URI;X-ADDRESS=Santa Cruz de La Palma \, S
 anta Cruz de La Palma \, 38700\, España;X-APPLE-RADIUS=100;X-TITLE=Munici
 pio de Santa Cruz de La Palma:geo:28.688757,-17.765102
END:VEVENT
END:VCALENDAR