BEGIN:VCALENDAR
VERSION:2.0
PRODID:-//wp-events-plugin.com//7.2.3.1//EN
TZID:Europe/London
X-WR-TIMEZONE:Europe/London
BEGIN:VEVENT
UID:3745@larevistadelapalma.com
DTSTART;VALUE=DATE:20250523
DTEND;VALUE=DATE:20250526
DTSTAMP:20250508T195113Z
URL:https://www.larevistadelapalma.com/events/masterclass-de-clarinete/
SUMMARY:Masterclass de clarinete (gratuita)
DESCRIPTION:La Asoc. Academia de Instrumentos Musicales CajaCanarias \, cel
 ebrará del 23 al 25 de mayo\, una masterclass de clarinete dirigida a alu
 mnos de todos los niveles\, con carácter gratuito.\n\nDicha masterclass e
 stará impartida por D. Samuel Hernández Ávila\, clarinetista de la orqu
 esta filarmónica de Gran Canaria. \nLa inscripción y matrícula gratuita
  se encontrará abierta del 01 al 22 de mayo.\nPara más información y ma
 tricula se podrán dirigir a:\n\n 	Academia de Instrumentos Musicales Caja
 Canarias\n 	Centro Cultural Pérez Andréu- C/ Virgen de La Luz nº8-Santa
  Cruz de La Palma.\n 	Tlfno. 922416202 – email: academiamusicacanacanari
 as@hotmail.com\n 	www.academiamusicacajacanarias.com.\n\n&nbsp\;\n\n Samu
 el Hernández Ávila nació en La Laguna e inició su formación musical e
 n el Conservatorio Profesional de Música de Tenerife y en el Conservatori
 o Superior de Música de Canarias. Más tarde\, obtuvo una beca para conti
 nuar sus estudios de Postgrado y Master en el Royal Conservatoire of Scotl
 and\, donde se graduó con Distinción y Honores. Durante su trayectoria\,
  ha sido galardonado con importantes premios\, como el RSAMD Trust\, Gover
 nor ́s soloist woodwind Competition y el Mary D.Adams Prize. \n\nHa colab
 orado con prestigiosas orquestas en Europa y Asia\, como la Orchestre de C
 hambre de Paris\, Scottish Chamber Orchestra\, Royal Scottish National Orc
 hestra\, Northern Sinfonia\, Orquesta Sinfónica de Tenerife\, Scottish Op
 era\, BBC SSO\, Macao Orchestra\, Asia-Pacific Union Orchestra\, y ha actu
 ado en salas de conciertos y festivales importantes de todo el mundo\, com
 o el Musikverien (Viena)\, Royal Albert Hall (Londres)\, Shanghai Concert 
 Hall (China)\, Performing art Center de Beijing (China) y los BBC Proms (L
 ondres). En la actualidad es Clarinete Solista con obligación de Clarinet
 e bajo y 2ª clarinete de la Orquesta Filarmónica de Gran Canaria y Profe
 sor de la Academia de la propia Orquesta.
ATTACH;FMTTYPE=image/jpeg:https://www.larevistadelapalma.com/wp-content/up
 loads/2025/05/WhatsApp-Image-2025-04-29-at-14.23.49.jpeg
CATEGORIES:Formación,Otras propuestas
LOCATION:Municipio de Santa Cruz de La Palma\, Santa Cruz de La Palma \, Sa
 nta Cruz de La Palma \, 38700\, España
GEO:28.688757;-17.765102
X-APPLE-STRUCTURED-LOCATION;VALUE=URI;X-ADDRESS=Santa Cruz de La Palma \, S
 anta Cruz de La Palma \, 38700\, España;X-APPLE-RADIUS=100;X-TITLE=Munici
 pio de Santa Cruz de La Palma:geo:28.688757,-17.765102
END:VEVENT
END:VCALENDARBEGIN:VCALENDAR
VERSION:2.0
PRODID:-//wp-events-plugin.com//7.2.3.1//EN
TZID:Europe/London
X-WR-TIMEZONE:Europe/London
BEGIN:VEVENT
UID:3745@larevistadelapalma.com
DTSTART;VALUE=DATE:20250523
DTEND;VALUE=DATE:20250526
DTSTAMP:20250508T195113Z
URL:https://www.larevistadelapalma.com/events/masterclass-de-clarinete/
SUMMARY:Masterclass de clarinete (gratuita)
DESCRIPTION:La Asoc. Academia de Instrumentos Musicales CajaCanarias \, cel
 ebrará del 23 al 25 de mayo\, una masterclass de clarinete dirigida a alu
 mnos de todos los niveles\, con carácter gratuito.\n\nDicha masterclass e
 stará impartida por D. Samuel Hernández Ávila\, clarinetista de la orqu
 esta filarmónica de Gran Canaria. \nLa inscripción y matrícula gratuita
  se encontrará abierta del 01 al 22 de mayo.\nPara más información y ma
 tricula se podrán dirigir a:\n\n 	Academia de Instrumentos Musicales Caja
 Canarias\n 	Centro Cultural Pérez Andréu- C/ Virgen de La Luz nº8-Santa
  Cruz de La Palma.\n 	Tlfno. 922416202 – email: academiamusicacanacanari
 as@hotmail.com\n 	www.academiamusicacajacanarias.com.\n\n&nbsp\;\n\n Samu
 el Hernández Ávila nació en La Laguna e inició su formación musical e
 n el Conservatorio Profesional de Música de Tenerife y en el Conservatori
 o Superior de Música de Canarias. Más tarde\, obtuvo una beca para conti
 nuar sus estudios de Postgrado y Master en el Royal Conservatoire of Scotl
 and\, donde se graduó con Distinción y Honores. Durante su trayectoria\,
  ha sido galardonado con importantes premios\, como el RSAMD Trust\, Gover
 nor ́s soloist woodwind Competition y el Mary D.Adams Prize. \n\nHa colab
 orado con prestigiosas orquestas en Europa y Asia\, como la Orchestre de C
 hambre de Paris\, Scottish Chamber Orchestra\, Royal Scottish National Orc
 hestra\, Northern Sinfonia\, Orquesta Sinfónica de Tenerife\, Scottish Op
 era\, BBC SSO\, Macao Orchestra\, Asia-Pacific Union Orchestra\, y ha actu
 ado en salas de conciertos y festivales importantes de todo el mundo\, com
 o el Musikverien (Viena)\, Royal Albert Hall (Londres)\, Shanghai Concert 
 Hall (China)\, Performing art Center de Beijing (China) y los BBC Proms (L
 ondres). En la actualidad es Clarinete Solista con obligación de Clarinet
 e bajo y 2ª clarinete de la Orquesta Filarmónica de Gran Canaria y Profe
 sor de la Academia de la propia Orquesta.
ATTACH;FMTTYPE=image/jpeg:https://www.larevistadelapalma.com/wp-content/up
 loads/2025/05/WhatsApp-Image-2025-04-29-at-14.23.49.jpeg
CATEGORIES:Formación,Otras propuestas
LOCATION:Municipio de Santa Cruz de La Palma\, Santa Cruz de La Palma \, Sa
 nta Cruz de La Palma \, 38700\, España
GEO:28.688757;-17.765102
X-APPLE-STRUCTURED-LOCATION;VALUE=URI;X-ADDRESS=Santa Cruz de La Palma \, S
 anta Cruz de La Palma \, 38700\, España;X-APPLE-RADIUS=100;X-TITLE=Munici
 pio de Santa Cruz de La Palma:geo:28.688757,-17.765102
END:VEVENT
END:VCALENDAR