BEGIN:VCALENDAR
VERSION:2.0
PRODID:-//wp-events-plugin.com//7.2.3.1//EN
TZID:Europe/London
X-WR-TIMEZONE:Europe/London
BEGIN:VEVENT
UID:4096@larevistadelapalma.com
DTSTART;VALUE=DATE:20251219
DTEND;VALUE=DATE:20251222
DTSTAMP:20251210T202853Z
URL:https://www.larevistadelapalma.com/events/masterclass-de-danza-perform
 ance-y-rodaje-artistico-en-santa-cruz-de-la-palma/
SUMMARY:Masterclass de danza-performance y rodaje artístico en Santa Cruz 
 de La Palma
DESCRIPTION:Alter Consciens organiza una masterclass de danza-performance y
  un rodaje artístico en Santa Cruz de La Palma.\n\nLa asociación Alter 
 Consciens\, en colaboración con Canary Dance Connection\, el Área de J
 uventud del Cabildo de La Palma y el Área de Cultura del Cabildo de La 
 Palma\, presenta una nueva acción formativa y creativa dentro del proyect
 o Alisios en Danza\, una iniciativa centrada en procesos contemporáneos 
 que conectan el cuerpo\, el territorio y la creación audiovisual.\n\nCon 
 sede en la comarca noroeste\, concretamente en Garafía\, Alter Conscien
 s trabaja desde sus inicios para fortalecer la creación artística en tod
 os los municipios de la isla.\nUno de sus objetivos fundamentales es teje
 r una red insular de colaboración\, acompañamiento y creación\, promovi
 endo el encuentro entre artistas\, jóvenes creadoras/es y comunidades de 
 diferentes zonas de La Palma.\n\nCon esta actividad en Santa Cruz de La P
 alma\, la asociación continúa abriendo puentes entre lo rural y lo urban
 o\, ampliando la red creativa hacia la capital e impulsando nuevas conexio
 nes entre territorios y prácticas artísticas contemporáneas.\n\nAlisios
  en Danza se ha consolidado como un laboratorio de experimentación donde
  la danza\, el paisaje\, la juventud y la creación colectiva se entrelaza
 n para generar piezas que nacen desde la isla y dialogan con sus espacios 
 naturales y urbanos.\nEl proyecto impulsa la participación de jóvenes cr
 eadoras/es\, fomenta nuevas prácticas escénicas y fortalece las redes cu
 lturales dentro de la isla.\n\nEn este contexto\, los días 19 y 21 de di
 ciembre se desarrollarán dos actividades principales en Santa Cruz de L
 a Palma:\n\n\n\n Masterclass de Danza &amp\; Performance\n19 de diciembre
  | 17:00–20:00 hrs\nLugar: Santa Cruz de La Palma\n\nImpartida por Iani
 re Madariaga\, Aroa de Francisco y Begoña Grande\, esta masterclass propo
 ne un espacio de exploración corporal\, escucha sensorial\, presencia y c
 onexión con el territorio. El trabajo se centrará en conceptos como cuer
 po-territorio\, memoria del lugar y creación desde la sensibilidad\, como
  preparación para la acción audiovisual del día 21.\n\n\n\n Rodaje de 
 una pieza de vídeo-performance\n21 de diciembre | 09:00–13:00 hrs\nLuga
 r: Santa Cruz de La Palma\n\nEl encuentro culminará con el rodaje de una 
 pieza de vídeo-performance en espacios naturales del municipio. Las perso
 nas participantes vivirán un proceso artístico real\, integrando danza\,
  imagen\, naturaleza y acción colectiva para crear una obra visual vincul
 ada al paisaje y a la identidad del territorio.\n\n\n\n Objetivos del pro
 yecto\n\n 	Fomentar la creatividad juvenil y el acceso a prácticas contem
 poráneas.\n 	Impulsar la creación artística vinculada al territorio y a
  la escucha del cuerpo.\n 	Generar experiencias colaborativas entre artist
 as locales y nuevas generaciones.\n 	Fortalecer redes culturales en La Pal
 ma\, especialmente entre Garafía\, los municipios de la comarca noroeste 
 y la capital.\n 	Potenciar la presencia de la danza-performance y el audio
 visual en el contexto insular.\n\n\n\n\nLa actividad es gratuita y requi
 ere inscripción previa.\n\nPara información y reservas:\nBegoña Grande
  – 644 72 13 85\nAsociación Alter Consciens
ATTACH;FMTTYPE=image/jpeg:https://www.larevistadelapalma.com/wp-content/up
 loads/2025/12/masterclass.png
CATEGORIES:Formación,Otras propuestas
LOCATION:Municipio de Santa Cruz de La Palma\, Santa Cruz de La Palma \, Sa
 nta Cruz de La Palma \, 38700\, España
GEO:28.688757;-17.765102
X-APPLE-STRUCTURED-LOCATION;VALUE=URI;X-ADDRESS=Santa Cruz de La Palma \, S
 anta Cruz de La Palma \, 38700\, España;X-APPLE-RADIUS=100;X-TITLE=Munici
 pio de Santa Cruz de La Palma:geo:28.688757,-17.765102
END:VEVENT
END:VCALENDARBEGIN:VCALENDAR
VERSION:2.0
PRODID:-//wp-events-plugin.com//7.2.3.1//EN
TZID:Europe/London
X-WR-TIMEZONE:Europe/London
BEGIN:VEVENT
UID:4096@larevistadelapalma.com
DTSTART;VALUE=DATE:20251219
DTEND;VALUE=DATE:20251222
DTSTAMP:20251210T202853Z
URL:https://www.larevistadelapalma.com/events/masterclass-de-danza-perform
 ance-y-rodaje-artistico-en-santa-cruz-de-la-palma/
SUMMARY:Masterclass de danza-performance y rodaje artístico en Santa Cruz 
 de La Palma
DESCRIPTION:Alter Consciens organiza una masterclass de danza-performance y
  un rodaje artístico en Santa Cruz de La Palma.\n\nLa asociación Alter 
 Consciens\, en colaboración con Canary Dance Connection\, el Área de J
 uventud del Cabildo de La Palma y el Área de Cultura del Cabildo de La 
 Palma\, presenta una nueva acción formativa y creativa dentro del proyect
 o Alisios en Danza\, una iniciativa centrada en procesos contemporáneos 
 que conectan el cuerpo\, el territorio y la creación audiovisual.\n\nCon 
 sede en la comarca noroeste\, concretamente en Garafía\, Alter Conscien
 s trabaja desde sus inicios para fortalecer la creación artística en tod
 os los municipios de la isla.\nUno de sus objetivos fundamentales es teje
 r una red insular de colaboración\, acompañamiento y creación\, promovi
 endo el encuentro entre artistas\, jóvenes creadoras/es y comunidades de 
 diferentes zonas de La Palma.\n\nCon esta actividad en Santa Cruz de La P
 alma\, la asociación continúa abriendo puentes entre lo rural y lo urban
 o\, ampliando la red creativa hacia la capital e impulsando nuevas conexio
 nes entre territorios y prácticas artísticas contemporáneas.\n\nAlisios
  en Danza se ha consolidado como un laboratorio de experimentación donde
  la danza\, el paisaje\, la juventud y la creación colectiva se entrelaza
 n para generar piezas que nacen desde la isla y dialogan con sus espacios 
 naturales y urbanos.\nEl proyecto impulsa la participación de jóvenes cr
 eadoras/es\, fomenta nuevas prácticas escénicas y fortalece las redes cu
 lturales dentro de la isla.\n\nEn este contexto\, los días 19 y 21 de di
 ciembre se desarrollarán dos actividades principales en Santa Cruz de L
 a Palma:\n\n\n\n Masterclass de Danza &amp\; Performance\n19 de diciembre
  | 17:00–20:00 hrs\nLugar: Santa Cruz de La Palma\n\nImpartida por Iani
 re Madariaga\, Aroa de Francisco y Begoña Grande\, esta masterclass propo
 ne un espacio de exploración corporal\, escucha sensorial\, presencia y c
 onexión con el territorio. El trabajo se centrará en conceptos como cuer
 po-territorio\, memoria del lugar y creación desde la sensibilidad\, como
  preparación para la acción audiovisual del día 21.\n\n\n\n Rodaje de 
 una pieza de vídeo-performance\n21 de diciembre | 09:00–13:00 hrs\nLuga
 r: Santa Cruz de La Palma\n\nEl encuentro culminará con el rodaje de una 
 pieza de vídeo-performance en espacios naturales del municipio. Las perso
 nas participantes vivirán un proceso artístico real\, integrando danza\,
  imagen\, naturaleza y acción colectiva para crear una obra visual vincul
 ada al paisaje y a la identidad del territorio.\n\n\n\n Objetivos del pro
 yecto\n\n 	Fomentar la creatividad juvenil y el acceso a prácticas contem
 poráneas.\n 	Impulsar la creación artística vinculada al territorio y a
  la escucha del cuerpo.\n 	Generar experiencias colaborativas entre artist
 as locales y nuevas generaciones.\n 	Fortalecer redes culturales en La Pal
 ma\, especialmente entre Garafía\, los municipios de la comarca noroeste 
 y la capital.\n 	Potenciar la presencia de la danza-performance y el audio
 visual en el contexto insular.\n\n\n\n\nLa actividad es gratuita y requi
 ere inscripción previa.\n\nPara información y reservas:\nBegoña Grande
  – 644 72 13 85\nAsociación Alter Consciens
ATTACH;FMTTYPE=image/jpeg:https://www.larevistadelapalma.com/wp-content/up
 loads/2025/12/masterclass.png
CATEGORIES:Formación,Otras propuestas
LOCATION:Municipio de Santa Cruz de La Palma\, Santa Cruz de La Palma \, Sa
 nta Cruz de La Palma \, 38700\, España
GEO:28.688757;-17.765102
X-APPLE-STRUCTURED-LOCATION;VALUE=URI;X-ADDRESS=Santa Cruz de La Palma \, S
 anta Cruz de La Palma \, 38700\, España;X-APPLE-RADIUS=100;X-TITLE=Munici
 pio de Santa Cruz de La Palma:geo:28.688757,-17.765102
END:VEVENT
END:VCALENDAR