BEGIN:VCALENDAR
VERSION:2.0
PRODID:-//wp-events-plugin.com//7.2.3.1//EN
TZID:Europe/London
X-WR-TIMEZONE:Europe/London
BEGIN:VEVENT
UID:3563@larevistadelapalma.com
DTSTART:20250131T170000Z
DTEND:20250131T183000Z
DTSTAMP:20250123T213544Z
URL:https://www.larevistadelapalma.com/events/masterclass-ser-tu-prioridad
 -museo-del-puro/
SUMMARY:Masterclass "Ser tu prioridad"\, Museo del Puro
DESCRIPTION:\nEn esta MasterClass de Karuzen\, Patricia Landínez y Tu Coac
 h en La Palma\, descubrirás:\n\n\n 	La relación entre creencias y actitu
 des en la postura corporal y en la tensión muscular.\n 	Cómo construimos
  y nos identificamos con nuestros personajes limitantes y cómo comenzar a
  transformarnos.\n 	Practicaremos el equilibrar nuestros hemisferios cereb
 rales como herramienta en esta transformación.\n\nLa MasterClass es gratu
 ita solo te piden que te inscribas para reservar tu plaza.\n\n
ATTACH;FMTTYPE=image/jpeg:https://www.larevistadelapalma.com/wp-content/up
 loads/2025/01/master-class-Ser-tu-prioridad.jpg
CATEGORIES:Formación,Otras propuestas
LOCATION:Museo del Puro Palmero\, Parque de Los Álamos\, Breña Alta\, 387
 10\, España
GEO:28.666832;-17.787186
X-APPLE-STRUCTURED-LOCATION;VALUE=URI;X-ADDRESS=Parque de Los Álamos\, Bre
 ña Alta\, 38710\, España;X-APPLE-RADIUS=100;X-TITLE=Museo del Puro Palme
 ro:geo:28.666832,-17.787186
END:VEVENT
END:VCALENDARBEGIN:VCALENDAR
VERSION:2.0
PRODID:-//wp-events-plugin.com//7.2.3.1//EN
TZID:Europe/London
X-WR-TIMEZONE:Europe/London
BEGIN:VEVENT
UID:3563@larevistadelapalma.com
DTSTART:20250131T170000Z
DTEND:20250131T183000Z
DTSTAMP:20250123T213544Z
URL:https://www.larevistadelapalma.com/events/masterclass-ser-tu-prioridad
 -museo-del-puro/
SUMMARY:Masterclass "Ser tu prioridad"\, Museo del Puro
DESCRIPTION:\nEn esta MasterClass de Karuzen\, Patricia Landínez y Tu Coac
 h en La Palma\, descubrirás:\n\n\n 	La relación entre creencias y actitu
 des en la postura corporal y en la tensión muscular.\n 	Cómo construimos
  y nos identificamos con nuestros personajes limitantes y cómo comenzar a
  transformarnos.\n 	Practicaremos el equilibrar nuestros hemisferios cereb
 rales como herramienta en esta transformación.\n\nLa MasterClass es gratu
 ita solo te piden que te inscribas para reservar tu plaza.\n\n
ATTACH;FMTTYPE=image/jpeg:https://www.larevistadelapalma.com/wp-content/up
 loads/2025/01/master-class-Ser-tu-prioridad.jpg
CATEGORIES:Formación,Otras propuestas
LOCATION:Museo del Puro Palmero\, Parque de Los Álamos\, Breña Alta\, 387
 10\, España
GEO:28.666832;-17.787186
X-APPLE-STRUCTURED-LOCATION;VALUE=URI;X-ADDRESS=Parque de Los Álamos\, Bre
 ña Alta\, 38710\, España;X-APPLE-RADIUS=100;X-TITLE=Museo del Puro Palme
 ro:geo:28.666832,-17.787186
END:VEVENT
END:VCALENDAR