BEGIN:VCALENDAR
VERSION:2.0
PRODID:-//wp-events-plugin.com//7.2.3.1//EN
TZID:Europe/London
X-WR-TIMEZONE:Europe/London
BEGIN:VEVENT
UID:2987@larevistadelapalma.com
DTSTART:20240517T200000Z
DTEND:20240517T213000Z
DTSTAMP:20240513T201313Z
URL:https://www.larevistadelapalma.com/events/mayo-en-taburiente/
SUMMARY:Concierto “Mayo en Taburiente"
DESCRIPTION:La Plaza Santo Domingo acogerá el próximo viernes 17 de mayo 
 el Festival “Mayo en Taburiente ” a las 21:00 horas con las composicio
 nes más tradicionales del Grupo Taburiente.Luis Morera\, Miguel Pérez y 
 Manolo Pérez se unieron a mediados de los años 70 para crear Taburiente.
  Desde entonces siempre han estados activos. Se les considera padres de la
  música de raíz canaria y\, también\, una clara influencia para los art
 istas y grupos posteriores.
ATTACH;FMTTYPE=image/jpeg:https://www.larevistadelapalma.com/wp-content/up
 loads/2024/05/Mayo-en-Taburiente.jpg
CATEGORIES:Conciertos,Música
LOCATION:Plaza de Santo Domingo en Santa Cruz de La Palma\, Plaza Santo Dom
 ingo\, Santa Cruz de La Palma\, 38700\, España
GEO:28.682691;-17.766334
X-APPLE-STRUCTURED-LOCATION;VALUE=URI;X-ADDRESS=Plaza Santo Domingo\, Santa
  Cruz de La Palma\, 38700\, España;X-APPLE-RADIUS=100;X-TITLE=Plaza de Sa
 nto Domingo en Santa Cruz de La Palma:geo:28.682691,-17.766334
END:VEVENT
END:VCALENDARBEGIN:VCALENDAR
VERSION:2.0
PRODID:-//wp-events-plugin.com//7.2.3.1//EN
TZID:Europe/London
X-WR-TIMEZONE:Europe/London
BEGIN:VEVENT
UID:2987@larevistadelapalma.com
DTSTART:20240517T200000Z
DTEND:20240517T213000Z
DTSTAMP:20240513T201313Z
URL:https://www.larevistadelapalma.com/events/mayo-en-taburiente/
SUMMARY:Concierto “Mayo en Taburiente"
DESCRIPTION:La Plaza Santo Domingo acogerá el próximo viernes 17 de mayo 
 el Festival “Mayo en Taburiente ” a las 21:00 horas con las composicio
 nes más tradicionales del Grupo Taburiente.Luis Morera\, Miguel Pérez y 
 Manolo Pérez se unieron a mediados de los años 70 para crear Taburiente.
  Desde entonces siempre han estados activos. Se les considera padres de la
  música de raíz canaria y\, también\, una clara influencia para los art
 istas y grupos posteriores.
ATTACH;FMTTYPE=image/jpeg:https://www.larevistadelapalma.com/wp-content/up
 loads/2024/05/Mayo-en-Taburiente.jpg
CATEGORIES:Conciertos,Música
LOCATION:Plaza de Santo Domingo en Santa Cruz de La Palma\, Plaza Santo Dom
 ingo\, Santa Cruz de La Palma\, 38700\, España
GEO:28.682691;-17.766334
X-APPLE-STRUCTURED-LOCATION;VALUE=URI;X-ADDRESS=Plaza Santo Domingo\, Santa
  Cruz de La Palma\, 38700\, España;X-APPLE-RADIUS=100;X-TITLE=Plaza de Sa
 nto Domingo en Santa Cruz de La Palma:geo:28.682691,-17.766334
END:VEVENT
END:VCALENDAR