BEGIN:VCALENDAR
VERSION:2.0
PRODID:-//wp-events-plugin.com//7.2.3.1//EN
TZID:Europe/London
X-WR-TIMEZONE:Europe/London
BEGIN:VEVENT
UID:3247@larevistadelapalma.com
DTSTART;VALUE=DATE:20241012
DTEND;VALUE=DATE:20241013
DTSTAMP:20240918T174730Z
URL:https://www.larevistadelapalma.com/events/mazo-acoge-la-ii-concentraci
 on-cultural-hierros-de-mazo/
SUMMARY:Mazo acoge la II Concentración Cultural ‘Hierros de Mazo’
DESCRIPTION:Esta actividad tiene como objetivo reunir a los apasionados de 
 los vehículos históricos\, especialmente los Land Rover\, y fomentar la 
 conservación del Patrimonio Industrial y Automovilístico.\nEl Ayuntamien
 to de Villa de Mazo organiza por segundo año consecutivo la II Concentrac
 ión Cultural ‘Hierros de Mazo’\, un evento que se celebrará el próx
 imo 12 de octubre en el anexo del Centro Cultural de Andares. Esta activid
 ad tiene como objetivo reunir a los apasionados de los vehículos históri
 cos\, especialmente los Land Rover\, y fomentar la conservación del Patri
 monio Industrial y Automovilístico.\n\nEl evento\, que ya cuenta con un c
 onsiderable número de inscritos\, seguirá la misma estructura que el añ
 o pasado\, pero incluirá algunas sorpresas y mejoras que prometen hacer d
 e esta edición una experiencia inolvidable. Los asistentes podrán disfru
 tar de una jornada repleta de momentos para compartir experiencias\, conoc
 imientos y disfrutar del ambiente único que caracteriza a este tipo de co
 ncentraciones.\n\nEl evento cuenta con inscripción gratuita\, que se pued
 e realizar a través del correo hierrosdemazo@gmail.com \, por teléfono a
 l 670772430\, o mediante mensaje directo en redes sociales. El cartel de e
 sta edición ha sido diseñado por industrialmagua\, tomando como referenc
 ia un emblemático Land Rover Serie I 107 de la colección de la Casa del 
 Plátano.\n\nEl Ayuntamiento de Villa de Mazo invita a todas las personas 
 interesadas a participar en esta jornada cultural que busca estrechar lazo
 s entre los aficionados a los vehículos históricos y seguir trabajando e
 n la conservación de nuestro patrimonio.\n\n&nbsp\;
ATTACH;FMTTYPE=image/jpeg:https://www.larevistadelapalma.com/wp-content/up
 loads/2024/09/Cartel-Villa-de-Mazo-concentracion-Hierros-de-Mazo.jpg
CATEGORIES:Exposiciones,Otras propuestas,Varios
LOCATION:Centro de la Cultura Andares\, Ctra. Dr. Morera Bravo\, 2. El Pueb
 lo.\, Villa de Mazo\, 38730\, España
GEO:28.604882;-17.777431
X-APPLE-STRUCTURED-LOCATION;VALUE=URI;X-ADDRESS=Ctra. Dr. Morera Bravo\, 2.
  El Pueblo.\, Villa de Mazo\, 38730\, España;X-APPLE-RADIUS=100;X-TITLE=C
 entro de la Cultura Andares:geo:28.604882,-17.777431
END:VEVENT
END:VCALENDARBEGIN:VCALENDAR
VERSION:2.0
PRODID:-//wp-events-plugin.com//7.2.3.1//EN
TZID:Europe/London
X-WR-TIMEZONE:Europe/London
BEGIN:VEVENT
UID:3247@larevistadelapalma.com
DTSTART;VALUE=DATE:20241012
DTEND;VALUE=DATE:20241013
DTSTAMP:20240918T174730Z
URL:https://www.larevistadelapalma.com/events/mazo-acoge-la-ii-concentraci
 on-cultural-hierros-de-mazo/
SUMMARY:Mazo acoge la II Concentración Cultural ‘Hierros de Mazo’
DESCRIPTION:Esta actividad tiene como objetivo reunir a los apasionados de 
 los vehículos históricos\, especialmente los Land Rover\, y fomentar la 
 conservación del Patrimonio Industrial y Automovilístico.\nEl Ayuntamien
 to de Villa de Mazo organiza por segundo año consecutivo la II Concentrac
 ión Cultural ‘Hierros de Mazo’\, un evento que se celebrará el próx
 imo 12 de octubre en el anexo del Centro Cultural de Andares. Esta activid
 ad tiene como objetivo reunir a los apasionados de los vehículos históri
 cos\, especialmente los Land Rover\, y fomentar la conservación del Patri
 monio Industrial y Automovilístico.\n\nEl evento\, que ya cuenta con un c
 onsiderable número de inscritos\, seguirá la misma estructura que el añ
 o pasado\, pero incluirá algunas sorpresas y mejoras que prometen hacer d
 e esta edición una experiencia inolvidable. Los asistentes podrán disfru
 tar de una jornada repleta de momentos para compartir experiencias\, conoc
 imientos y disfrutar del ambiente único que caracteriza a este tipo de co
 ncentraciones.\n\nEl evento cuenta con inscripción gratuita\, que se pued
 e realizar a través del correo hierrosdemazo@gmail.com \, por teléfono a
 l 670772430\, o mediante mensaje directo en redes sociales. El cartel de e
 sta edición ha sido diseñado por industrialmagua\, tomando como referenc
 ia un emblemático Land Rover Serie I 107 de la colección de la Casa del 
 Plátano.\n\nEl Ayuntamiento de Villa de Mazo invita a todas las personas 
 interesadas a participar en esta jornada cultural que busca estrechar lazo
 s entre los aficionados a los vehículos históricos y seguir trabajando e
 n la conservación de nuestro patrimonio.\n\n&nbsp\;
ATTACH;FMTTYPE=image/jpeg:https://www.larevistadelapalma.com/wp-content/up
 loads/2024/09/Cartel-Villa-de-Mazo-concentracion-Hierros-de-Mazo.jpg
CATEGORIES:Exposiciones,Otras propuestas,Varios
LOCATION:Centro de la Cultura Andares\, Ctra. Dr. Morera Bravo\, 2. El Pueb
 lo.\, Villa de Mazo\, 38730\, España
GEO:28.604882;-17.777431
X-APPLE-STRUCTURED-LOCATION;VALUE=URI;X-ADDRESS=Ctra. Dr. Morera Bravo\, 2.
  El Pueblo.\, Villa de Mazo\, 38730\, España;X-APPLE-RADIUS=100;X-TITLE=C
 entro de la Cultura Andares:geo:28.604882,-17.777431
END:VEVENT
END:VCALENDAR