BEGIN:VCALENDAR
VERSION:2.0
PRODID:-//wp-events-plugin.com//7.2.3.1//EN
TZID:Europe/London
X-WR-TIMEZONE:Europe/London
BEGIN:VEVENT
UID:4118@larevistadelapalma.com
DTSTART:20251220T080000Z
DTEND:20251220T170000Z
DTSTAMP:20251212T202224Z
URL:https://www.larevistadelapalma.com/events/mazo-celebra-la-navidad-con-
 una-feria-que-une-comercio-artesania-y-musica/
SUMMARY:Mazo celebra la Navidad con una feria que une comercio\, artesanía
  y música
DESCRIPTION:\n* La Feria fue aplazada el pasado 13 de dicimbre debido a la 
 alerta y la activación del Plan de Emergencia Municipal (PEMU).\n\nEl mun
 icipio impulsa el consumo local y la artesanía tradicional en una jornada
  que contará con la actuación musical de CON-TRASTES.\nEl Ayuntamiento d
 e Villa de Mazo acogerá este sábado 13 de diciembre la Feria de Navidad 
 comercial y de artesanía\, una cita que tendrá lugar de 9:00 a 18:00 hor
 as en el Mercadillo municipal y que reunirá a los puestos habituales del 
 municipio junto a artesanos y comerciantes de distintos puntos de la isla.
 \nEl alcalde del municipio\, Idafe Hernández\, destaca que esta feria “
 es una oportunidad para vivir el ambiente navideño\, apoyar a quienes man
 tienen vivos nuestros oficios tradicionales y disfrutar del trabajo de com
 erciantes y artesanos”. Asimismo\, subraya que “el Mercadillo municipa
 l volverá a convertirse en un punto de encuentro donde se fomenta la econ
 omía local y se impulsa el consumo responsable en estas fechas tan especi
 ales”.\nPor su parte\, la concejala de Artesanía\, Concepción Triana\,
  señala que “la feria reunirá una amplia oferta de oficios artesanos q
 ue forman parte de nuestra identidad\, muchos de ellos transmitidos de gen
 eración en generación”. Añade que “contar con artesanas y artesanos
  de toda la isla en un mismo espacio permite poner en valor su trabajo y o
 frecer al público piezas únicas”.\nLa jornada contará\, además\, con
  la actuación del grupo CON-TRASTES\, que ofrecerá un encuentro musical 
 a las 10:30 horas para ambientar y dinamizar la feria.\nEntre los oficios 
 artesanos presentes se encuentran la muñequería\, macramé\, cestería d
 e palma\, bordado tradicional\, modelado\, ganchillo\, reciclado de materi
 ales\, alfarería tradicional\, cerámica\, joyería\, madera\, cerería\,
  hilado de lana\, modista\, decoración de telas\, torneado de madera\, en
 cuadernación\, frivolité y rosetas.\n\nEl Ayuntamiento de Villa de Mazo 
 invita a toda la ciudadanía a participar en esta feria navideña\, pensad
 a para promover la artesanía\, apoyar al comercio local y disfrutar en fa
 milia.
ATTACH;FMTTYPE=image/jpeg:https://www.larevistadelapalma.com/wp-content/up
 loads/2024/01/Mercadillo-Mazo-1.jpg
CATEGORIES:Ferias y mercados,Otras propuestas
LOCATION:Mercadillo Villa de Mazo\, Calle Dr. Morera Bravo\, Villa de Mazo\
 , 38730\, España
GEO:28.603998;-17.774127
X-APPLE-STRUCTURED-LOCATION;VALUE=URI;X-ADDRESS=Calle Dr. Morera Bravo\, Vi
 lla de Mazo\, 38730\, España;X-APPLE-RADIUS=100;X-TITLE=Mercadillo Villa 
 de Mazo:geo:28.603998,-17.774127
END:VEVENT
END:VCALENDARBEGIN:VCALENDAR
VERSION:2.0
PRODID:-//wp-events-plugin.com//7.2.3.1//EN
TZID:Europe/London
X-WR-TIMEZONE:Europe/London
BEGIN:VEVENT
UID:4118@larevistadelapalma.com
DTSTART:20251220T080000Z
DTEND:20251220T170000Z
DTSTAMP:20251212T202224Z
URL:https://www.larevistadelapalma.com/events/mazo-celebra-la-navidad-con-
 una-feria-que-une-comercio-artesania-y-musica/
SUMMARY:Mazo celebra la Navidad con una feria que une comercio\, artesanía
  y música
DESCRIPTION:\n* La Feria fue aplazada el pasado 13 de dicimbre debido a la 
 alerta y la activación del Plan de Emergencia Municipal (PEMU).\n\nEl mun
 icipio impulsa el consumo local y la artesanía tradicional en una jornada
  que contará con la actuación musical de CON-TRASTES.\nEl Ayuntamiento d
 e Villa de Mazo acogerá este sábado 13 de diciembre la Feria de Navidad 
 comercial y de artesanía\, una cita que tendrá lugar de 9:00 a 18:00 hor
 as en el Mercadillo municipal y que reunirá a los puestos habituales del 
 municipio junto a artesanos y comerciantes de distintos puntos de la isla.
 \nEl alcalde del municipio\, Idafe Hernández\, destaca que esta feria “
 es una oportunidad para vivir el ambiente navideño\, apoyar a quienes man
 tienen vivos nuestros oficios tradicionales y disfrutar del trabajo de com
 erciantes y artesanos”. Asimismo\, subraya que “el Mercadillo municipa
 l volverá a convertirse en un punto de encuentro donde se fomenta la econ
 omía local y se impulsa el consumo responsable en estas fechas tan especi
 ales”.\nPor su parte\, la concejala de Artesanía\, Concepción Triana\,
  señala que “la feria reunirá una amplia oferta de oficios artesanos q
 ue forman parte de nuestra identidad\, muchos de ellos transmitidos de gen
 eración en generación”. Añade que “contar con artesanas y artesanos
  de toda la isla en un mismo espacio permite poner en valor su trabajo y o
 frecer al público piezas únicas”.\nLa jornada contará\, además\, con
  la actuación del grupo CON-TRASTES\, que ofrecerá un encuentro musical 
 a las 10:30 horas para ambientar y dinamizar la feria.\nEntre los oficios 
 artesanos presentes se encuentran la muñequería\, macramé\, cestería d
 e palma\, bordado tradicional\, modelado\, ganchillo\, reciclado de materi
 ales\, alfarería tradicional\, cerámica\, joyería\, madera\, cerería\,
  hilado de lana\, modista\, decoración de telas\, torneado de madera\, en
 cuadernación\, frivolité y rosetas.\n\nEl Ayuntamiento de Villa de Mazo 
 invita a toda la ciudadanía a participar en esta feria navideña\, pensad
 a para promover la artesanía\, apoyar al comercio local y disfrutar en fa
 milia.
ATTACH;FMTTYPE=image/jpeg:https://www.larevistadelapalma.com/wp-content/up
 loads/2024/01/Mercadillo-Mazo-1.jpg
CATEGORIES:Ferias y mercados,Otras propuestas
LOCATION:Mercadillo Villa de Mazo\, Calle Dr. Morera Bravo\, Villa de Mazo\
 , 38730\, España
GEO:28.603998;-17.774127
X-APPLE-STRUCTURED-LOCATION;VALUE=URI;X-ADDRESS=Calle Dr. Morera Bravo\, Vi
 lla de Mazo\, 38730\, España;X-APPLE-RADIUS=100;X-TITLE=Mercadillo Villa 
 de Mazo:geo:28.603998,-17.774127
END:VEVENT
END:VCALENDAR