BEGIN:VCALENDAR
VERSION:2.0
PRODID:-//wp-events-plugin.com//7.2.3.1//EN
TZID:Europe/London
X-WR-TIMEZONE:Europe/London
BEGIN:VEVENT
UID:3441@larevistadelapalma.com
DTSTART:20241205T160000Z
DTEND:20241205T210000Z
DTSTAMP:20241203T030702Z
URL:https://www.larevistadelapalma.com/events/mazo-enciende-la-navidad-aco
 mpanados-de-danza-y-actuaciones-musicales/
SUMMARY:Mazo enciende la navidad con pasacalles\, danza y actuaciones music
 ales
DESCRIPTION:Broche final con concierto de "Plátano Swing"\nLa programació
 n comenzará a las 17:00 horas\, con un pasacalles con batucada. A las 18:
 00 horas le seguirá la Escuela de Danza de Maika Lerín\, de Santa Cruz d
 e La Palma acompañada por personajes de Disney. Seguidamente\, villancico
 s a cargo del Aula de Folclore del Mayor y la Rondalla Lo Divino de Mazo. 
 Al terminar el encendido\, reparto de churros con chocolate.\n\nA partir d
 e las 20:00 horas comenzará el concierto del trio Plátano Swing.\nEl rep
 ertorio de PLÁTANO SWING está formado por divertidas adaptaciones swing 
 de clásicos del repertorio pop/rock nacional e internacional\, así como 
 adaptaciones a este género de clásicos de la música latinoamericana com
 o boleros y otros relacionados\, además de clásicos del swing y del jazz
 . La música de PLÁTANO SWING es una bocanada de aire fresco y diversión
  que llega a todos los públicos sin distinción\, y anima a su público a
  participar y a bailar.\nProgramación navideña Mazo &gt\;&gt\;
ATTACH;FMTTYPE=image/jpeg:https://www.larevistadelapalma.com/wp-content/up
 loads/2024/11/Platano-Swing.jpg
CATEGORIES:Conciertos,Fiestas populares,Música,Otras propuestas
LOCATION:Plaza Pedro Pérez Díaz\, Villa de Mazo\, Plaza Generalísimo\, 1
 \,\, Villa de Mazo\, 38730\, España
GEO:28.622071;-17.780675
X-APPLE-STRUCTURED-LOCATION;VALUE=URI;X-ADDRESS=Plaza Generalísimo\, 1\,\,
  Villa de Mazo\, 38730\, España;X-APPLE-RADIUS=100;X-TITLE=Plaza Pedro P
 érez Díaz\, Villa de Mazo:geo:28.622071,-17.780675
END:VEVENT
END:VCALENDARBEGIN:VCALENDAR
VERSION:2.0
PRODID:-//wp-events-plugin.com//7.2.3.1//EN
TZID:Europe/London
X-WR-TIMEZONE:Europe/London
BEGIN:VEVENT
UID:3441@larevistadelapalma.com
DTSTART:20241205T160000Z
DTEND:20241205T210000Z
DTSTAMP:20241203T030702Z
URL:https://www.larevistadelapalma.com/events/mazo-enciende-la-navidad-aco
 mpanados-de-danza-y-actuaciones-musicales/
SUMMARY:Mazo enciende la navidad con pasacalles\, danza y actuaciones music
 ales
DESCRIPTION:Broche final con concierto de "Plátano Swing"\nLa programació
 n comenzará a las 17:00 horas\, con un pasacalles con batucada. A las 18:
 00 horas le seguirá la Escuela de Danza de Maika Lerín\, de Santa Cruz d
 e La Palma acompañada por personajes de Disney. Seguidamente\, villancico
 s a cargo del Aula de Folclore del Mayor y la Rondalla Lo Divino de Mazo. 
 Al terminar el encendido\, reparto de churros con chocolate.\n\nA partir d
 e las 20:00 horas comenzará el concierto del trio Plátano Swing.\nEl rep
 ertorio de PLÁTANO SWING está formado por divertidas adaptaciones swing 
 de clásicos del repertorio pop/rock nacional e internacional\, así como 
 adaptaciones a este género de clásicos de la música latinoamericana com
 o boleros y otros relacionados\, además de clásicos del swing y del jazz
 . La música de PLÁTANO SWING es una bocanada de aire fresco y diversión
  que llega a todos los públicos sin distinción\, y anima a su público a
  participar y a bailar.\nProgramación navideña Mazo &gt\;&gt\;
ATTACH;FMTTYPE=image/jpeg:https://www.larevistadelapalma.com/wp-content/up
 loads/2024/11/Platano-Swing.jpg
CATEGORIES:Conciertos,Fiestas populares,Música,Otras propuestas
LOCATION:Plaza Pedro Pérez Díaz\, Villa de Mazo\, Plaza Generalísimo\, 1
 \,\, Villa de Mazo\, 38730\, España
GEO:28.622071;-17.780675
X-APPLE-STRUCTURED-LOCATION;VALUE=URI;X-ADDRESS=Plaza Generalísimo\, 1\,\,
  Villa de Mazo\, 38730\, España;X-APPLE-RADIUS=100;X-TITLE=Plaza Pedro P
 érez Díaz\, Villa de Mazo:geo:28.622071,-17.780675
END:VEVENT
END:VCALENDAR