BEGIN:VCALENDAR
VERSION:2.0
PRODID:-//wp-events-plugin.com//7.2.3.1//EN
TZID:Europe/London
X-WR-TIMEZONE:Europe/London
BEGIN:VEVENT
UID:4093@larevistadelapalma.com
DTSTART:20251211T183000Z
DTEND:20251211T200000Z
DTSTAMP:20251210T195934Z
URL:https://www.larevistadelapalma.com/events/mazo-inaugura-su-programa-li
 terario-con-la-presentacion-de-la-viuda-blanca/
SUMMARY: Mazo inaugura su programa literario con la presentación de ‘La
  viuda blanca’ 
DESCRIPTION:Tres autoras protagonizan la agenda cultural de diciembre\, que
  impulsa la lectura y la creación en el municipio.\nEl Ayuntamiento de Vi
 lla de Mazo inicia  su programación literaria con la presentación de la
  novela La viuda blanca\, de María del Mar Rodríguez Pérez\, que tendr
 á lugar en el centro cultural Andares. La autora estará acompañada por 
 la reconocida autora Elsa López y la profesora Mercedes Barrera. Contará
  además con el acompañamiento musical de José Luis Teixé.\nLa viuda bl
 anca se trata de la tercera novela de la autora publicada por la editoria
 l Baile del Sol\, después de La prestamista y La tuerta\, y es uno de lo
 s dos únicos actos de presentación que se realizarán en La Palma.\n\n\n
 El relato cierra la trilogía Relatos de unas islas desamparadas\, y su t
 rama se sitúa\, por una parte\, en La Palma y\, por otra\, en San Cristó
 bal de La Laguna. La historia aborda temas de emigración y olvido\, así 
 como el compromiso político\, ofreciendo una mirada profunda sobre la exp
 eriencia de las islas y sus gentes.\n\n\n\nTras esta primera presentación
 \, la programación continuará el 20 de diciembre a las 12:00 horas en el
  museo Casa Roja con Mi mamá ahora es una estrella\, de Cristina Martín
  Jiménez\, una propuesta de literatura que ayuda a los más pequeños a c
 omprender y gestionar la pérdida de un ser querido y sus emociones.\nLa a
 genda literaria se cerrará el viernes 26 de diciembre a las 19:30 horas\,
  nuevamente en el museo Casa Roja\, con la presentación de Benjamín\, p
 rimera novela de Mercedes María Barrera Tabares. Se trata de un proyecto 
 personal que la autora define como un “sueño hecho realidad” y que ve
  la luz de la mano de la editorial Con M de Mujer.\nEl Ayuntamiento de Vil
 la de Mazo anima a sumarse a esta primera presentación y a disfrutar del 
 resto de encuentros programados a lo largo del mes de diciembre. Asimismo\
 , recuerda que todas las novedades culturales del municipio pueden seguirs
 e a través del canal oficial de Whatsapp.
ATTACH;FMTTYPE=image/jpeg:https://www.larevistadelapalma.com/wp-content/up
 loads/2025/12/la-viuda-blanca.jpg
CATEGORIES:Cine y Literatura,Literatura
LOCATION:Centro de la Cultura Andares\, Ctra. Dr. Morera Bravo\, 2. El Pueb
 lo.\, Villa de Mazo\, 38730\, España
GEO:28.604882;-17.777431
X-APPLE-STRUCTURED-LOCATION;VALUE=URI;X-ADDRESS=Ctra. Dr. Morera Bravo\, 2.
  El Pueblo.\, Villa de Mazo\, 38730\, España;X-APPLE-RADIUS=100;X-TITLE=C
 entro de la Cultura Andares:geo:28.604882,-17.777431
END:VEVENT
END:VCALENDARBEGIN:VCALENDAR
VERSION:2.0
PRODID:-//wp-events-plugin.com//7.2.3.1//EN
TZID:Europe/London
X-WR-TIMEZONE:Europe/London
BEGIN:VEVENT
UID:4093@larevistadelapalma.com
DTSTART:20251211T183000Z
DTEND:20251211T200000Z
DTSTAMP:20251210T195934Z
URL:https://www.larevistadelapalma.com/events/mazo-inaugura-su-programa-li
 terario-con-la-presentacion-de-la-viuda-blanca/
SUMMARY: Mazo inaugura su programa literario con la presentación de ‘La
  viuda blanca’ 
DESCRIPTION:Tres autoras protagonizan la agenda cultural de diciembre\, que
  impulsa la lectura y la creación en el municipio.\nEl Ayuntamiento de Vi
 lla de Mazo inicia  su programación literaria con la presentación de la
  novela La viuda blanca\, de María del Mar Rodríguez Pérez\, que tendr
 á lugar en el centro cultural Andares. La autora estará acompañada por 
 la reconocida autora Elsa López y la profesora Mercedes Barrera. Contará
  además con el acompañamiento musical de José Luis Teixé.\nLa viuda bl
 anca se trata de la tercera novela de la autora publicada por la editoria
 l Baile del Sol\, después de La prestamista y La tuerta\, y es uno de lo
 s dos únicos actos de presentación que se realizarán en La Palma.\n\n\n
 El relato cierra la trilogía Relatos de unas islas desamparadas\, y su t
 rama se sitúa\, por una parte\, en La Palma y\, por otra\, en San Cristó
 bal de La Laguna. La historia aborda temas de emigración y olvido\, así 
 como el compromiso político\, ofreciendo una mirada profunda sobre la exp
 eriencia de las islas y sus gentes.\n\n\n\nTras esta primera presentación
 \, la programación continuará el 20 de diciembre a las 12:00 horas en el
  museo Casa Roja con Mi mamá ahora es una estrella\, de Cristina Martín
  Jiménez\, una propuesta de literatura que ayuda a los más pequeños a c
 omprender y gestionar la pérdida de un ser querido y sus emociones.\nLa a
 genda literaria se cerrará el viernes 26 de diciembre a las 19:30 horas\,
  nuevamente en el museo Casa Roja\, con la presentación de Benjamín\, p
 rimera novela de Mercedes María Barrera Tabares. Se trata de un proyecto 
 personal que la autora define como un “sueño hecho realidad” y que ve
  la luz de la mano de la editorial Con M de Mujer.\nEl Ayuntamiento de Vil
 la de Mazo anima a sumarse a esta primera presentación y a disfrutar del 
 resto de encuentros programados a lo largo del mes de diciembre. Asimismo\
 , recuerda que todas las novedades culturales del municipio pueden seguirs
 e a través del canal oficial de Whatsapp.
ATTACH;FMTTYPE=image/jpeg:https://www.larevistadelapalma.com/wp-content/up
 loads/2025/12/la-viuda-blanca.jpg
CATEGORIES:Cine y Literatura,Literatura
LOCATION:Centro de la Cultura Andares\, Ctra. Dr. Morera Bravo\, 2. El Pueb
 lo.\, Villa de Mazo\, 38730\, España
GEO:28.604882;-17.777431
X-APPLE-STRUCTURED-LOCATION;VALUE=URI;X-ADDRESS=Ctra. Dr. Morera Bravo\, 2.
  El Pueblo.\, Villa de Mazo\, 38730\, España;X-APPLE-RADIUS=100;X-TITLE=C
 entro de la Cultura Andares:geo:28.604882,-17.777431
END:VEVENT
END:VCALENDAR