BEGIN:VCALENDAR
VERSION:2.0
PRODID:-//wp-events-plugin.com//7.2.3.1//EN
TZID:Europe/London
X-WR-TIMEZONE:Europe/London
BEGIN:VEVENT
UID:3017@larevistadelapalma.com
DTSTART:20240531T193000Z
DTEND:20240531T225900Z
DTSTAMP:20240528T155237Z
URL:https://www.larevistadelapalma.com/events/mazo-music-festival/
SUMMARY:Mazo Music Festival
DESCRIPTION:\nNoche joven en el Recinto Festivo de la Plaza del Corpus\, co
 n la participación de:\n\nATLANTIS BAND\, RENZZO EL SELECTOR\, T3NAX\, Dj
  EQUIS y RUBÉN.\n
ATTACH;FMTTYPE=image/jpeg:https://www.larevistadelapalma.com/wp-content/up
 loads/2024/05/Mazo-MUsic-Fstival.jpg
CATEGORIES:Festivales/Fiestas,Música
LOCATION:Municipio de Villa de Mazo\, Villa de Mazo\, Villa de Mazo\, 38730
 \, España
GEO:28.622071;-17.780675
X-APPLE-STRUCTURED-LOCATION;VALUE=URI;X-ADDRESS=Villa de Mazo\, Villa de Ma
 zo\, 38730\, España;X-APPLE-RADIUS=100;X-TITLE=Municipio de Villa de Mazo
 :geo:28.622071,-17.780675
END:VEVENT
END:VCALENDARBEGIN:VCALENDAR
VERSION:2.0
PRODID:-//wp-events-plugin.com//7.2.3.1//EN
TZID:Europe/London
X-WR-TIMEZONE:Europe/London
BEGIN:VEVENT
UID:3017@larevistadelapalma.com
DTSTART:20240531T193000Z
DTEND:20240531T225900Z
DTSTAMP:20240528T155237Z
URL:https://www.larevistadelapalma.com/events/mazo-music-festival/
SUMMARY:Mazo Music Festival
DESCRIPTION:\nNoche joven en el Recinto Festivo de la Plaza del Corpus\, co
 n la participación de:\n\nATLANTIS BAND\, RENZZO EL SELECTOR\, T3NAX\, Dj
  EQUIS y RUBÉN.\n
ATTACH;FMTTYPE=image/jpeg:https://www.larevistadelapalma.com/wp-content/up
 loads/2024/05/Mazo-MUsic-Fstival.jpg
CATEGORIES:Festivales/Fiestas,Música
LOCATION:Municipio de Villa de Mazo\, Villa de Mazo\, Villa de Mazo\, 38730
 \, España
GEO:28.622071;-17.780675
X-APPLE-STRUCTURED-LOCATION;VALUE=URI;X-ADDRESS=Villa de Mazo\, Villa de Ma
 zo\, 38730\, España;X-APPLE-RADIUS=100;X-TITLE=Municipio de Villa de Mazo
 :geo:28.622071,-17.780675
END:VEVENT
END:VCALENDAR