BEGIN:VCALENDAR
VERSION:2.0
PRODID:-//wp-events-plugin.com//7.2.3.1//EN
TZID:Europe/London
X-WR-TIMEZONE:Europe/London
BEGIN:VEVENT
UID:3803@larevistadelapalma.com
DTSTART:20250608T120000Z
DTEND:20250608T133000Z
DTSTAMP:20250606T221657Z
URL:https://www.larevistadelapalma.com/events/mercadillo-de-barlovento-con
 -la-decada-prodigiosa/
SUMMARY:Mercadillo de Barlovento con La Década Prodigiosa
DESCRIPTION:\nEste domingo 8 de junio\, el Mercadillo de Barlovento estará
  dedicado al café\, y contará con la actuación de La Década Prodigiosa
 .\nHabrá degustación de café a cargo de Rayco Paz (Cafe Don Manuel)\, v
 isita guiada a la finca Olicafé.\n\n
ATTACH;FMTTYPE=image/jpeg:https://www.larevistadelapalma.com/wp-content/up
 loads/2025/06/Mercadillo-cafetero-Barlovento.jpg
CATEGORIES:Ferias y mercados,Otras propuestas
LOCATION:Mercadillo de Barlovento\, Plaza Ntra. Sra. Rosario\, 1\, Barloven
 to\, 38726\, España
GEO:28.829323;-17.803327
X-APPLE-STRUCTURED-LOCATION;VALUE=URI;X-ADDRESS=Plaza Ntra. Sra. Rosario\, 
 1\, Barlovento\, 38726\, España;X-APPLE-RADIUS=100;X-TITLE=Mercadillo de 
 Barlovento:geo:28.829323,-17.803327
END:VEVENT
END:VCALENDARBEGIN:VCALENDAR
VERSION:2.0
PRODID:-//wp-events-plugin.com//7.2.3.1//EN
TZID:Europe/London
X-WR-TIMEZONE:Europe/London
BEGIN:VEVENT
UID:3803@larevistadelapalma.com
DTSTART:20250608T120000Z
DTEND:20250608T133000Z
DTSTAMP:20250606T221657Z
URL:https://www.larevistadelapalma.com/events/mercadillo-de-barlovento-con
 -la-decada-prodigiosa/
SUMMARY:Mercadillo de Barlovento con La Década Prodigiosa
DESCRIPTION:\nEste domingo 8 de junio\, el Mercadillo de Barlovento estará
  dedicado al café\, y contará con la actuación de La Década Prodigiosa
 .\nHabrá degustación de café a cargo de Rayco Paz (Cafe Don Manuel)\, v
 isita guiada a la finca Olicafé.\n\n
ATTACH;FMTTYPE=image/jpeg:https://www.larevistadelapalma.com/wp-content/up
 loads/2025/06/Mercadillo-cafetero-Barlovento.jpg
CATEGORIES:Ferias y mercados,Otras propuestas
LOCATION:Mercadillo de Barlovento\, Plaza Ntra. Sra. Rosario\, 1\, Barloven
 to\, 38726\, España
GEO:28.829323;-17.803327
X-APPLE-STRUCTURED-LOCATION;VALUE=URI;X-ADDRESS=Plaza Ntra. Sra. Rosario\, 
 1\, Barlovento\, 38726\, España;X-APPLE-RADIUS=100;X-TITLE=Mercadillo de 
 Barlovento:geo:28.829323,-17.803327
END:VEVENT
END:VCALENDAR